Workbook

Sheet SKUPNI
B1: "Finančni načrt - NEINVESTICIJSKI PROJEKT"
B4: NAZIV PROJEKTA:
B5: VODILNI PARTNER/PARTNER | C5: FAZA | D5: VRSTA STROŠKA | F5: SKUPNI UPRAVIČENI STROŠKI (EUR) | G5: ZNESEK SOFINANCIRANJA oz. POGODBENA VREDNOST (EUR) | H5: LASTNA UDELEŽBA (EUR)
B6: VODILNI PARTNER | C6: 1. FAZA | D6: STROŠKI OSEBJA | F6: ='Vodilni partner'!G14 -> 0 | G6: ='Vodilni partner'!H14 -> 0 | H6: ='Vodilni partner'!J16-'Vodilni partner'!J15 -> 0
D7: PAVŠAL - PREOSTALI STROŠKI, KI NISO STROŠKI OSEBJA (40 %) | F7: ='Vodilni partner'!G15 -> 0 | G7: ='Vodilni partner'!H15 -> 0 | H7: ='Vodilni partner'!J15 -> 0
E8: SKUPAJ 1. FAZA | F8: =SUM(F6:F7) -> 0 | G8: =SUM(G6:G7) -> 0 | H8: =SUM(H6:H7) -> 0
C10: 2. FAZA | D10: STROŠKI OSEBJA | F10: ='Vodilni partner'!G26 -> 0 | G10: ='Vodilni partner'!H26 -> 0 | H10: ='Vodilni partner'!J28-'Vodilni partner'!J27 -> 0
D11: PAVŠAL - PREOSTALI STROŠKI, KI NISO STROŠKI OSEBJA (40 %) | F11: ='Vodilni partner'!G27 -> 0 | G11: ='Vodilni partner'!H27 -> 0 | H11: ='Vodilni partner'!J27 -> 0
E12: SKUPAJ 2. FAZA | F12: =SUM(F10:F11) -> 0 | G12: =SUM(G10:G11) -> 0 | H12: =SUM(H10:H11) -> 0
C14: SKUPAJ 1. in 2. FAZA | D14: STROŠKI OSEBJA (60 %) | F14: =F6+F10 -> 0 | G14: =G6+G10 -> 0 | H14: =H6+H10 -> 0
D15: PAVŠAL - PREOSTALI STROŠKI, KI NISO STROŠKI OSEBJA (40 %) | F15: =F7+F11 -> 0 | G15: =G7+G11 -> 0 | H15: =H7+H11 -> 0
E16: SKUPAJ | F16: =SUM(F14:F15) -> 0 | G16: =SUM(G14:G15) -> 0 | H16: =SUM(H14:H15) -> 0
B18: PARTNER 1 | C18: 1. FAZA | D18: STROŠKI OSEBJA (60 %) | F18: ='Partner 1'!G14 -> 0 | G18: ='Partner 1'!H14 -> 0 | H18: ='Partner 1'!J16-'Partner 1'!J15 -> 0
D19: PAVŠAL - PREOSTALI STROŠKI, KI NISO STROŠKI OSEBJA (40 %) | F19: ='Partner 1'!G15 -> 0 | G19: ='Partner 1'!H15 -> 0 | H19: ='Partner 1'!J15 -> 0
E20: SKUPAJ 1. FAZA | F20: =SUM(F18:F19) -> 0 | G20: =SUM(G18:G19) -> 0 | H20: =SUM(H18:H19) -> 0
C22: 2. FAZA | D22: STROŠKI OSEBJA (60 %) | F22: ='Partner 1'!G26 -> 0 | G22: ='Partner 1'!H26 -> 0 | H22: ='Partner 1'!J28-'Partner 1'!J27 -> 0
D23: PAVŠAL - PREOSTALI STROŠKI, KI NISO STROŠKI OSEBJA (40 %) | F23: ='Partner 1'!G27 -> 0 | G23: ='Partner 1'!H27 -> 0 | H23: ='Partner 1'!J27 -> 0
E24: SKUPAJ 2. FAZA | F24: =SUM(F22:F23) -> 0 | G24: =SUM(G22:G23) -> 0 | H24: =SUM(H22:H23) -> 0
C26: SKUPAJ 1. in 2. FAZA | D26: STROŠKI OSEBJA (60 %) | F26: =F18+F22 -> 0 | G26: =G18+G22 -> 0 | H26: =H18+H22 -> 0
D27: PAVŠAL - PREOSTALI STROŠKI, KI NISO STROŠKI OSEBJA (40 %) | F27: =F19+F23 -> 0 | G27: =G19+G23 -> 0 | H27: =H19+H23 -> 0
E28: SKUPAJ | F28: =SUM(F26:F27) -> 0 | G28: =SUM(G26:G27) -> 0 | H28: =SUM(H26:H27) -> 0
B30: PARTNER 2 | C30: 1. FAZA | D30: STROŠKI OSEBJA (60 %) | F30: ='Partner 2'!G14 -> 0 | G30: ='Partner 2'!H14 -> 0 | H30: ='Partner 2'!J16-'Partner 2'!J15 -> 0
D31: PAVŠAL - PREOSTALI STROŠKI, KI NISO STROŠKI OSEBJA (40 %) | F31: ='Partner 2'!G15 -> 0 | G31: ='Partner 2'!H15 -> 0 | H31: ='Partner 2'!J15 -> 0
E32: SKUPAJ 1. FAZA | F32: =SUM(F30:F31) -> 0 | G32: =SUM(G30:G31) -> 0 | H32: =SUM(H30:H31) -> 0
C34: 2. FAZA | D34: STROŠKI OSEBJA (60 %) | F34: ='Partner 2'!G26 -> 0 | G34: ='Partner 2'!H26 -> 0 | H34: ='Partner 2'!J28-'Partner 2'!J27 -> 0
D35: PAVŠAL - PREOSTALI STROŠKI, KI NISO STROŠKI OSEBJA (40 %) | F35: ='Partner 2'!G27 -> 0 | G35: ='Partner 2'!H27 -> 0 | H35: ='Partner 2'!J27 -> 0
E36: SKUPAJ 2. FAZA | F36: =SUM(F34:F35) -> 0 | G36: =SUM(G34:G35) -> 0 | H36: =SUM(H34:H35) -> 0
C38: SKUPAJ 1. in 2. FAZA | D38: STROŠKI OSEBJA (60 %) | F38: =F30+F34 -> 0 | G38: =G30+G34 -> 0 | H38: =H30+H34 -> 0
D39: PAVŠAL - PREOSTALI STROŠKI, KI NISO STROŠKI OSEBJA (40 %) | F39: =F31+F35 -> 0 | G39: =G31+G35 -> 0 | H39: =H31+H35 -> 0
E40: SKUPAJ | F40: =SUM(F38:F39) -> 0 | G40: =SUM(G38:G39) -> 0 | H40: =SUM(H38:H39) -> 0
B42: PARTNER 3 | C42: 1. FAZA | D42: STROŠKI OSEBJA (60 %) | F42: ='Partner 3'!G14 -> 0 | G42: ='Partner 3'!H14 -> 0 | H42: ='Partner 3'!J16-'Partner 3'!J15 -> 0
D43: PAVŠAL - PREOSTALI STROŠKI, KI NISO STROŠKI OSEBJA (40 %) | F43: ='Partner 3'!G15 -> 0 | G43: ='Partner 3'!H15 -> 0 | H43: ='Partner 3'!J15 -> 0
E44: SKUPAJ 1. FAZA | F44: =SUM(F42:F43) -> 0 | G44: =SUM(G42:G43) -> 0 | H44: =SUM(H42:H43) -> 0
C46: 2. FAZA | D46: STROŠKI OSEBJA (60 %) | F46: ='Partner 3'!G26 -> 0 | G46: ='Partner 3'!H26 -> 0 | H46: ='Partner 3'!J28-'Partner 3'!J27 -> 0
D47: PAVŠAL - PREOSTALI STROŠKI, KI NISO STROŠKI OSEBJA (40 %) | F47: ='Partner 3'!G27 -> 0 | G47: ='Partner 3'!H27 -> 0 | H47: ='Partner 3'!J27 -> 0
E48: SKUPAJ 2. FAZA | F48: =SUM(F46:F47) -> 0 | G48: =SUM(G46:G47) -> 0 | H48: =SUM(H46:H47) -> 0
C50: SKUPAJ 1. in 2. FAZA | D50: STROŠKI OSEBJA (60 %) | F50: =F42+F46 -> 0 | G50: =G42+G46 -> 0 | H50: =H42+H46 -> 0
D51: PAVŠAL - PREOSTALI STROŠKI, KI NISO STROŠKI OSEBJA (40 %) | F51: =F43+F47 -> 0 | G51: =G43+G47 -> 0 | H51: =H43+H47 -> 0
E52: SKUPAJ | F52: =SUM(F50:F51) -> 0 | G52: =SUM(G50:G51) -> 0 | H52: =SUM(H50:H51) -> 0
B54: PARTNER 4 | C54: 1. FAZA | D54: STROŠKI OSEBJA (60 %) | F54: ='Partner 4'!G14 -> 0 | G54: ='Partner 4'!H14 -> 0 | H54: ='Partner 4'!J16-'Partner 4'!J15 -> 0
...

Sheet Vodilni partner
B1: "Finančni načrt - NEINVESTICIJSKI PROJEKT" | I1: 1. JAVNI POZIV LAS ZELENA ISTRA (ESRR)
B4: NAZIV PROJEKTA:
B6: NAZIV VODILNEGA PARTNERJA:
A7: zap. št. akt. | B7: AKTIVNOSTI (1. FAZA) | C7: VRSTA STROŠKA | D7: TIP DELA | E7: ŠT. OPRAVLJENIH UR NA PROJEKTU | F7: URNA POSTAVKA (EUR) | G7: SKUPNI UPRAVIČENI STROŠKI (EUR) | H7: ZNESEK SOFINANCIRANJA oz. POGODBENA VREDNOST (EUR) | I7: ODSTOTEK SOFINANCIRANJA oz. POGODBENA STOPNJA | J7: LASTNA UDELEŽBA (EUR)
A8: 1 | C8: IZBERI | D8: IZBERI | F8: =VLOOKUP(D8,SE!$A$1:$B$8,2,FALSE) -> - | G8: =IF(E8="","",E8*F8) | H8: =IF(E8="","",G8*I8/100) | I8: =IF(E8="","",80) | J8: =ROUND((G8-H8),2) -> #VALUE!
A9: 2 | C9: IZBERI | D9: IZBERI | F9: =VLOOKUP(D9,SE!$A$1:$B$8,2,FALSE) -> - | G9: =IF(E9="","",E9*F9) | H9: =IF(E9="","",G9*I9/100) | I9: =IF(E9="","",80) | J9: =ROUND((G9-H9),2) -> #VALUE!
A10: 3 | C10: IZBERI | D10: IZBERI | F10: =VLOOKUP(D10,SE!$A$1:$B$8,2,FALSE) -> - | G10: =IF(E10="","",E10*F10) | H10: =IF(E10="","",G10*I10/100) | I10: =IF(E10="","",80) | J10: =ROUND((G10-H10),2) -> #VALUE!
A11: 4 | C11: IZBERI | D11: IZBERI | F11: =VLOOKUP(D11,SE!$A$1:$B$8,2,FALSE) -> - | G11: =IF(E11="","",E11*F11) | H11: =IF(E11="","",G11*I11/100) | I11: =IF(E11="","",80) | J11: =ROUND((G11-H11),2) -> #VALUE!
A12: 5 | C12: IZBERI | D12: IZBERI | F12: =VLOOKUP(D12,SE!$A$1:$B$8,2,FALSE) -> - | G12: =IF(E12="","",E12*F12) | H12: =IF(E12="","",G12*I12/100) | I12: =IF(E12="","",80) | J12: =ROUND((G12-H12),2) -> #VALUE!
A13: 6 | C13: IZBERI | D13: IZBERI | F13: =VLOOKUP(D13,SE!$A$1:$B$8,2,FALSE) -> - | G13: =IF(E13="","",E13*F13) | H13: =IF(E13="","",G13*I13/100) | I13: =IF(E13="","",80) | J13: =ROUND((G13-H13),2) -> #VALUE!
F14: SKUPAJ | G14: =SUM(G8:G13) -> 0 | H14: =SUM(H8:H13) -> 0 | I14: =IF(E14="","",80)
B15: PAVŠAL | C15: PRS - PREOSTALI STROŠKI, KI NISO STROŠKI OSEBJA (40 %) | D15: Preostale projektne aktivnosti | G15: =SUM(G8:G13)*0.4 -> 0 | H15: =G15*0.8 -> 0 | I15: =IF(E15="","",80) | J15: =ROUND((G15-H15),2) -> 0
F16: SKUPAJ | G16: =SUM(G8:G13)+G15 -> 0 | H16: =SUM(H8:H13)+H15 -> 0 | J16: =ROUND((G16-H16),2) -> 0
A19: zap. št. akt. | B19: AKTIVNOSTI (2. FAZA) | C19: VRSTA STROŠKA | D19: TIP DELA | E19: ŠT. OPRAVLJENIH UR NA PROJEKTU | F19: URNA POSTAVKA (EUR) | G19: SKUPNI UPRAVIČENI STROŠKI (EUR) | H19: ZNESEK SOFINANCIRANJA oz. POGODBENA VREDNOST (EUR) | I19: ODSTOTEK SOFINANCIRANJA oz. POGODBENA STOPNJA | J19: LASTNA UDELEŽBA (EUR)
A20: 1 | C20: IZBERI | D20: IZBERI | F20: =VLOOKUP(D20,SE!$A$1:$B$8,2,FALSE) -> - | G20: =IF(E20="","",E20*F20) | H20: =IF(E20="","",G20*I20/100) | I20: =IF(E20="","",80) | J20: =ROUND((G20-H20),2) -> #VALUE!
A21: 2 | C21: IZBERI | D21: IZBERI | F21: =VLOOKUP(D21,SE!$A$1:$B$8,2,FALSE) -> - | G21: =IF(E21="","",E21*F21) | H21: =IF(E21="","",G21*I21/100) | I21: =IF(E21="","",80) | J21: =ROUND((G21-H21),2) -> #VALUE!
A22: 3 | C22: IZBERI | D22: IZBERI | F22: =VLOOKUP(D22,SE!$A$1:$B$8,2,FALSE) -> - | G22: =IF(E22="","",E22*F22) | H22: =IF(E22="","",G22*I22/100) | I22: =IF(E22="","",80) | J22: =ROUND((G22-H22),2) -> #VALUE!
A23: 4 | C23: IZBERI | D23: IZBERI | F23: =VLOOKUP(D23,SE!$A$1:$B$8,2,FALSE) -> - | G23: =IF(E23="","",E23*F23) | H23: =IF(E23="","",G23*I23/100) | I23: =IF(E23="","",80) | J23: =ROUND((G23-H23),2) -> #VALUE!
A24: 5 | C24: IZBERI | D24: IZBERI | F24: =VLOOKUP(D24,SE!$A$1:$B$8,2,FALSE) -> - | G24: =IF(E24="","",E24*F24) | H24: =IF(E24="","",G24*I24/100) | I24: =IF(E24="","",80) | J24: =ROUND((G24-H24),2) -> #VALUE!
A25: 6 | C25: IZBERI | D25: IZBERI | F25: =VLOOKUP(D25,SE!$A$1:$B$8,2,FALSE) -> - | G25: =IF(E25="","",E25*F25) | H25: =IF(E25="","",G25*I25/100) | I25: =IF(E25="","",80) | J25: =ROUND((G25-H25),2) -> #VALUE!
F26: SKUPAJ | G26: =SUM(G20:G25) -> 0 | H26: =SUM(H20:H25) -> 0 | I26: =IF(E26="","",80)
B27: PAVŠAL | C27: PRS - PREOSTALI STROŠKI, KI NISO STROŠKI OSEBJA (40 %) | D27: Preostale projektne aktivnosti | G27: =SUM(G20:G25)*0.4 -> 0 | H27: =G27*0.8 -> 0 | I27: =IF(E27="","",80) | J27: =ROUND((G27-H27),2) -> 0
F28: SKUPAJ | G28: =SUM(G20:G25)+G27 -> 0 | H28: =SUM(H20:H25)+H27 -> 0 | J28: =ROUND((G28-H28),2) -> 0
B32: VREDNOST PROJEKTA - VODILNI PARTNER
B33: SKUPNI UPRAVIČENI NEPOSREDNI STROŠKI OSEBJA | C33: PREOSTALI STROŠKI, KI NISO STROŠKI OSEBJA (PAVŠAL) | D33: SKUPNI UPRAVIČENI STROŠKI | E33: ZNESEK SOFINANCIRANJA | F33: LASTNA UDELEŽBA
B34: =SUM(G20:G25)+SUM(G8:G13) -> 0 | C34: =G27+G15 -> 0 | D34: =G28+G16 -> 0 | E34: =H16+H28 -> 0 | F34: =J16+J28 -> 0

Sheet Partner 1
B1: "Finančni načrt - NEINVESTICIJSKI PROJEKT" | I1: 1. JAVNI POZIV LAS ZELENA ISTRA (ESRR)
B6: NAZIV PARTNERJA 1:
A7: zap. št. akt. | B7: AKTIVNOSTI (1. FAZA) | C7: VRSTA STROŠKA | D7: TIP DELA | E7: ŠT. OPRAVLJENIH UR NA PROJEKTU | F7: URNA POSTAVKA (EUR) | G7: SKUPNI UPRAVIČENI STROŠKI (EUR) | H7: ZNESEK SOFINANCIRANJA oz. POGODBENA VREDNOST (EUR) | I7: ODSTOTEK SOFINANCIRANJA oz. POGODBENA STOPNJA | J7: LASTNA UDELEŽBA (EUR)
A8: 1 | C8: IZBERI | D8: IZBERI | F8: =VLOOKUP(D8,SE!$A$1:$B$8,2,FALSE) -> - | G8: =IF(E8="","",E8*F8) | H8: =IF(E8="","",G8*I8/100) | I8: =IF(E8="","",80) | J8: =ROUND((G8-H8),2) -> #VALUE!
A9: 2 | C9: IZBERI | D9: IZBERI | F9: =VLOOKUP(D9,SE!$A$1:$B$8,2,FALSE) -> - | G9: =IF(E9="","",E9*F9) | H9: =IF(E9="","",G9*I9/100) | I9: =IF(E9="","",80) | J9: =ROUND((G9-H9),2) -> #VALUE!
A10: 3 | C10: IZBERI | D10: IZBERI | F10: =VLOOKUP(D10,SE!$A$1:$B$8,2,FALSE) -> - | G10: =IF(E10="","",E10*F10) | H10: =IF(E10="","",G10*I10/100) | I10: =IF(E10="","",80) | J10: =ROUND((G10-H10),2) -> #VALUE!
A11: 4 | C11: IZBERI | D11: IZBERI | F11: =VLOOKUP(D11,SE!$A$1:$B$8,2,FALSE) -> - | G11: =IF(E11="","",E11*F11) | H11: =IF(E11="","",G11*I11/100) | I11: =IF(E11="","",80) | J11: =ROUND((G11-H11),2) -> #VALUE!
A12: 5 | C12: IZBERI | D12: IZBERI | F12: =VLOOKUP(D12,SE!$A$1:$B$8,2,FALSE) -> - | G12: =IF(E12="","",E12*F12) | H12: =IF(E12="","",G12*I12/100) | I12: =IF(E12="","",80) | J12: =ROUND((G12-H12),2) -> #VALUE!
A13: 6 | C13: IZBERI | D13: IZBERI | F13: =VLOOKUP(D13,SE!$A$1:$B$8,2,FALSE) -> - | G13: =IF(E13="","",E13*F13) | H13: =IF(E13="","",G13*I13/100) | I13: =IF(E13="","",80) | J13: =ROUND((G13-H13),2) -> #VALUE!
F14: SKUPAJ | G14: =SUM(G8:G13) -> 0 | H14: =SUM(H8:H13) -> 0 | I14: =IF(E14="","",80)
B15: PAVŠAL | C15: PRS - PREOSTALI STROŠKI, KI NISO STROŠKI OSEBJA (40 %) | D15: Preostale projektne aktivnosti | G15: =SUM(G8:G13)*0.4 -> 0 | H15: =G15*0.8 -> 0 | I15: =IF(E15="","",80) | J15: =ROUND((G15-H15),2) -> 0
F16: SKUPAJ | G16: =SUM(G8:G13)+G15 -> 0 | H16: =SUM(H8:H13)+H15 -> 0 | J16: =ROUND((G16-H16),2) -> 0
A19: zap. št. akt. | B19: AKTIVNOSTI (2. FAZA) | C19: VRSTA STROŠKA | D19: TIP DELA | E19: ŠT. OPRAVLJENIH UR NA PROJEKTU | F19: URNA POSTAVKA (EUR) | G19: SKUPNI UPRAVIČENI STROŠKI (EUR) | H19: ZNESEK SOFINANCIRANJA oz. POGODBENA VREDNOST (EUR) | I19: ODSTOTEK SOFINANCIRANJA oz. POGODBENA STOPNJA | J19: LASTNA UDELEŽBA (EUR)
A20: 1 | C20: IZBERI | D20: IZBERI | F20: =VLOOKUP(D20,SE!$A$1:$B$8,2,FALSE) -> - | G20: =IF(E20="","",E20*F20) | H20: =IF(E20="","",G20*I20/100) | I20: =IF(E20="","",80) | J20: =ROUND((G20-H20),2) -> #VALUE!
A21: 2 | C21: IZBERI | D21: IZBERI | F21: =VLOOKUP(D21,SE!$A$1:$B$8,2,FALSE) -> - | G21: =IF(E21="","",E21*F21) | H21: =IF(E21="","",G21*I21/100) | I21: =IF(E21="","",80) | J21: =ROUND((G21-H21),2) -> #VALUE!
A22: 3 | C22: IZBERI | D22: IZBERI | F22: =VLOOKUP(D22,SE!$A$1:$B$8,2,FALSE) -> - | G22: =IF(E22="","",E22*F22) | H22: =IF(E22="","",G22*I22/100) | I22: =IF(E22="","",80) | J22: =ROUND((G22-H22),2) -> #VALUE!
A23: 4 | C23: IZBERI | D23: IZBERI | F23: =VLOOKUP(D23,SE!$A$1:$B$8,2,FALSE) -> - | G23: =IF(E23="","",E23*F23) | H23: =IF(E23="","",G23*I23/100) | I23: =IF(E23="","",80) | J23: =ROUND((G23-H23),2) -> #VALUE!
A24: 5 | C24: IZBERI | D24: IZBERI | F24: =VLOOKUP(D24,SE!$A$1:$B$8,2,FALSE) -> - | G24: =IF(E24="","",E24*F24) | H24: =IF(E24="","",G24*I24/100) | I24: =IF(E24="","",80) | J24: =ROUND((G24-H24),2) -> #VALUE!
A25: 6 | C25: IZBERI | D25: IZBERI | F25: =VLOOKUP(D25,SE!$A$1:$B$8,2,FALSE) -> - | G25: =IF(E25="","",E25*F25) | H25: =IF(E25="","",G25*I25/100) | I25: =IF(E25="","",80) | J25: =ROUND((G25-H25),2) -> #VALUE!
F26: SKUPAJ | G26: =SUM(G20:G25) -> 0 | H26: =SUM(H20:H25) -> 0 | I26: =IF(E26="","",80)
B27: PAVŠAL | C27: PRS - PREOSTALI STROŠKI, KI NISO STROŠKI OSEBJA (40 %) | D27: Preostale projektne aktivnosti | G27: =SUM(G20:G25)*0.4 -> 0 | H27: =G27*0.8 -> 0 | I27: =IF(E27="","",80) | J27: =ROUND((G27-H27),2) -> 0
F28: SKUPAJ | G28: =SUM(G20:G25)+G27 -> 0 | H28: =SUM(H20:H25)+H27 -> 0 | J28: =ROUND((G28-H28),2) -> 0
B32: VREDNOST PROJEKTA - PARTNER 1
B33: SKUPNI UPRAVIČENI NEPOSREDNI STROŠKI OSEBJA | C33: PREOSTALI STROŠKI, KI NISO STROŠKI OSEBJA (PAVŠAL) | D33: SKUPNI UPRAVIČENI STROŠKI | E33: ZNESEK SOFINANCIRANJA | F33: LASTNA UDELEŽBA
B34: =SUM(G20:G25)+SUM(G8:G13) -> 0 | C34: =G27+G15 -> 0 | D34: =G28+G16 -> 0 | E34: =H16+H28 -> 0 | F34: =J16+J28 -> 0

Sheet Partner 2
B1: "Finančni načrt - NEINVESTICIJSKI PROJEKT" | I1: 1. JAVNI POZIV LAS ZELENA ISTRA (ESRR)
B6: NAZIV PARTNERJA 2:
A7: zap. št. akt. | B7: AKTIVNOSTI (1. FAZA) | C7: VRSTA STROŠKA | D7: TIP DELA | E7: ŠT. OPRAVLJENIH UR NA PROJEKTU | F7: URNA POSTAVKA (EUR) | G7: SKUPNI UPRAVIČENI STROŠKI (EUR) | H7: ZNESEK SOFINANCIRANJA oz. POGODBENA VREDNOST (EUR) | I7: ODSTOTEK SOFINANCIRANJA oz. POGODBENA STOPNJA | J7: LASTNA UDELEŽBA (EUR)
A8: 1 | C8: IZBERI | D8: IZBERI | F8: =VLOOKUP(D8,SE!$A$1:$B$8,2,FALSE) -> - | G8: =IF(E8="","",E8*F8) | H8: =IF(E8="","",G8*I8/100) | I8: =IF(E8="","",80) | J8: =ROUND((G8-H8),2) -> #VALUE!
A9: 2 | C9: IZBERI | D9: IZBERI | F9: =VLOOKUP(D9,SE!$A$1:$B$8,2,FALSE) -> - | G9: =IF(E9="","",E9*F9) | H9: =IF(E9="","",G9*I9/100) | I9: =IF(E9="","",80) | J9: =ROUND((G9-H9),2) -> #VALUE!
A10: 3 | C10: IZBERI | D10: IZBERI | F10: =VLOOKUP(D10,SE!$A$1:$B$8,2,FALSE) -> - | G10: =IF(E10="","",E10*F10) | H10: =IF(E10="","",G10*I10/100) | I10: =IF(E10="","",80) | J10: =ROUND((G10-H10),2) -> #VALUE!
A11: 4 | C11: IZBERI | D11: IZBERI | F11: =VLOOKUP(D11,SE!$A$1:$B$8,2,FALSE) -> - | G11: =IF(E11="","",E11*F11) | H11: =IF(E11="","",G11*I11/100) | I11: =IF(E11="","",80) | J11: =ROUND((G11-H11),2) -> #VALUE!
A12: 5 | C12: IZBERI | D12: IZBERI | F12: =VLOOKUP(D12,SE!$A$1:$B$8,2,FALSE) -> - | G12: =IF(E12="","",E12*F12) | H12: =IF(E12="","",G12*I12/100) | I12: =IF(E12="","",80) | J12: =ROUND((G12-H12),2) -> #VALUE!
A13: 6 | C13: IZBERI | D13: IZBERI | F13: =VLOOKUP(D13,SE!$A$1:$B$8,2,FALSE) -> - | G13: =IF(E13="","",E13*F13) | H13: =IF(E13="","",G13*I13/100) | I13: =IF(E13="","",80) | J13: =ROUND((G13-H13),2) -> #VALUE!
F14: SKUPAJ | G14: =SUM(G8:G13) -> 0 | H14: =SUM(H8:H13) -> 0 | I14: =IF(E14="","",80)
B15: PAVŠAL | C15: PRS - PREOSTALI STROŠKI, KI NISO STROŠKI OSEBJA (40 %) | D15: Preostale projektne aktivnosti | G15: =SUM(G8:G13)*0.4 -> 0 | H15: =G15*0.8 -> 0 | I15: =IF(E15="","",80) | J15: =ROUND((G15-H15),2) -> 0
F16: SKUPAJ | G16: =SUM(G8:G13)+G15 -> 0 | H16: =SUM(H8:H13)+H15 -> 0 | J16: =ROUND((G16-H16),2) -> 0
A19: zap. št. akt. | B19: AKTIVNOSTI (2. FAZA) | C19: VRSTA STROŠKA | D19: TIP DELA | E19: ŠT. OPRAVLJENIH UR NA PROJEKTU | F19: URNA POSTAVKA (EUR) | G19: SKUPNI UPRAVIČENI STROŠKI (EUR) | H19: ZNESEK SOFINANCIRANJA oz. POGODBENA VREDNOST (EUR) | I19: ODSTOTEK SOFINANCIRANJA oz. POGODBENA STOPNJA | J19: LASTNA UDELEŽBA (EUR)
A20: 1 | C20: IZBERI | D20: IZBERI | F20: =VLOOKUP(D20,SE!$A$1:$B$8,2,FALSE) -> - | G20: =IF(E20="","",E20*F20) | H20: =IF(E20="","",G20*I20/100) | I20: =IF(E20="","",80) | J20: =ROUND((G20-H20),2) -> #VALUE!
A21: 2 | C21: IZBERI | D21: IZBERI | F21: =VLOOKUP(D21,SE!$A$1:$B$8,2,FALSE) -> - | G21: =IF(E21="","",E21*F21) | H21: =IF(E21="","",G21*I21/100) | I21: =IF(E21="","",80) | J21: =ROUND((G21-H21),2) -> #VALUE!
A22: 3 | C22: IZBERI | D22: IZBERI | F22: =VLOOKUP(D22,SE!$A$1:$B$8,2,FALSE) -> - | G22: =IF(E22="","",E22*F22) | H22: =IF(E22="","",G22*I22/100) | I22: =IF(E22="","",80) | J22: =ROUND((G22-H22),2) -> #VALUE!
A23: 4 | C23: IZBERI | D23: IZBERI | F23: =VLOOKUP(D23,SE!$A$1:$B$8,2,FALSE) -> - | G23: =IF(E23="","",E23*F23) | H23: =IF(E23="","",G23*I23/100) | I23: =IF(E23="","",80) | J23: =ROUND((G23-H23),2) -> #VALUE!
A24: 5 | C24: IZBERI | D24: IZBERI | F24: =VLOOKUP(D24,SE!$A$1:$B$8,2,FALSE) -> - | G24: =IF(E24="","",E24*F24) | H24: =IF(E24="","",G24*I24/100) | I24: =IF(E24="","",80) | J24: =ROUND((G24-H24),2) -> #VALUE!
A25: 6 | C25: IZBERI | D25: IZBERI | F25: =VLOOKUP(D25,SE!$A$1:$B$8,2,FALSE) -> - | G25: =IF(E25="","",E25*F25) | H25: =IF(E25="","",G25*I25/100) | I25: =IF(E25="","",80) | J25: =ROUND((G25-H25),2) -> #VALUE!
F26: SKUPAJ | G26: =SUM(G20:G25) -> 0 | H26: =SUM(H20:H25) -> 0 | I26: =IF(E26="","",80)
B27: PAVŠAL | C27: PRS - PREOSTALI STROŠKI, KI NISO STROŠKI OSEBJA (40 %) | D27: Preostale projektne aktivnosti | G27: =SUM(G20:G25)*0.4 -> 0 | H27: =G27*0.8 -> 0 | I27: =IF(E27="","",80) | J27: =ROUND((G27-H27),2) -> 0
F28: SKUPAJ | G28: =SUM(G20:G25)+G27 -> 0 | H28: =SUM(H20:H25)+H27 -> 0 | J28: =ROUND((G28-H28),2) -> 0
B32: VREDNOST PROJEKTA - PARTNER 1
B33: SKUPNI UPRAVIČENI NEPOSREDNI STROŠKI OSEBJA | C33: PREOSTALI STROŠKI, KI NISO STROŠKI OSEBJA (PAVŠAL) | D33: SKUPNI UPRAVIČENI STROŠKI | E33: ZNESEK SOFINANCIRANJA | F33: LASTNA UDELEŽBA
B34: =SUM(G20:G25)+SUM(G8:G13) -> 0 | C34: =G27+G15 -> 0 | D34: =G28+G16 -> 0 | E34: =H16+H28 -> 0 | F34: =J16+J28 -> 0

Sheet Partner 3
B1: "Finančni načrt - NEINVESTICIJSKI PROJEKT" | I1: 1. JAVNI POZIV LAS ZELENA ISTRA (ESRR)
B6: NAZIV PARTNERJA 3:
A7: zap. št. akt. | B7: AKTIVNOSTI (1. FAZA) | C7: VRSTA STROŠKA | D7: TIP DELA | E7: ŠT. OPRAVLJENIH UR NA PROJEKTU | F7: URNA POSTAVKA (EUR) | G7: SKUPNI UPRAVIČENI STROŠKI (EUR) | H7: ZNESEK SOFINANCIRANJA oz. POGODBENA VREDNOST (EUR) | I7: ODSTOTEK SOFINANCIRANJA oz. POGODBENA STOPNJA | J7: LASTNA UDELEŽBA (EUR)
A8: 1 | C8: IZBERI | D8: Vodenje in koordinacija | F8: =VLOOKUP(D8,SE!$A$1:$B$8,2,FALSE) -> 23.33 | G8: =IF(E8="","",E8*F8) | H8: =IF(E8="","",G8*I8/100) | I8: =IF(E8="","",80) | J8: =ROUND((G8-H8),2) -> #VALUE!
A9: 2 | C9: IZBERI | D9: IZBERI | F9: =VLOOKUP(D9,SE!$A$1:$B$8,2,FALSE) -> - | G9: =IF(E9="","",E9*F9) | H9: =IF(E9="","",G9*I9/100) | I9: =IF(E9="","",80) | J9: =ROUND((G9-H9),2) -> #VALUE!
A10: 3 | C10: IZBERI | D10: IZBERI | F10: =VLOOKUP(D10,SE!$A$1:$B$8,2,FALSE) -> - | G10: =IF(E10="","",E10*F10) | H10: =IF(E10="","",G10*I10/100) | I10: =IF(E10="","",80) | J10: =ROUND((G10-H10),2) -> #VALUE!
A11: 4 | C11: IZBERI | D11: IZBERI | F11: =VLOOKUP(D11,SE!$A$1:$B$8,2,FALSE) -> - | G11: =IF(E11="","",E11*F11) | H11: =IF(E11="","",G11*I11/100) | I11: =IF(E11="","",80) | J11: =ROUND((G11-H11),2) -> #VALUE!
A12: 5 | C12: IZBERI | D12: IZBERI | F12: =VLOOKUP(D12,SE!$A$1:$B$8,2,FALSE) -> - | G12: =IF(E12="","",E12*F12) | H12: =IF(E12="","",G12*I12/100) | I12: =IF(E12="","",80) | J12: =ROUND((G12-H12),2) -> #VALUE!
A13: 6 | C13: IZBERI | D13: IZBERI | F13: =VLOOKUP(D13,SE!$A$1:$B$8,2,FALSE) -> - | G13: =IF(E13="","",E13*F13) | H13: =IF(E13="","",G13*I13/100) | I13: =IF(E13="","",80) | J13: =ROUND((G13-H13),2) -> #VALUE!
F14: SKUPAJ | G14: =SUM(G8:G13) -> 0 | H14: =SUM(H8:H13) -> 0 | I14: =IF(E14="","",80)
B15: PAVŠAL | C15: PRS - PREOSTALI STROŠKI, KI NISO STROŠKI OSEBJA (40 %) | D15: Preostale projektne aktivnosti | G15: =SUM(G8:G13)*0.4 -> 0 | H15: =G15*0.8 -> 0 | I15: =IF(E15="","",80) | J15: =ROUND((G15-H15),2) -> 0
F16: SKUPAJ | G16: =SUM(G8:G13)+G15 -> 0 | H16: =SUM(H8:H13)+H15 -> 0 | J16: =ROUND((G16-H16),2) -> 0
A19: zap. št. akt. | B19: AKTIVNOSTI (2. FAZA) | C19: VRSTA STROŠKA | D19: TIP DELA | E19: ŠT. OPRAVLJENIH UR NA PROJEKTU | F19: URNA POSTAVKA (EUR) | G19: SKUPNI UPRAVIČENI STROŠKI (EUR) | H19: ZNESEK SOFINANCIRANJA oz. POGODBENA VREDNOST (EUR) | I19: ODSTOTEK SOFINANCIRANJA oz. POGODBENA STOPNJA | J19: LASTNA UDELEŽBA (EUR)
A20: 1 | C20: IZBERI | D20: IZBERI | F20: =VLOOKUP(D20,SE!$A$1:$B$8,2,FALSE) -> - | G20: =IF(E20="","",E20*F20) | H20: =IF(E20="","",G20*I20/100) | I20: =IF(E20="","",80) | J20: =ROUND((G20-H20),2) -> #VALUE!
A21: 2 | C21: IZBERI | D21: IZBERI | F21: =VLOOKUP(D21,SE!$A$1:$B$8,2,FALSE) -> - | G21: =IF(E21="","",E21*F21) | H21: =IF(E21="","",G21*I21/100) | I21: =IF(E21="","",80) | J21: =ROUND((G21-H21),2) -> #VALUE!
A22: 3 | C22: IZBERI | D22: IZBERI | F22: =VLOOKUP(D22,SE!$A$1:$B$8,2,FALSE) -> - | G22: =IF(E22="","",E22*F22) | H22: =IF(E22="","",G22*I22/100) | I22: =IF(E22="","",80) | J22: =ROUND((G22-H22),2) -> #VALUE!
A23: 4 | C23: IZBERI | D23: IZBERI | F23: =VLOOKUP(D23,SE!$A$1:$B$8,2,FALSE) -> - | G23: =IF(E23="","",E23*F23) | H23: =IF(E23="","",G23*I23/100) | I23: =IF(E23="","",80) | J23: =ROUND((G23-H23),2) -> #VALUE!
A24: 5 | C24: IZBERI | D24: IZBERI | F24: =VLOOKUP(D24,SE!$A$1:$B$8,2,FALSE) -> - | G24: =IF(E24="","",E24*F24) | H24: =IF(E24="","",G24*I24/100) | I24: =IF(E24="","",80) | J24: =ROUND((G24-H24),2) -> #VALUE!
A25: 6 | C25: IZBERI | D25: IZBERI | F25: =VLOOKUP(D25,SE!$A$1:$B$8,2,FALSE) -> - | G25: =IF(E25="","",E25*F25) | H25: =IF(E25="","",G25*I25/100) | I25: =IF(E25="","",80) | J25: =ROUND((G25-H25),2) -> #VALUE!
F26: SKUPAJ | G26: =SUM(G20:G25) -> 0 | H26: =SUM(H20:H25) -> 0 | I26: =IF(E26="","",80)
B27: PAVŠAL | C27: PRS - PREOSTALI STROŠKI, KI NISO STROŠKI OSEBJA (40 %) | D27: Preostale projektne aktivnosti | G27: =SUM(G20:G25)*0.4 -> 0 | H27: =G27*0.8 -> 0 | I27: =IF(E27="","",80) | J27: =ROUND((G27-H27),2) -> 0
F28: SKUPAJ | G28: =SUM(G20:G25)+G27 -> 0 | H28: =SUM(H20:H25)+H27 -> 0 | J28: =ROUND((G28-H28),2) -> 0
B32: VREDNOST PROJEKTA - PARTNER 3
B33: SKUPNI UPRAVIČENI NEPOSREDNI STROŠKI OSEBJA | C33: PREOSTALI STROŠKI, KI NISO STROŠKI OSEBJA (PAVŠAL) | D33: SKUPNI UPRAVIČENI STROŠKI | E33: ZNESEK SOFINANCIRANJA | F33: LASTNA UDELEŽBA
B34: =SUM(G20:G25)+SUM(G8:G13) -> 0 | C34: =G27+G15 -> 0 | D34: =G28+G16 -> 0 | E34: =H16+H28 -> 0 | F34: =J16+J28 -> 0

Sheet Partner 4
B1: "Finančni načrt - NEINVESTICIJSKI PROJEKT" | I1: 1. JAVNI POZIV LAS ZELENA ISTRA (ESRR)
B6: NAZIV PARTNERJA 4:
A7: zap. št. akt. | B7: AKTIVNOSTI (1. FAZA) | C7: VRSTA STROŠKA | D7: TIP DELA | E7: ŠT. OPRAVLJENIH UR NA PROJEKTU | F7: URNA POSTAVKA (EUR) | G7: SKUPNI UPRAVIČENI STROŠKI (EUR) | H7: ZNESEK SOFINANCIRANJA oz. POGODBENA VREDNOST (EUR) | I7: ODSTOTEK SOFINANCIRANJA oz. POGODBENA STOPNJA | J7: LASTNA UDELEŽBA (EUR)
A8: 1 | C8: IZBERI | D8: IZBERI | F8: =VLOOKUP(D8,SE!$A$1:$B$8,2,FALSE) -> - | G8: =IF(E8="","",E8*F8) | H8: =IF(E8="","",G8*I8/100) | I8: =IF(E8="","",80) | J8: =ROUND((G8-H8),2) -> #VALUE!
A9: 2 | C9: IZBERI | D9: IZBERI | F9: =VLOOKUP(D9,SE!$A$1:$B$8,2,FALSE) -> - | G9: =IF(E9="","",E9*F9) | H9: =IF(E9="","",G9*I9/100) | I9: =IF(E9="","",80) | J9: =ROUND((G9-H9),2) -> #VALUE!
A10: 3 | C10: IZBERI | D10: IZBERI | F10: =VLOOKUP(D10,SE!$A$1:$B$8,2,FALSE) -> - | G10: =IF(E10="","",E10*F10) | H10: =IF(E10="","",G10*I10/100) | I10: =IF(E10="","",80) | J10: =ROUND((G10-H10),2) -> #VALUE!
A11: 4 | C11: IZBERI | D11: IZBERI | F11: =VLOOKUP(D11,SE!$A$1:$B$8,2,FALSE) -> - | G11: =IF(E11="","",E11*F11) | H11: =IF(E11="","",G11*I11/100) | I11: =IF(E11="","",80) | J11: =ROUND((G11-H11),2) -> #VALUE!
A12: 5 | C12: IZBERI | D12: IZBERI | F12: =VLOOKUP(D12,SE!$A$1:$B$8,2,FALSE) -> - | G12: =IF(E12="","",E12*F12) | H12: =IF(E12="","",G12*I12/100) | I12: =IF(E12="","",80) | J12: =ROUND((G12-H12),2) -> #VALUE!
A13: 6 | C13: IZBERI | D13: IZBERI | F13: =VLOOKUP(D13,SE!$A$1:$B$8,2,FALSE) -> - | G13: =IF(E13="","",E13*F13) | H13: =IF(E13="","",G13*I13/100) | I13: =IF(E13="","",80) | J13: =ROUND((G13-H13),2) -> #VALUE!
F14: SKUPAJ | G14: =SUM(G8:G13) -> 0 | H14: =SUM(H8:H13) -> 0 | I14: =IF(E14="","",80)
B15: PAVŠAL | C15: PRS - PREOSTALI STROŠKI, KI NISO STROŠKI OSEBJA (40 %) | D15: Preostale projektne aktivnosti | G15: =SUM(G8:G13)*0.4 -> 0 | H15: =G15*0.8 -> 0 | I15: =IF(E15="","",80) | J15: =ROUND((G15-H15),2) -> 0
F16: SKUPAJ | G16: =SUM(G8:G13)+G15 -> 0 | H16: =SUM(H8:H13)+H15 -> 0 | J16: =ROUND((G16-H16),2) -> 0
A19: zap. št. akt. | B19: AKTIVNOSTI (2. FAZA) | C19: VRSTA STROŠKA | D19: TIP DELA | E19: ŠT. OPRAVLJENIH UR NA PROJEKTU | F19: URNA POSTAVKA (EUR) | G19: SKUPNI UPRAVIČENI STROŠKI (EUR) | H19: ZNESEK SOFINANCIRANJA oz. POGODBENA VREDNOST (EUR) | I19: ODSTOTEK SOFINANCIRANJA oz. POGODBENA STOPNJA | J19: LASTNA UDELEŽBA (EUR)
A20: 1 | C20: IZBERI | D20: IZBERI | F20: =VLOOKUP(D20,SE!$A$1:$B$8,2,FALSE) -> - | G20: =IF(E20="","",E20*F20) | H20: =IF(E20="","",G20*I20/100) | I20: =IF(E20="","",80) | J20: =ROUND((G20-H20),2) -> #VALUE!
A21: 2 | C21: IZBERI | D21: IZBERI | F21: =VLOOKUP(D21,SE!$A$1:$B$8,2,FALSE) -> - | G21: =IF(E21="","",E21*F21) | H21: =IF(E21="","",G21*I21/100) | I21: =IF(E21="","",80) | J21: =ROUND((G21-H21),2) -> #VALUE!
A22: 3 | C22: IZBERI | D22: IZBERI | F22: =VLOOKUP(D22,SE!$A$1:$B$8,2,FALSE) -> - | G22: =IF(E22="","",E22*F22) | H22: =IF(E22="","",G22*I22/100) | I22: =IF(E22="","",80) | J22: =ROUND((G22-H22),2) -> #VALUE!
A23: 4 | C23: IZBERI | D23: IZBERI | F23: =VLOOKUP(D23,SE!$A$1:$B$8,2,FALSE) -> - | G23: =IF(E23="","",E23*F23) | H23: =IF(E23="","",G23*I23/100) | I23: =IF(E23="","",80) | J23: =ROUND((G23-H23),2) -> #VALUE!
A24: 5 | C24: IZBERI | D24: IZBERI | F24: =VLOOKUP(D24,SE!$A$1:$B$8,2,FALSE) -> - | G24: =IF(E24="","",E24*F24) | H24: =IF(E24="","",G24*I24/100) | I24: =IF(E24="","",80) | J24: =ROUND((G24-H24),2) -> #VALUE!
A25: 6 | C25: IZBERI | D25: IZBERI | F25: =VLOOKUP(D25,SE!$A$1:$B$8,2,FALSE) -> - | G25: =IF(E25="","",E25*F25) | H25: =IF(E25="","",G25*I25/100) | I25: =IF(E25="","",80) | J25: =ROUND((G25-H25),2) -> #VALUE!
F26: SKUPAJ | G26: =SUM(G20:G25) -> 0 | H26: =SUM(H20:H25) -> 0 | I26: =IF(E26="","",80)
B27: PAVŠAL | C27: PRS - PREOSTALI STROŠKI, KI NISO STROŠKI OSEBJA (40 %) | D27: Preostale projektne aktivnosti | G27: =SUM(G20:G25)*0.4 -> 0 | H27: =G27*0.8 -> 0 | I27: =IF(E27="","",80) | J27: =ROUND((G27-H27),2) -> 0
F28: SKUPAJ | G28: =SUM(G20:G25)+G27 -> 0 | H28: =SUM(H20:H25)+H27 -> 0 | J28: =ROUND((G28-H28),2) -> 0
B32: VREDNOST PROJEKTA - PARTNER 4
B33: SKUPNI UPRAVIČENI NEPOSREDNI STROŠKI OSEBJA | C33: PREOSTALI STROŠKI, KI NISO STROŠKI OSEBJA (PAVŠAL) | D33: SKUPNI UPRAVIČENI STROŠKI | E33: ZNESEK SOFINANCIRANJA | F33: LASTNA UDELEŽBA
B34: =SUM(G20:G25)+SUM(G8:G13) -> 0 | C34: =G27+G15 -> 0 | D34: =G28+G16 -> 0 | E34: =H16+H28 -> 0 | F34: =J16+J28 -> 0

Sheet Partner 5
B1: "Finančni načrt - NEINVESTICIJSKI PROJEKT" | I1: 1. JAVNI POZIV LAS ZELENA ISTRA (ESRR)
B6: NAZIV PARTNERJA 5:
A7: zap. št. akt. | B7: AKTIVNOSTI (1. FAZA) | C7: VRSTA STROŠKA | D7: TIP DELA | E7: ŠT. OPRAVLJENIH UR NA PROJEKTU | F7: URNA POSTAVKA (EUR) | G7: SKUPNI UPRAVIČENI STROŠKI (EUR) | H7: ZNESEK SOFINANCIRANJA oz. POGODBENA VREDNOST (EUR) | I7: ODSTOTEK SOFINANCIRANJA oz. POGODBENA STOPNJA | J7: LASTNA UDELEŽBA (EUR)
A8: 1 | C8: IZBERI | D8: IZBERI | F8: =VLOOKUP(D8,SE!$A$1:$B$8,2,FALSE) -> - | G8: =IF(E8="","",E8*F8) | H8: =IF(E8="","",G8*I8/100) | I8: =IF(E8="","",80) | J8: =ROUND((G8-H8),2) -> #VALUE!
A9: 2 | C9: IZBERI | D9: IZBERI | F9: =VLOOKUP(D9,SE!$A$1:$B$8,2,FALSE) -> - | G9: =IF(E9="","",E9*F9) | H9: =IF(E9="","",G9*I9/100) | I9: =IF(E9="","",80) | J9: =ROUND((G9-H9),2) -> #VALUE!
A10: 3 | C10: IZBERI | D10: IZBERI | F10: =VLOOKUP(D10,SE!$A$1:$B$8,2,FALSE) -> - | G10: =IF(E10="","",E10*F10) | H10: =IF(E10="","",G10*I10/100) | I10: =IF(E10="","",80) | J10: =ROUND((G10-H10),2) -> #VALUE!
A11: 4 | C11: IZBERI | D11: IZBERI | F11: =VLOOKUP(D11,SE!$A$1:$B$8,2,FALSE) -> - | G11: =IF(E11="","",E11*F11) | H11: =IF(E11="","",G11*I11/100) | I11: =IF(E11="","",80) | J11: =ROUND((G11-H11),2) -> #VALUE!
A12: 5 | C12: IZBERI | D12: IZBERI | F12: =VLOOKUP(D12,SE!$A$1:$B$8,2,FALSE) -> - | G12: =IF(E12="","",E12*F12) | H12: =IF(E12="","",G12*I12/100) | I12: =IF(E12="","",80) | J12: =ROUND((G12-H12),2) -> #VALUE!
A13: 6 | C13: IZBERI | D13: IZBERI | F13: =VLOOKUP(D13,SE!$A$1:$B$8,2,FALSE) -> - | G13: =IF(E13="","",E13*F13) | H13: =IF(E13="","",G13*I13/100) | I13: =IF(E13="","",80) | J13: =ROUND((G13-H13),2) -> #VALUE!
F14: SKUPAJ | G14: =SUM(G8:G13) -> 0 | H14: =SUM(H8:H13) -> 0 | I14: =IF(E14="","",80)
B15: PAVŠAL | C15: PRS - PREOSTALI STROŠKI, KI NISO STROŠKI OSEBJA (40 %) | D15: Preostale projektne aktivnosti | G15: =SUM(G8:G13)*0.4 -> 0 | H15: =G15*0.8 -> 0 | I15: =IF(E15="","",80) | J15: =ROUND((G15-H15),2) -> 0
F16: SKUPAJ | G16: =SUM(G8:G13)+G15 -> 0 | H16: =SUM(H8:H13)+H15 -> 0 | J16: =ROUND((G16-H16),2) -> 0
A19: zap. št. akt. | B19: AKTIVNOSTI (2. FAZA) | C19: VRSTA STROŠKA | D19: TIP DELA | E19: ŠT. OPRAVLJENIH UR NA PROJEKTU | F19: URNA POSTAVKA (EUR) | G19: SKUPNI UPRAVIČENI STROŠKI (EUR) | H19: ZNESEK SOFINANCIRANJA oz. POGODBENA VREDNOST (EUR) | I19: ODSTOTEK SOFINANCIRANJA oz. POGODBENA STOPNJA | J19: LASTNA UDELEŽBA (EUR)
A20: 1 | C20: IZBERI | D20: IZBERI | F20: =VLOOKUP(D20,SE!$A$1:$B$8,2,FALSE) -> - | G20: =IF(E20="","",E20*F20) | H20: =IF(E20="","",G20*I20/100) | I20: =IF(E20="","",80) | J20: =ROUND((G20-H20),2) -> #VALUE!
A21: 2 | C21: IZBERI | D21: IZBERI | F21: =VLOOKUP(D21,SE!$A$1:$B$8,2,FALSE) -> - | G21: =IF(E21="","",E21*F21) | H21: =IF(E21="","",G21*I21/100) | I21: =IF(E21="","",80) | J21: =ROUND((G21-H21),2) -> #VALUE!
A22: 3 | C22: IZBERI | D22: IZBERI | F22: =VLOOKUP(D22,SE!$A$1:$B$8,2,FALSE) -> - | G22: =IF(E22="","",E22*F22) | H22: =IF(E22="","",G22*I22/100) | I22: =IF(E22="","",80) | J22: =ROUND((G22-H22),2) -> #VALUE!
A23: 4 | C23: IZBERI | D23: IZBERI | F23: =VLOOKUP(D23,SE!$A$1:$B$8,2,FALSE) -> - | G23: =IF(E23="","",E23*F23) | H23: =IF(E23="","",G23*I23/100) | I23: =IF(E23="","",80) | J23: =ROUND((G23-H23),2) -> #VALUE!
A24: 5 | C24: IZBERI | D24: IZBERI | F24: =VLOOKUP(D24,SE!$A$1:$B$8,2,FALSE) -> - | G24: =IF(E24="","",E24*F24) | H24: =IF(E24="","",G24*I24/100) | I24: =IF(E24="","",80) | J24: =ROUND((G24-H24),2) -> #VALUE!
A25: 6 | C25: IZBERI | D25: IZBERI | F25: =VLOOKUP(D25,SE!$A$1:$B$8,2,FALSE) -> - | G25: =IF(E25="","",E25*F25) | H25: =IF(E25="","",G25*I25/100) | I25: =IF(E25="","",80) | J25: =ROUND((G25-H25),2) -> #VALUE!
F26: SKUPAJ | G26: =SUM(G20:G25) -> 0 | H26: =SUM(H20:H25) -> 0 | I26: =IF(E26="","",80)
B27: PAVŠAL | C27: PRS - PREOSTALI STROŠKI, KI NISO STROŠKI OSEBJA (40 %) | D27: Preostale projektne aktivnosti | G27: =SUM(G20:G25)*0.4 -> 0 | H27: =G27*0.8 -> 0 | I27: =IF(E27="","",80) | J27: =ROUND((G27-H27),2) -> 0
F28: SKUPAJ | G28: =SUM(G20:G25)+G27 -> 0 | H28: =SUM(H20:H25)+H27 -> 0 | J28: =ROUND((G28-H28),2) -> 0
B32: VREDNOST PROJEKTA - PARTNER 5
B33: SKUPNI UPRAVIČENI NEPOSREDNI STROŠKI OSEBJA | C33: PREOSTALI STROŠKI, KI NISO STROŠKI OSEBJA (PAVŠAL) | D33: SKUPNI UPRAVIČENI STROŠKI | E33: ZNESEK SOFINANCIRANJA | F33: LASTNA UDELEŽBA
B34: =SUM(G20:G25)+SUM(G8:G13) -> 0 | C34: =G27+G15 -> 0 | D34: =G28+G16 -> 0 | E34: =H16+H28 -> 0 | F34: =J16+J28 -> 0

Sheet SE
A1: IZBERI | B1: -
A2: Vodenje in koordinacija | B2: 23.33
A3: Strokovna in tehnična pomoč | B3: 17.89
A4: Izvajanje neindustrijske dejavnosti | B4: 13.24
A5: Izvajanje neindustrijske dejavnosti | B5: 13.24
A6: Prostovoljsko delo - vsebinsko | B6: 10
A7: Prostovoljsko delo - organizacisko | B7: 13
A8: Prostovoljsko delo - drugo | B8: 6
