Workbook

Sheet SKUPNI
B1: "Finančni načrt - INVESTICIJSKI PROJEKT"
B4: NAZIV PROJEKTA:
B5: VODILNI PARTNER/PARTNER | C5: FAZA | D5: VRSTA STROŠKA | F5: SKUPNI UPRAVIČENI STROŠKI (EUR) | G5: ZNESEK SOFINANCIRANJA oz. POGODBENA VREDNOST (EUR) | H5: LASTNA UDELEŽBA (EUR)
B6: VODILNI PARTNER | C6: 1. FAZA | D6: STROŠKI NALOŽB, STROŠKI STORITEV ZUNANJIH IZVAJALCEV (80%) | F6: =SUM('Vodilni partner'!G6:G25) -> 0 | G6: =SUM('Vodilni partner'!I6:I25) -> 0 | H6: =SUM('Vodilni partner'!K6:K25) -> 0
D7: PAVŠAL - NEPOSREDNI STROŠKI OSEBJA (20 %) | F7: ='Vodilni partner'!G28 -> 0 | G7: ='Vodilni partner'!I28 -> 0 | H7: ='Vodilni partner'!K26+'Vodilni partner'!K27 -> 0
E8: SKUPAJ 1. FAZA | F8: =SUM(F6:F7) -> 0 | G8: =SUM(G6:G7) -> 0 | H8: =SUM(H6:H7) -> 0
C10: 2. FAZA | D10: STROŠKI NALOŽB, STROŠKI STORITEV ZUNANJIH IZVAJALCEV (80%) | F10: =SUM('Vodilni partner'!G33:G52) -> 0 | G10: =SUM('Vodilni partner'!I33:I52) -> 0 | H10: =SUM('Vodilni partner'!K33:K52) -> 0
D11: PAVŠAL - NEPOSREDNI STROŠKI OSEBJA (20 %) | F11: ='Vodilni partner'!G55 -> 0 | G11: ='Vodilni partner'!I55 -> 0 | H11: ='Vodilni partner'!K53+'Vodilni partner'!K54 -> 0
E12: SKUPAJ 2. FAZA | F12: =SUM(F10:F11) -> 0 | G12: =SUM(G10:G11) -> 0 | H12: =SUM(H10:H11) -> 0
C14: SKUPAJ 1. in 2. FAZA | D14: STROŠKI NALOŽB, STROŠKI STORITEV ZUNANJIH IZVAJALCEV (80%) | F14: =F6+F10 -> 0 | G14: =G6+G10 -> 0 | H14: =H6+H10 -> 0
D15: PAVŠAL - NEPOSREDNI STROŠKI OSEBJA (20 %) | F15: =F7+F11 -> 0 | G15: =G7+G11 -> 0 | H15: =H7+H11 -> 0
E16: SKUPAJ | F16: =SUM(F14:F15) -> 0 | G16: =SUM(G14:G15) -> 0 | H16: =SUM(H14:H15) -> 0
B18: PARTNER 1 | C18: 1. FAZA | D18: STROŠKI NALOŽB, STROŠKI STORITEV ZUNANJIH IZVAJALCEV (80%) | F18: =SUM('Partner 1'!G6:G25) -> 0 | G18: =SUM('Partner 1'!I6:I25) -> 0 | H18: =SUM('Partner 1'!K6:K25) -> 0
D19: PAVŠAL - NEPOSREDNI STROŠKI OSEBJA (20 %) | F19: ='Partner 1'!G28 -> 0 | G19: ='Partner 1'!I28 -> 0 | H19: ='Partner 1'!K26+'Partner 1'!K27 -> 0
E20: SKUPAJ 1. FAZA | F20: =SUM(F18:F19) -> 0 | G20: =SUM(G18:G19) -> 0 | H20: =SUM(H18:H19) -> 0
C22: 2. FAZA | D22: STROŠKI NALOŽB, STROŠKI STORITEV ZUNANJIH IZVAJALCEV (80%) | F22: =SUM('Partner 1'!G33:G52) -> 0 | G22: =SUM('Partner 1'!I33:I52) -> 0 | H22: =SUM('Partner 1'!K33:K52) -> 0
D23: PAVŠAL - NEPOSREDNI STROŠKI OSEBJA (20 %) | F23: ='Partner 1'!G55 -> 0 | G23: ='Partner 1'!I55 -> 0 | H23: ='Partner 1'!K53+'Partner 1'!K54 -> 0
E24: SKUPAJ 2. FAZA | F24: =SUM(F22:F23) -> 0 | G24: =SUM(G22:G23) -> 0 | H24: =SUM(H22:H23) -> 0
C26: SKUPAJ 1. in 2. FAZA | D26: STROŠKI NALOŽB, STROŠKI STORITEV ZUNANJIH IZVAJALCEV (80%) | F26: =F18+F22 -> 0 | G26: =G18+G22 -> 0 | H26: =H18+H22 -> 0
D27: PAVŠAL - NEPOSREDNI STROŠKI OSEBJA (20 %) | F27: =F19+F23 -> 0 | G27: =G19+G23 -> 0 | H27: =H19+H23 -> 0
E28: SKUPAJ | F28: =SUM(F26:F27) -> 0 | G28: =SUM(G26:G27) -> 0 | H28: =SUM(H26:H27) -> 0
B30: PARTNER 2 | C30: 1. FAZA | D30: STROŠKI NALOŽB, STROŠKI STORITEV ZUNANJIH IZVAJALCEV (80%) | F30: =SUM('Partner 2'!G6:G25) -> 0 | G30: =SUM('Partner 2'!I6:I25) -> 0 | H30: =SUM('Partner 2'!K6:K25) -> 0
D31: PAVŠAL - NEPOSREDNI STROŠKI OSEBJA (20 %) | F31: ='Partner 2'!G28 -> 0 | G31: ='Partner 2'!I28 -> 0 | H31: ='Partner 2'!K26+'Partner 2'!K27 -> 0
E32: SKUPAJ 1. FAZA | F32: =SUM(F30:F31) -> 0 | G32: =SUM(G30:G31) -> 0 | H32: =SUM(H30:H31) -> 0
C34: 2. FAZA | D34: STROŠKI NALOŽB, STROŠKI STORITEV ZUNANJIH IZVAJALCEV (80%) | F34: =SUM('Partner 2'!G33:G52) -> 0 | G34: =SUM('Partner 2'!I33:I52) -> 0 | H34: =SUM('Partner 2'!K33:K52) -> 0
D35: PAVŠAL - NEPOSREDNI STROŠKI OSEBJA (20 %) | F35: ='Partner 2'!G55 -> 0 | G35: ='Partner 2'!I55 -> 0 | H35: ='Partner 2'!K53+'Partner 1'!K54 -> 0
E36: SKUPAJ 2. FAZA | F36: =SUM(F34:F35) -> 0 | G36: =SUM(G34:G35) -> 0 | H36: =SUM(H34:H35) -> 0
C38: SKUPAJ 1. in 2. FAZA | D38: STROŠKI NALOŽB, STROŠKI STORITEV ZUNANJIH IZVAJALCEV (80%) | F38: =F30+F34 -> 0 | G38: =G30+G34 -> 0 | H38: =H30+H34 -> 0
D39: PAVŠAL - NEPOSREDNI STROŠKI OSEBJA (20 %) | F39: =F31+F35 -> 0 | G39: =G31+G35 -> 0 | H39: =H31+H35 -> 0
E40: SKUPAJ | F40: =SUM(F38:F39) -> 0 | G40: =SUM(G38:G39) -> 0 | H40: =SUM(H38:H39) -> 0
B42: PARTNER 3 | C42: 1. FAZA | D42: STROŠKI NALOŽB, STROŠKI STORITEV ZUNANJIH IZVAJALCEV (80%) | F42: =SUM('Partner 3'!G6:G25) -> 0 | G42: =SUM('Partner 3'!I6:I25) -> 0 | H42: =SUM('Partner 3'!K6:K25) -> 0
D43: PAVŠAL - NEPOSREDNI STROŠKI OSEBJA (20 %) | F43: ='Partner 3'!G28 -> 0 | G43: ='Partner 3'!I28 -> 0 | H43: ='Partner 3'!K26+'Partner 3'!K27 -> 0
E44: SKUPAJ 1. FAZA | F44: =SUM(F42:F43) -> 0 | G44: =SUM(G42:G43) -> 0 | H44: =SUM(H42:H43) -> 0
C46: 2. FAZA | D46: STROŠKI NALOŽB, STROŠKI STORITEV ZUNANJIH IZVAJALCEV (80%) | F46: =SUM('Partner 3'!G33:G52) -> 0 | G46: =SUM('Partner 3'!I33:I52) -> 0 | H46: =SUM('Partner 3'!K33:K52) -> 0
D47: PAVŠAL - NEPOSREDNI STROŠKI OSEBJA (20 %) | F47: ='Partner 3'!G55 -> 0 | G47: ='Partner 3'!I55 -> 0 | H47: ='Partner 3'!K53+'Partner 3'!K54 -> 0
E48: SKUPAJ 2. FAZA | F48: =SUM(F46:F47) -> 0 | G48: =SUM(G46:G47) -> 0 | H48: =SUM(H46:H47) -> 0
C50: SKUPAJ 1. in 2. FAZA | D50: STROŠKI NALOŽB, STROŠKI STORITEV ZUNANJIH IZVAJALCEV (80%) | F50: =F42+F46 -> 0 | G50: =G42+G46 -> 0 | H50: =H42+H46 -> 0
D51: PAVŠAL - NEPOSREDNI STROŠKI OSEBJA (20 %) | F51: =F43+F47 -> 0 | G51: =G43+G47 -> 0 | H51: =H43+H47 -> 0
E52: SKUPAJ | F52: =SUM(F50:F51) -> 0 | G52: =SUM(G50:G51) -> 0 | H52: =SUM(H50:H51) -> 0
B54: PARTNER 4 | C54: 1. FAZA | D54: STROŠKI NALOŽB, STROŠKI STORITEV ZUNANJIH IZVAJALCEV (80%) | F54: =SUM('Partner 4'!G6:G25) -> 0 | G54: =SUM('Partner 4'!I6:I25) -> 0 | H54: =SUM('Partner 4'!K6:K25) -> 0
...

Sheet Vodilni partner
B1: "Finančni načrt - INVESTICIJSKI PROJEKT" | J1: 1. JAVNI POZIV LAS ZELENA ISTRA (EKSRP)
B4: NAZIV VODILNEGA PARTNERJA:
B5: AKTIVNOST (1. FAZA) | C5: OBLIKA FINANCIRANJA (dejanski stroški/ pavšalna stopnja) | D5: VRSTA STROŠKA | E5: SKUPNI STROŠKI Z DDV (EUR) | F5: SKUPNI STROŠKI BREZ DDV (EUR) | G5: SKUPNI UPRAVIČENI STROŠKI (EUR) | H5: NEUPRAVIČENI STROŠKI (EUR) | I5: ZNESEK SOFINANCIRANJA (EUR) | J5: ODSTOTEK SOFINANCIRANJA | K5: LASTNA UDELEŽBA (EUR)
C6: Dejanski stroški | D6: Izberi | H6: =E6-G6 -> 0 | I6: =G6*J6 -> 0 | J6: =IF(D6="Stroški nakupa/zakupa nepremičnin","65%",IF(D6="Stroški gradnje/obnove nepremičnin","65%",IF(D6="Stroški kmetijske mehanizacije","65%",IF(D6="Stroški opreme in drugih opredmetenih sredstev","80%",IF(D6="Stroški neopredmetenih sredstev","80%",IF(D6="Izberi","0",IF(D6="Stroški storitev zunanjih izvajalcev","80%"))))))) -> 0 | K6: =ROUND((E6-I6),2) -> 0
C7: Dejanski stroški | D7: Izberi | H7: =E7-G7 -> 0 | I7: =G7*J7 -> 0 | J7: =IF(D7="Stroški nakupa/zakupa nepremičnin","65%",IF(D7="Stroški gradnje/obnove nepremičnin","65%",IF(D7="Stroški kmetijske mehanizacije","65%",IF(D7="Stroški opreme in drugih opredmetenih sredstev","80%",IF(D7="Stroški neopredmetenih sredstev","80%",IF(D7="Izberi","0",IF(D7="Stroški storitev zunanjih izvajalcev","80%"))))))) -> 0 | K7: =ROUND((E7-I7),2) -> 0
C8: Dejanski stroški | D8: Izberi | H8: =E8-G8 -> 0 | I8: =G8*J8 -> 0 | J8: =IF(D8="Stroški nakupa/zakupa nepremičnin","65%",IF(D8="Stroški gradnje/obnove nepremičnin","65%",IF(D8="Stroški kmetijske mehanizacije","65%",IF(D8="Stroški opreme in drugih opredmetenih sredstev","80%",IF(D8="Stroški neopredmetenih sredstev","80%",IF(D8="Izberi","0",IF(D8="Stroški storitev zunanjih izvajalcev","80%"))))))) -> 0 | K8: =ROUND((E8-I8),2) -> 0
C9: Dejanski stroški | D9: Izberi | H9: =E9-G9 -> 0 | I9: =G9*J9 -> 0 | J9: =IF(D9="Stroški nakupa/zakupa nepremičnin","65%",IF(D9="Stroški gradnje/obnove nepremičnin","65%",IF(D9="Stroški kmetijske mehanizacije","65%",IF(D9="Stroški opreme in drugih opredmetenih sredstev","80%",IF(D9="Stroški neopredmetenih sredstev","80%",IF(D9="Izberi","0",IF(D9="Stroški storitev zunanjih izvajalcev","80%"))))))) -> 0 | K9: =ROUND((E9-I9),2) -> 0
C10: Dejanski stroški | D10: Izberi | H10: =E10-G10 -> 0 | I10: =G10*J10 -> 0 | J10: =IF(D10="Stroški nakupa/zakupa nepremičnin","65%",IF(D10="Stroški gradnje/obnove nepremičnin","65%",IF(D10="Stroški kmetijske mehanizacije","65%",IF(D10="Stroški opreme in drugih opredmetenih sredstev","80%",IF(D10="Stroški neopredmetenih sredstev","80%",IF(D10="Izberi","0",IF(D10="Stroški storitev zunanjih izvajalcev","80%"))))))) -> 0 | K10: =ROUND((E10-I10),2) -> 0
C11: Dejanski stroški | D11: Izberi | H11: =E11-G11 -> 0 | I11: =G11*J11 -> 0 | J11: =IF(D11="Stroški nakupa/zakupa nepremičnin","65%",IF(D11="Stroški gradnje/obnove nepremičnin","65%",IF(D11="Stroški kmetijske mehanizacije","65%",IF(D11="Stroški opreme in drugih opredmetenih sredstev","80%",IF(D11="Stroški neopredmetenih sredstev","80%",IF(D11="Izberi","0",IF(D11="Stroški storitev zunanjih izvajalcev","80%"))))))) -> 0 | K11: =ROUND((E11-I11),2) -> 0
C12: Dejanski stroški | D12: Izberi | H12: =E12-G12 -> 0 | I12: =G12*J12 -> 0 | J12: =IF(D12="Stroški nakupa/zakupa nepremičnin","65%",IF(D12="Stroški gradnje/obnove nepremičnin","65%",IF(D12="Stroški kmetijske mehanizacije","65%",IF(D12="Stroški opreme in drugih opredmetenih sredstev","80%",IF(D12="Stroški neopredmetenih sredstev","80%",IF(D12="Izberi","0",IF(D12="Stroški storitev zunanjih izvajalcev","80%"))))))) -> 0 | K12: =ROUND((E12-I12),2) -> 0
C13: Dejanski stroški | D13: Izberi | H13: =E13-G13 -> 0 | I13: =G13*J13 -> 0 | J13: =IF(D13="Stroški nakupa/zakupa nepremičnin","65%",IF(D13="Stroški gradnje/obnove nepremičnin","65%",IF(D13="Stroški kmetijske mehanizacije","65%",IF(D13="Stroški opreme in drugih opredmetenih sredstev","80%",IF(D13="Stroški neopredmetenih sredstev","80%",IF(D13="Izberi","0",IF(D13="Stroški storitev zunanjih izvajalcev","80%"))))))) -> 0 | K13: =ROUND((E13-I13),2) -> 0
C14: Dejanski stroški | D14: Izberi | H14: =E14-G14 -> 0 | I14: =G14*J14 -> 0 | J14: =IF(D14="Stroški nakupa/zakupa nepremičnin","65%",IF(D14="Stroški gradnje/obnove nepremičnin","65%",IF(D14="Stroški kmetijske mehanizacije","65%",IF(D14="Stroški opreme in drugih opredmetenih sredstev","80%",IF(D14="Stroški neopredmetenih sredstev","80%",IF(D14="Izberi","0",IF(D14="Stroški storitev zunanjih izvajalcev","80%"))))))) -> 0 | K14: =ROUND((E14-I14),2) -> 0
C15: Dejanski stroški | D15: Izberi | H15: =E15-G15 -> 0 | I15: =G15*J15 -> 0 | J15: =IF(D15="Stroški nakupa/zakupa nepremičnin","65%",IF(D15="Stroški gradnje/obnove nepremičnin","65%",IF(D15="Stroški kmetijske mehanizacije","65%",IF(D15="Stroški opreme in drugih opredmetenih sredstev","80%",IF(D15="Stroški neopredmetenih sredstev","80%",IF(D15="Izberi","0",IF(D15="Stroški storitev zunanjih izvajalcev","80%"))))))) -> 0 | K15: =ROUND((E15-I15),2) -> 0
C16: Dejanski stroški | D16: Izberi | H16: =E16-G16 -> 0 | I16: =G16*J16 -> 0 | J16: =IF(D16="Stroški nakupa/zakupa nepremičnin","65%",IF(D16="Stroški gradnje/obnove nepremičnin","65%",IF(D16="Stroški kmetijske mehanizacije","65%",IF(D16="Stroški opreme in drugih opredmetenih sredstev","80%",IF(D16="Stroški neopredmetenih sredstev","80%",IF(D16="Izberi","0",IF(D16="Stroški storitev zunanjih izvajalcev","80%"))))))) -> 0 | K16: =ROUND((E16-I16),2) -> 0
C17: Dejanski stroški | D17: Izberi | H17: =E17-G17 -> 0 | I17: =G17*J17 -> 0 | J17: =IF(D17="Stroški nakupa/zakupa nepremičnin","65%",IF(D17="Stroški gradnje/obnove nepremičnin","65%",IF(D17="Stroški kmetijske mehanizacije","65%",IF(D17="Stroški opreme in drugih opredmetenih sredstev","80%",IF(D17="Stroški neopredmetenih sredstev","80%",IF(D17="Izberi","0",IF(D17="Stroški storitev zunanjih izvajalcev","80%"))))))) -> 0 | K17: =ROUND((E17-I17),2) -> 0
... C25: Dejanski stroški | D25: Izberi | H25: =E25-G25 -> 0 | I25: =G25*J25 -> 0 | J25: =IF(D25="Stroški nakupa/zakupa nepremičnin","65%",IF(D25="Stroški gradnje/obnove nepremičnin","65%",IF(D25="Stroški kmetijske mehanizacije","65%",IF(D25="Stroški opreme in drugih opredmetenih sredstev","80%",IF(D25="Stroški neopredmetenih sredstev","80%",IF(D25="Izberi","0",IF(D25="Stroški storitev zunanjih izvajalcev","80%"))))))) -> 0 | K25: =ROUND((E25-I25),2) -> 0
C26: Pavšalna stopnja | D26: Stroški osebja (pri stopnji financiranja 65%) | E26: =(G26) -> 0 | F26: =(G26) -> 0 | G26: =SUMIFS($G$6:$G$25,$J$6:$J$25,"65%")*0.2 -> 0 | H26: 0 | I26: =G26*0.65 -> 0 | K26: =ROUND((E26-I26),2) -> 0
C27: Pavšalna stopnja | D27: Stroški osebja (pri stopnji financiranja 80%) | E27: =(G27) -> 0 | F27: =(G27) -> 0 | G27: =SUMIFS($G$6:$G$25,$J$6:$J$25,"80%")*0.2 -> 0 | H27: 0 | I27: =G27*0.8 -> 0 | K27: =ROUND((E27-I27),2) -> 0
C28: Pavšalna stopnja | D28: Stroški osebja (skupaj) | E28: =E26+E27 -> 0 | F28: =F26+F27 -> 0 | G28: =SUM(G26+G27) -> 0 | H28: 0 | I28: =SUM(I27+I26) -> 0
D29: SKUPAJ | E29: =SUM(E6:E25,E28) -> 0 | F29: =SUM(F6:F25,F28) -> 0 | G29: =SUM(G6:G25,G28) -> 0 | H29: =SUM(H6:H25,H28) -> 0 | I29: =SUM(I6:I25,I28) -> 0 | K29: =ROUND((E29-I29),2) -> 0
B32: AKTIVNOST (2. FAZA) | C32: OBLIKA FINANCIRANJA (dejanski stroški/ pavšalna stopnja) | D32: VRSTA STROŠKA | E32: SKUPNI STROŠKI Z DDV (EUR) | F32: SKUPNI STROŠKI BREZ DDV (EUR) | G32: SKUPNI UPRAVIČENI STROŠKI (EUR) | H32: NEUPRAVIČENI STROŠKI (EUR) | I32: ZNESEK SOFINANCIRANJA (EUR) | J32: ODSTOTEK SOFINANCIRANJA | K32: LASTNA UDELEŽBA (EUR)
C33: Dejanski stroški | D33: Izberi | H33: =E33-G33 -> 0 | I33: =G33*J33 -> 0 | J33: =IF(D33="Stroški nakupa/zakupa nepremičnin","65%",IF(D33="Stroški gradnje/obnove nepremičnin","65%",IF(D33="Stroški kmetijske mehanizacije","65%",IF(D33="Stroški opreme in drugih opredmetenih sredstev","80%",IF(D33="Stroški neopredmetenih sredstev","80%",IF(D33="Izberi","0",IF(D33="Stroški storitev zunanjih izvajalcev","80%"))))))) -> 0 | K33: =ROUND((E33-I33),2) -> 0
C34: Dejanski stroški | D34: Izberi | H34: =E34-G34 -> 0 | I34: =G34*J34 -> 0 | J34: =IF(D34="Stroški nakupa/zakupa nepremičnin","65%",IF(D34="Stroški gradnje/obnove nepremičnin","65%",IF(D34="Stroški kmetijske mehanizacije","65%",IF(D34="Stroški opreme in drugih opredmetenih sredstev","80%",IF(D34="Stroški neopredmetenih sredstev","80%",IF(D34="Izberi","0",IF(D34="Stroški storitev zunanjih izvajalcev","80%"))))))) -> 0 | K34: =ROUND((E34-I34),2) -> 0
C35: Dejanski stroški | D35: Izberi | H35: =E35-G35 -> 0 | I35: =G35*J35 -> 0 | J35: =IF(D35="Stroški nakupa/zakupa nepremičnin","65%",IF(D35="Stroški gradnje/obnove nepremičnin","65%",IF(D35="Stroški kmetijske mehanizacije","65%",IF(D35="Stroški opreme in drugih opredmetenih sredstev","80%",IF(D35="Stroški neopredmetenih sredstev","80%",IF(D35="Izberi","0",IF(D35="Stroški storitev zunanjih izvajalcev","80%"))))))) -> 0 | K35: =ROUND((E35-I35),2) -> 0
C36: Dejanski stroški | D36: Izberi | H36: =E36-G36 -> 0 | I36: =G36*J36 -> 0 | J36: =IF(D36="Stroški nakupa/zakupa nepremičnin","65%",IF(D36="Stroški gradnje/obnove nepremičnin","65%",IF(D36="Stroški kmetijske mehanizacije","65%",IF(D36="Stroški opreme in drugih opredmetenih sredstev","80%",IF(D36="Stroški neopredmetenih sredstev","80%",IF(D36="Izberi","0",IF(D36="Stroški storitev zunanjih izvajalcev","80%"))))))) -> 0 | K36: =ROUND((E36-I36),2) -> 0
C37: Dejanski stroški | D37: Izberi | H37: =E37-G37 -> 0 | I37: =G37*J37 -> 0 | J37: =IF(D37="Stroški nakupa/zakupa nepremičnin","65%",IF(D37="Stroški gradnje/obnove nepremičnin","65%",IF(D37="Stroški kmetijske mehanizacije","65%",IF(D37="Stroški opreme in drugih opredmetenih sredstev","80%",IF(D37="Stroški neopredmetenih sredstev","80%",IF(D37="Izberi","0",IF(D37="Stroški storitev zunanjih izvajalcev","80%"))))))) -> 0 | K37: =ROUND((E37-I37),2) -> 0
C38: Dejanski stroški | D38: Izberi | H38: =E38-G38 -> 0 | I38: =G38*J38 -> 0 | J38: =IF(D38="Stroški nakupa/zakupa nepremičnin","65%",IF(D38="Stroški gradnje/obnove nepremičnin","65%",IF(D38="Stroški kmetijske mehanizacije","65%",IF(D38="Stroški opreme in drugih opredmetenih sredstev","80%",IF(D38="Stroški neopredmetenih sredstev","80%",IF(D38="Izberi","0",IF(D38="Stroški storitev zunanjih izvajalcev","80%"))))))) -> 0 | K38: =ROUND((E38-I38),2) -> 0
C39: Dejanski stroški | D39: Izberi | H39: =E39-G39 -> 0 | I39: =G39*J39 -> 0 | J39: =IF(D39="Stroški nakupa/zakupa nepremičnin","65%",IF(D39="Stroški gradnje/obnove nepremičnin","65%",IF(D39="Stroški kmetijske mehanizacije","65%",IF(D39="Stroški opreme in drugih opredmetenih sredstev","80%",IF(D39="Stroški neopredmetenih sredstev","80%",IF(D39="Izberi","0",IF(D39="Stroški storitev zunanjih izvajalcev","80%"))))))) -> 0 | K39: =ROUND((E39-I39),2) -> 0
C40: Dejanski stroški | D40: Izberi | H40: =E40-G40 -> 0 | I40: =G40*J40 -> 0 | J40: =IF(D40="Stroški nakupa/zakupa nepremičnin","65%",IF(D40="Stroški gradnje/obnove nepremičnin","65%",IF(D40="Stroški kmetijske mehanizacije","65%",IF(D40="Stroški opreme in drugih opredmetenih sredstev","80%",IF(D40="Stroški neopredmetenih sredstev","80%",IF(D40="Izberi","0",IF(D40="Stroški storitev zunanjih izvajalcev","80%"))))))) -> 0 | K40: =ROUND((E40-I40),2) -> 0
C41: Dejanski stroški | D41: Izberi | H41: =E41-G41 -> 0 | I41: =G41*J41 -> 0 | J41: =IF(D41="Stroški nakupa/zakupa nepremičnin","65%",IF(D41="Stroški gradnje/obnove nepremičnin","65%",IF(D41="Stroški kmetijske mehanizacije","65%",IF(D41="Stroški opreme in drugih opredmetenih sredstev","80%",IF(D41="Stroški neopredmetenih sredstev","80%",IF(D41="Izberi","0",IF(D41="Stroški storitev zunanjih izvajalcev","80%"))))))) -> 0 | K41: =ROUND((E41-I41),2) -> 0
C42: Dejanski stroški | D42: Izberi | H42: =E42-G42 -> 0 | I42: =G42*J42 -> 0 | J42: =IF(D42="Stroški nakupa/zakupa nepremičnin","65%",IF(D42="Stroški gradnje/obnove nepremičnin","65%",IF(D42="Stroški kmetijske mehanizacije","65%",IF(D42="Stroški opreme in drugih opredmetenih sredstev","80%",IF(D42="Stroški neopredmetenih sredstev","80%",IF(D42="Izberi","0",IF(D42="Stroški storitev zunanjih izvajalcev","80%"))))))) -> 0 | K42: =ROUND((E42-I42),2) -> 0
C43: Dejanski stroški | D43: Izberi | H43: =E43-G43 -> 0 | I43: =G43*J43 -> 0 | J43: =IF(D43="Stroški nakupa/zakupa nepremičnin","65%",IF(D43="Stroški gradnje/obnove nepremičnin","65%",IF(D43="Stroški kmetijske mehanizacije","65%",IF(D43="Stroški opreme in drugih opredmetenih sredstev","80%",IF(D43="Stroški neopredmetenih sredstev","80%",IF(D43="Izberi","0",IF(D43="Stroški storitev zunanjih izvajalcev","80%"))))))) -> 0 | K43: =ROUND((E43-I43),2) -> 0
C44: Dejanski stroški | D44: Izberi | H44: =E44-G44 -> 0 | I44: =G44*J44 -> 0 | J44: =IF(D44="Stroški nakupa/zakupa nepremičnin","65%",IF(D44="Stroški gradnje/obnove nepremičnin","65%",IF(D44="Stroški kmetijske mehanizacije","65%",IF(D44="Stroški opreme in drugih opredmetenih sredstev","80%",IF(D44="Stroški neopredmetenih sredstev","80%",IF(D44="Izberi","0",IF(D44="Stroški storitev zunanjih izvajalcev","80%"))))))) -> 0 | K44: =ROUND((E44-I44),2) -> 0
... C52: Dejanski stroški | D52: Izberi | H52: =E52-G52 -> 0 | I52: =G52*J52 -> 0 | J52: =IF(D52="Stroški nakupa/zakupa nepremičnin","65%",IF(D52="Stroški gradnje/obnove nepremičnin","65%",IF(D52="Stroški kmetijske mehanizacije","65%",IF(D52="Stroški opreme in drugih opredmetenih sredstev","80%",IF(D52="Stroški neopredmetenih sredstev","80%",IF(D52="Izberi","0",IF(D52="Stroški storitev zunanjih izvajalcev","80%"))))))) -> 0 | K52: =ROUND((E52-I52),2) -> 0
C53: Pavšalna stopnja | D53: Stroški osebja (pri stopnji financiranja 65%) | E53: =(G53) -> 0 | F53: =(G53) -> 0 | G53: =SUMIFS($G$33:$G$52,$J$33:$J$52,"65%")*0.2 -> 0 | H53: 0 | I53: =G53*0.65 -> 0 | K53: =ROUND((E53-I53),2) -> 0
C54: Pavšalna stopnja | D54: Stroški osebja (pri stopnji financiranja 80%) | E54: =(G54) -> 0 | F54: =(G54) -> 0 | G54: =SUMIFS($G$33:$G$52,$J$33:$J$52,"80%")*0.2 -> 0 | H54: 0 | I54: =G54*0.8 -> 0 | K54: =ROUND((E54-I54),2) -> 0
C55: Pavšalna stopnja | D55: Stroški osebja (skupaj) | E55: =E53+E54 -> 0 | F55: =F53+F54 -> 0 | G55: =SUM(G53+G54) -> 0 | H55: 0 | I55: =SUM(I54+I53) -> 0
D56: SKUPAJ | E56: =SUM(E33:E52,E55) -> 0 | F56: =SUM(F33:F52,F55) -> 0 | G56: =SUM(G33:G52,G55) -> 0 | H56: =SUM(H33:H52,H55) -> 0 | I56: =SUM(I33:I52,I55) -> 0 | K56: =ROUND((E56-I56),2) -> 0
C61: VREDNOST PROJEKTA - VODILNI PARTNER
C62: SKUPNI STROŠKI Z DDV (EUR) | D62: SKUPNI STROŠKI BREZ DDV (EUR) | E62: SKUPNI UPRAVIČENI STROŠKI (EUR) | F62: SKUPNI UPRAVIČENI DEJANSKI STROŠKI | G62: SKUPNI UPRAVIČENI STROŠKI OSEBJA (PAVŠAL) | H62: NEUPRAVIČENI STROŠKI (EUR) | I62: ZNESEK SOFINANCIRANJA (EUR) | K62: LASTNA UDELEŽBA (EUR)
...

Sheet Partner 1
B1: "Finančni načrt - INVESTICIJSKI PROJEKT" | J1: 1. JAVNI POZIV LAS ZELENA ISTRA (EKSRP)
B4: NAZIV PARTNERJA 1:
B5: AKTIVNOST (1. FAZA) | C5: OBLIKA FINANCIRANJA (dejanski stroški/ pavšalna stopnja) | D5: VRSTA STROŠKA | E5: SKUPNI STROŠKI Z DDV (EUR) | F5: SKUPNI STROŠKI BREZ DDV (EUR) | G5: SKUPNI UPRAVIČENI STROŠKI (EUR) | H5: NEUPRAVIČENI STROŠKI (EUR) | I5: ZNESEK SOFINANCIRANJA (EUR) | J5: ODSTOTEK SOFINANCIRANJA | K5: LASTNA UDELEŽBA (EUR)
C6: Dejanski stroški | D6: Izberi | H6: =E6-G6 -> 0 | I6: =G6*J6 -> 0 | J6: =IF(D6="Stroški nakupa/zakupa nepremičnin","65%",IF(D6="Stroški gradnje/obnove nepremičnin","65%",IF(D6="Stroški kmetijske mehanizacije","65%",IF(D6="Stroški opreme in drugih opredmetenih sredstev","80%",IF(D6="Stroški neopredmetenih sredstev","80%",IF(D6="Izberi","0",IF(D6="Stroški storitev zunanjih izvajalcev","80%"))))))) -> 0 | K6: =ROUND((E6-I6),2) -> 0
C7: Dejanski stroški | D7: Izberi | H7: =E7-G7 -> 0 | I7: =G7*J7 -> 0 | J7: =IF(D7="Stroški nakupa/zakupa nepremičnin","65%",IF(D7="Stroški gradnje/obnove nepremičnin","65%",IF(D7="Stroški kmetijske mehanizacije","65%",IF(D7="Stroški opreme in drugih opredmetenih sredstev","80%",IF(D7="Stroški neopredmetenih sredstev","80%",IF(D7="Izberi","0",IF(D7="Stroški storitev zunanjih izvajalcev","80%"))))))) -> 0 | K7: =ROUND((E7-I7),2) -> 0
C8: Dejanski stroški | D8: Izberi | H8: =E8-G8 -> 0 | I8: =G8*J8 -> 0 | J8: =IF(D8="Stroški nakupa/zakupa nepremičnin","65%",IF(D8="Stroški gradnje/obnove nepremičnin","65%",IF(D8="Stroški kmetijske mehanizacije","65%",IF(D8="Stroški opreme in drugih opredmetenih sredstev","80%",IF(D8="Stroški neopredmetenih sredstev","80%",IF(D8="Izberi","0",IF(D8="Stroški storitev zunanjih izvajalcev","80%"))))))) -> 0 | K8: =ROUND((E8-I8),2) -> 0
C9: Dejanski stroški | D9: Izberi | H9: =E9-G9 -> 0 | I9: =G9*J9 -> 0 | J9: =IF(D9="Stroški nakupa/zakupa nepremičnin","65%",IF(D9="Stroški gradnje/obnove nepremičnin","65%",IF(D9="Stroški kmetijske mehanizacije","65%",IF(D9="Stroški opreme in drugih opredmetenih sredstev","80%",IF(D9="Stroški neopredmetenih sredstev","80%",IF(D9="Izberi","0",IF(D9="Stroški storitev zunanjih izvajalcev","80%"))))))) -> 0 | K9: =ROUND((E9-I9),2) -> 0
C10: Dejanski stroški | D10: Izberi | H10: =E10-G10 -> 0 | I10: =G10*J10 -> 0 | J10: =IF(D10="Stroški nakupa/zakupa nepremičnin","65%",IF(D10="Stroški gradnje/obnove nepremičnin","65%",IF(D10="Stroški kmetijske mehanizacije","65%",IF(D10="Stroški opreme in drugih opredmetenih sredstev","80%",IF(D10="Stroški neopredmetenih sredstev","80%",IF(D10="Izberi","0",IF(D10="Stroški storitev zunanjih izvajalcev","80%"))))))) -> 0 | K10: =ROUND((E10-I10),2) -> 0
C11: Dejanski stroški | D11: Izberi | H11: =E11-G11 -> 0 | I11: =G11*J11 -> 0 | J11: =IF(D11="Stroški nakupa/zakupa nepremičnin","65%",IF(D11="Stroški gradnje/obnove nepremičnin","65%",IF(D11="Stroški kmetijske mehanizacije","65%",IF(D11="Stroški opreme in drugih opredmetenih sredstev","80%",IF(D11="Stroški neopredmetenih sredstev","80%",IF(D11="Izberi","0",IF(D11="Stroški storitev zunanjih izvajalcev","80%"))))))) -> 0 | K11: =ROUND((E11-I11),2) -> 0
C12: Dejanski stroški | D12: Izberi | H12: =E12-G12 -> 0 | I12: =G12*J12 -> 0 | J12: =IF(D12="Stroški nakupa/zakupa nepremičnin","65%",IF(D12="Stroški gradnje/obnove nepremičnin","65%",IF(D12="Stroški kmetijske mehanizacije","65%",IF(D12="Stroški opreme in drugih opredmetenih sredstev","80%",IF(D12="Stroški neopredmetenih sredstev","80%",IF(D12="Izberi","0",IF(D12="Stroški storitev zunanjih izvajalcev","80%"))))))) -> 0 | K12: =ROUND((E12-I12),2) -> 0
C13: Dejanski stroški | D13: Izberi | H13: =E13-G13 -> 0 | I13: =G13*J13 -> 0 | J13: =IF(D13="Stroški nakupa/zakupa nepremičnin","65%",IF(D13="Stroški gradnje/obnove nepremičnin","65%",IF(D13="Stroški kmetijske mehanizacije","65%",IF(D13="Stroški opreme in drugih opredmetenih sredstev","80%",IF(D13="Stroški neopredmetenih sredstev","80%",IF(D13="Izberi","0",IF(D13="Stroški storitev zunanjih izvajalcev","80%"))))))) -> 0 | K13: =ROUND((E13-I13),2) -> 0
C14: Dejanski stroški | D14: Izberi | H14: =E14-G14 -> 0 | I14: =G14*J14 -> 0 | J14: =IF(D14="Stroški nakupa/zakupa nepremičnin","65%",IF(D14="Stroški gradnje/obnove nepremičnin","65%",IF(D14="Stroški kmetijske mehanizacije","65%",IF(D14="Stroški opreme in drugih opredmetenih sredstev","80%",IF(D14="Stroški neopredmetenih sredstev","80%",IF(D14="Izberi","0",IF(D14="Stroški storitev zunanjih izvajalcev","80%"))))))) -> 0 | K14: =ROUND((E14-I14),2) -> 0
C15: Dejanski stroški | D15: Izberi | H15: =E15-G15 -> 0 | I15: =G15*J15 -> 0 | J15: =IF(D15="Stroški nakupa/zakupa nepremičnin","65%",IF(D15="Stroški gradnje/obnove nepremičnin","65%",IF(D15="Stroški kmetijske mehanizacije","65%",IF(D15="Stroški opreme in drugih opredmetenih sredstev","80%",IF(D15="Stroški neopredmetenih sredstev","80%",IF(D15="Izberi","0",IF(D15="Stroški storitev zunanjih izvajalcev","80%"))))))) -> 0 | K15: =ROUND((E15-I15),2) -> 0
C16: Dejanski stroški | D16: Izberi | H16: =E16-G16 -> 0 | I16: =G16*J16 -> 0 | J16: =IF(D16="Stroški nakupa/zakupa nepremičnin","65%",IF(D16="Stroški gradnje/obnove nepremičnin","65%",IF(D16="Stroški kmetijske mehanizacije","65%",IF(D16="Stroški opreme in drugih opredmetenih sredstev","80%",IF(D16="Stroški neopredmetenih sredstev","80%",IF(D16="Izberi","0",IF(D16="Stroški storitev zunanjih izvajalcev","80%"))))))) -> 0 | K16: =ROUND((E16-I16),2) -> 0
C17: Dejanski stroški | D17: Izberi | H17: =E17-G17 -> 0 | I17: =G17*J17 -> 0 | J17: =IF(D17="Stroški nakupa/zakupa nepremičnin","65%",IF(D17="Stroški gradnje/obnove nepremičnin","65%",IF(D17="Stroški kmetijske mehanizacije","65%",IF(D17="Stroški opreme in drugih opredmetenih sredstev","80%",IF(D17="Stroški neopredmetenih sredstev","80%",IF(D17="Izberi","0",IF(D17="Stroški storitev zunanjih izvajalcev","80%"))))))) -> 0 | K17: =ROUND((E17-I17),2) -> 0
... C25: Dejanski stroški | D25: Izberi | H25: =E25-G25 -> 0 | I25: =G25*J25 -> 0 | J25: =IF(D25="Stroški nakupa/zakupa nepremičnin","65%",IF(D25="Stroški gradnje/obnove nepremičnin","65%",IF(D25="Stroški kmetijske mehanizacije","65%",IF(D25="Stroški opreme in drugih opredmetenih sredstev","80%",IF(D25="Stroški neopredmetenih sredstev","80%",IF(D25="Izberi","0",IF(D25="Stroški storitev zunanjih izvajalcev","80%"))))))) -> 0 | K25: =ROUND((E25-I25),2) -> 0
C26: Pavšalna stopnja | D26: Stroški osebja (pri stopnji financiranja 65%) | E26: =(G26) -> 0 | F26: =(G26) -> 0 | G26: =SUMIFS($G$6:$G$25,$J$6:$J$25,"65%")*0.2 -> 0 | H26: 0 | I26: =G26*0.65 -> 0 | K26: =ROUND((E26-I26),2) -> 0
C27: Pavšalna stopnja | D27: Stroški osebja (pri stopnji financiranja 80%) | E27: =(G27) -> 0 | F27: =(G27) -> 0 | G27: =SUMIFS($G$6:$G$25,$J$6:$J$25,"80%")*0.2 -> 0 | H27: 0 | I27: =G27*0.8 -> 0 | K27: =ROUND((E27-I27),2) -> 0
C28: Pavšalna stopnja | D28: Stroški osebja (skupaj) | E28: =E26+E27 -> 0 | F28: =F26+F27 -> 0 | G28: =SUM(G26+G27) -> 0 | H28: 0 | I28: =SUM(I27+I26) -> 0
D29: SKUPAJ | E29: =SUM(E6:E25,E28) -> 0 | F29: =SUM(F6:F25,F28) -> 0 | G29: =SUM(G6:G25,G28) -> 0 | H29: =SUM(H6:H25,H28) -> 0 | I29: =SUM(I6:I25,I28) -> 0 | K29: =ROUND((E29-I29),2) -> 0
B32: AKTIVNOST (2. FAZA) | C32: OBLIKA FINANCIRANJA (dejanski stroški/ pavšalna stopnja) | D32: VRSTA STROŠKA | E32: SKUPNI STROŠKI Z DDV (EUR) | F32: SKUPNI STROŠKI BREZ DDV (EUR) | G32: SKUPNI UPRAVIČENI STROŠKI (EUR) | H32: NEUPRAVIČENI STROŠKI (EUR) | I32: ZNESEK SOFINANCIRANJA (EUR) | J32: ODSTOTEK SOFINANCIRANJA | K32: LASTNA UDELEŽBA (EUR)
C33: Dejanski stroški | D33: Izberi | H33: =E33-G33 -> 0 | I33: =G33*J33 -> 0 | J33: =IF(D33="Stroški nakupa/zakupa nepremičnin","65%",IF(D33="Stroški gradnje/obnove nepremičnin","65%",IF(D33="Stroški kmetijske mehanizacije","65%",IF(D33="Stroški opreme in drugih opredmetenih sredstev","80%",IF(D33="Stroški neopredmetenih sredstev","80%",IF(D33="Izberi","0",IF(D33="Stroški storitev zunanjih izvajalcev","80%"))))))) -> 0 | K33: =ROUND((E33-I33),2) -> 0
C34: Dejanski stroški | D34: Izberi | H34: =E34-G34 -> 0 | I34: =G34*J34 -> 0 | J34: =IF(D34="Stroški nakupa/zakupa nepremičnin","65%",IF(D34="Stroški gradnje/obnove nepremičnin","65%",IF(D34="Stroški kmetijske mehanizacije","65%",IF(D34="Stroški opreme in drugih opredmetenih sredstev","80%",IF(D34="Stroški neopredmetenih sredstev","80%",IF(D34="Izberi","0",IF(D34="Stroški storitev zunanjih izvajalcev","80%"))))))) -> 0 | K34: =ROUND((E34-I34),2) -> 0
C35: Dejanski stroški | D35: Izberi | H35: =E35-G35 -> 0 | I35: =G35*J35 -> 0 | J35: =IF(D35="Stroški nakupa/zakupa nepremičnin","65%",IF(D35="Stroški gradnje/obnove nepremičnin","65%",IF(D35="Stroški kmetijske mehanizacije","65%",IF(D35="Stroški opreme in drugih opredmetenih sredstev","80%",IF(D35="Stroški neopredmetenih sredstev","80%",IF(D35="Izberi","0",IF(D35="Stroški storitev zunanjih izvajalcev","80%"))))))) -> 0 | K35: =ROUND((E35-I35),2) -> 0
C36: Dejanski stroški | D36: Izberi | H36: =E36-G36 -> 0 | I36: =G36*J36 -> 0 | J36: =IF(D36="Stroški nakupa/zakupa nepremičnin","65%",IF(D36="Stroški gradnje/obnove nepremičnin","65%",IF(D36="Stroški kmetijske mehanizacije","65%",IF(D36="Stroški opreme in drugih opredmetenih sredstev","80%",IF(D36="Stroški neopredmetenih sredstev","80%",IF(D36="Izberi","0",IF(D36="Stroški storitev zunanjih izvajalcev","80%"))))))) -> 0 | K36: =ROUND((E36-I36),2) -> 0
C37: Dejanski stroški | D37: Izberi | H37: =E37-G37 -> 0 | I37: =G37*J37 -> 0 | J37: =IF(D37="Stroški nakupa/zakupa nepremičnin","65%",IF(D37="Stroški gradnje/obnove nepremičnin","65%",IF(D37="Stroški kmetijske mehanizacije","65%",IF(D37="Stroški opreme in drugih opredmetenih sredstev","80%",IF(D37="Stroški neopredmetenih sredstev","80%",IF(D37="Izberi","0",IF(D37="Stroški storitev zunanjih izvajalcev","80%"))))))) -> 0 | K37: =ROUND((E37-I37),2) -> 0
C38: Dejanski stroški | D38: Izberi | H38: =E38-G38 -> 0 | I38: =G38*J38 -> 0 | J38: =IF(D38="Stroški nakupa/zakupa nepremičnin","65%",IF(D38="Stroški gradnje/obnove nepremičnin","65%",IF(D38="Stroški kmetijske mehanizacije","65%",IF(D38="Stroški opreme in drugih opredmetenih sredstev","80%",IF(D38="Stroški neopredmetenih sredstev","80%",IF(D38="Izberi","0",IF(D38="Stroški storitev zunanjih izvajalcev","80%"))))))) -> 0 | K38: =ROUND((E38-I38),2) -> 0
C39: Dejanski stroški | D39: Izberi | H39: =E39-G39 -> 0 | I39: =G39*J39 -> 0 | J39: =IF(D39="Stroški nakupa/zakupa nepremičnin","65%",IF(D39="Stroški gradnje/obnove nepremičnin","65%",IF(D39="Stroški kmetijske mehanizacije","65%",IF(D39="Stroški opreme in drugih opredmetenih sredstev","80%",IF(D39="Stroški neopredmetenih sredstev","80%",IF(D39="Izberi","0",IF(D39="Stroški storitev zunanjih izvajalcev","80%"))))))) -> 0 | K39: =ROUND((E39-I39),2) -> 0
C40: Dejanski stroški | D40: Izberi | H40: =E40-G40 -> 0 | I40: =G40*J40 -> 0 | J40: =IF(D40="Stroški nakupa/zakupa nepremičnin","65%",IF(D40="Stroški gradnje/obnove nepremičnin","65%",IF(D40="Stroški kmetijske mehanizacije","65%",IF(D40="Stroški opreme in drugih opredmetenih sredstev","80%",IF(D40="Stroški neopredmetenih sredstev","80%",IF(D40="Izberi","0",IF(D40="Stroški storitev zunanjih izvajalcev","80%"))))))) -> 0 | K40: =ROUND((E40-I40),2) -> 0
C41: Dejanski stroški | D41: Izberi | H41: =E41-G41 -> 0 | I41: =G41*J41 -> 0 | J41: =IF(D41="Stroški nakupa/zakupa nepremičnin","65%",IF(D41="Stroški gradnje/obnove nepremičnin","65%",IF(D41="Stroški kmetijske mehanizacije","65%",IF(D41="Stroški opreme in drugih opredmetenih sredstev","80%",IF(D41="Stroški neopredmetenih sredstev","80%",IF(D41="Izberi","0",IF(D41="Stroški storitev zunanjih izvajalcev","80%"))))))) -> 0 | K41: =ROUND((E41-I41),2) -> 0
C42: Dejanski stroški | D42: Izberi | H42: =E42-G42 -> 0 | I42: =G42*J42 -> 0 | J42: =IF(D42="Stroški nakupa/zakupa nepremičnin","65%",IF(D42="Stroški gradnje/obnove nepremičnin","65%",IF(D42="Stroški kmetijske mehanizacije","65%",IF(D42="Stroški opreme in drugih opredmetenih sredstev","80%",IF(D42="Stroški neopredmetenih sredstev","80%",IF(D42="Izberi","0",IF(D42="Stroški storitev zunanjih izvajalcev","80%"))))))) -> 0 | K42: =ROUND((E42-I42),2) -> 0
C43: Dejanski stroški | D43: Izberi | H43: =E43-G43 -> 0 | I43: =G43*J43 -> 0 | J43: =IF(D43="Stroški nakupa/zakupa nepremičnin","65%",IF(D43="Stroški gradnje/obnove nepremičnin","65%",IF(D43="Stroški kmetijske mehanizacije","65%",IF(D43="Stroški opreme in drugih opredmetenih sredstev","80%",IF(D43="Stroški neopredmetenih sredstev","80%",IF(D43="Izberi","0",IF(D43="Stroški storitev zunanjih izvajalcev","80%"))))))) -> 0 | K43: =ROUND((E43-I43),2) -> 0
C44: Dejanski stroški | D44: Izberi | H44: =E44-G44 -> 0 | I44: =G44*J44 -> 0 | J44: =IF(D44="Stroški nakupa/zakupa nepremičnin","65%",IF(D44="Stroški gradnje/obnove nepremičnin","65%",IF(D44="Stroški kmetijske mehanizacije","65%",IF(D44="Stroški opreme in drugih opredmetenih sredstev","80%",IF(D44="Stroški neopredmetenih sredstev","80%",IF(D44="Izberi","0",IF(D44="Stroški storitev zunanjih izvajalcev","80%"))))))) -> 0 | K44: =ROUND((E44-I44),2) -> 0
... C52: Dejanski stroški | D52: Izberi | H52: =E52-G52 -> 0 | I52: =G52*J52 -> 0 | J52: =IF(D52="Stroški nakupa/zakupa nepremičnin","65%",IF(D52="Stroški gradnje/obnove nepremičnin","65%",IF(D52="Stroški kmetijske mehanizacije","65%",IF(D52="Stroški opreme in drugih opredmetenih sredstev","80%",IF(D52="Stroški neopredmetenih sredstev","80%",IF(D52="Izberi","0",IF(D52="Stroški storitev zunanjih izvajalcev","80%"))))))) -> 0 | K52: =ROUND((E52-I52),2) -> 0
C53: Pavšalna stopnja | D53: Stroški osebja (pri stopnji financiranja 65%) | E53: =(G53) -> 0 | F53: =(G53) -> 0 | G53: =SUMIFS($G$33:$G$52,$J$33:$J$52,"65%")*0.2 -> 0 | H53: 0 | I53: =G53*0.65 -> 0 | K53: =ROUND((E53-I53),2) -> 0
C54: Pavšalna stopnja | D54: Stroški osebja (pri stopnji financiranja 80%) | E54: =(G54) -> 0 | F54: =(G54) -> 0 | G54: =SUMIFS($G$33:$G$52,$J$33:$J$52,"80%")*0.2 -> 0 | H54: 0 | I54: =G54*0.8 -> 0 | K54: =ROUND((E54-I54),2) -> 0
C55: Pavšalna stopnja | D55: Stroški osebja (skupaj) | E55: =E53+E54 -> 0 | F55: =F53+F54 -> 0 | G55: =SUM(G53+G54) -> 0 | H55: 0 | I55: =SUM(I54+I53) -> 0
D56: SKUPAJ | E56: =SUM(E33:E52,E55) -> 0 | F56: =SUM(F33:F52,F55) -> 0 | G56: =SUM(G33:G52,G55) -> 0 | H56: =SUM(H33:H52,H55) -> 0 | I56: =SUM(I33:I52,I55) -> 0 | K56: =ROUND((E56-I56),2) -> 0
C61: VREDNOST PROJEKTA - PARTNER 1
C62: SKUPNI STROŠKI Z DDV (EUR) | D62: SKUPNI STROŠKI BREZ DDV (EUR) | E62: SKUPNI UPRAVIČENI STROŠKI (EUR) | F62: SKUPNI UPRAVIČENI DEJANSKI STROŠKI | G62: SKUPNI UPRAVIČENI STROŠKI OSEBJA (PAVŠAL) | H62: NEUPRAVIČENI STROŠKI (EUR) | I62: ZNESEK SOFINANCIRANJA (EUR) | K62: LASTNA UDELEŽBA (EUR)
...

Sheet Partner 2
B1: "Finančni načrt - INVESTICIJSKI PROJEKT" | J1: 1. JAVNI POZIV LAS ZELENA ISTRA (EKSRP)
B4: NAZIV PARTNERJA 2:
B5: AKTIVNOST (1. FAZA) | C5: OBLIKA FINANCIRANJA (dejanski stroški/ pavšalna stopnja) | D5: VRSTA STROŠKA | E5: SKUPNI STROŠKI Z DDV (EUR) | F5: SKUPNI STROŠKI BREZ DDV (EUR) | G5: SKUPNI UPRAVIČENI STROŠKI (EUR) | H5: NEUPRAVIČENI STROŠKI (EUR) | I5: ZNESEK SOFINANCIRANJA (EUR) | J5: ODSTOTEK SOFINANCIRANJA | K5: LASTNA UDELEŽBA (EUR)
C6: Dejanski stroški | D6: Izberi | H6: =E6-G6 -> 0 | I6: =G6*J6 -> 0 | J6: =IF(D6="Stroški nakupa/zakupa nepremičnin","65%",IF(D6="Stroški gradnje/obnove nepremičnin","65%",IF(D6="Stroški kmetijske mehanizacije","65%",IF(D6="Stroški opreme in drugih opredmetenih sredstev","80%",IF(D6="Stroški neopredmetenih sredstev","80%",IF(D6="Izberi","0",IF(D6="Stroški storitev zunanjih izvajalcev","80%"))))))) -> 0 | K6: =ROUND((E6-I6),2) -> 0
C7: Dejanski stroški | D7: Izberi | H7: =E7-G7 -> 0 | I7: =G7*J7 -> 0 | J7: =IF(D7="Stroški nakupa/zakupa nepremičnin","65%",IF(D7="Stroški gradnje/obnove nepremičnin","65%",IF(D7="Stroški kmetijske mehanizacije","65%",IF(D7="Stroški opreme in drugih opredmetenih sredstev","80%",IF(D7="Stroški neopredmetenih sredstev","80%",IF(D7="Izberi","0",IF(D7="Stroški storitev zunanjih izvajalcev","80%"))))))) -> 0 | K7: =ROUND((E7-I7),2) -> 0
C8: Dejanski stroški | D8: Izberi | H8: =E8-G8 -> 0 | I8: =G8*J8 -> 0 | J8: =IF(D8="Stroški nakupa/zakupa nepremičnin","65%",IF(D8="Stroški gradnje/obnove nepremičnin","65%",IF(D8="Stroški kmetijske mehanizacije","65%",IF(D8="Stroški opreme in drugih opredmetenih sredstev","80%",IF(D8="Stroški neopredmetenih sredstev","80%",IF(D8="Izberi","0",IF(D8="Stroški storitev zunanjih izvajalcev","80%"))))))) -> 0 | K8: =ROUND((E8-I8),2) -> 0
C9: Dejanski stroški | D9: Izberi | H9: =E9-G9 -> 0 | I9: =G9*J9 -> 0 | J9: =IF(D9="Stroški nakupa/zakupa nepremičnin","65%",IF(D9="Stroški gradnje/obnove nepremičnin","65%",IF(D9="Stroški kmetijske mehanizacije","65%",IF(D9="Stroški opreme in drugih opredmetenih sredstev","80%",IF(D9="Stroški neopredmetenih sredstev","80%",IF(D9="Izberi","0",IF(D9="Stroški storitev zunanjih izvajalcev","80%"))))))) -> 0 | K9: =ROUND((E9-I9),2) -> 0
C10: Dejanski stroški | D10: Izberi | H10: =E10-G10 -> 0 | I10: =G10*J10 -> 0 | J10: =IF(D10="Stroški nakupa/zakupa nepremičnin","65%",IF(D10="Stroški gradnje/obnove nepremičnin","65%",IF(D10="Stroški kmetijske mehanizacije","65%",IF(D10="Stroški opreme in drugih opredmetenih sredstev","80%",IF(D10="Stroški neopredmetenih sredstev","80%",IF(D10="Izberi","0",IF(D10="Stroški storitev zunanjih izvajalcev","80%"))))))) -> 0 | K10: =ROUND((E10-I10),2) -> 0
C11: Dejanski stroški | D11: Izberi | H11: =E11-G11 -> 0 | I11: =G11*J11 -> 0 | J11: =IF(D11="Stroški nakupa/zakupa nepremičnin","65%",IF(D11="Stroški gradnje/obnove nepremičnin","65%",IF(D11="Stroški kmetijske mehanizacije","65%",IF(D11="Stroški opreme in drugih opredmetenih sredstev","80%",IF(D11="Stroški neopredmetenih sredstev","80%",IF(D11="Izberi","0",IF(D11="Stroški storitev zunanjih izvajalcev","80%"))))))) -> 0 | K11: =ROUND((E11-I11),2) -> 0
C12: Dejanski stroški | D12: Izberi | H12: =E12-G12 -> 0 | I12: =G12*J12 -> 0 | J12: =IF(D12="Stroški nakupa/zakupa nepremičnin","65%",IF(D12="Stroški gradnje/obnove nepremičnin","65%",IF(D12="Stroški kmetijske mehanizacije","65%",IF(D12="Stroški opreme in drugih opredmetenih sredstev","80%",IF(D12="Stroški neopredmetenih sredstev","80%",IF(D12="Izberi","0",IF(D12="Stroški storitev zunanjih izvajalcev","80%"))))))) -> 0 | K12: =ROUND((E12-I12),2) -> 0
C13: Dejanski stroški | D13: Izberi | H13: =E13-G13 -> 0 | I13: =G13*J13 -> 0 | J13: =IF(D13="Stroški nakupa/zakupa nepremičnin","65%",IF(D13="Stroški gradnje/obnove nepremičnin","65%",IF(D13="Stroški kmetijske mehanizacije","65%",IF(D13="Stroški opreme in drugih opredmetenih sredstev","80%",IF(D13="Stroški neopredmetenih sredstev","80%",IF(D13="Izberi","0",IF(D13="Stroški storitev zunanjih izvajalcev","80%"))))))) -> 0 | K13: =ROUND((E13-I13),2) -> 0
C14: Dejanski stroški | D14: Izberi | H14: =E14-G14 -> 0 | I14: =G14*J14 -> 0 | J14: =IF(D14="Stroški nakupa/zakupa nepremičnin","65%",IF(D14="Stroški gradnje/obnove nepremičnin","65%",IF(D14="Stroški kmetijske mehanizacije","65%",IF(D14="Stroški opreme in drugih opredmetenih sredstev","80%",IF(D14="Stroški neopredmetenih sredstev","80%",IF(D14="Izberi","0",IF(D14="Stroški storitev zunanjih izvajalcev","80%"))))))) -> 0 | K14: =ROUND((E14-I14),2) -> 0
C15: Dejanski stroški | D15: Izberi | H15: =E15-G15 -> 0 | I15: =G15*J15 -> 0 | J15: =IF(D15="Stroški nakupa/zakupa nepremičnin","65%",IF(D15="Stroški gradnje/obnove nepremičnin","65%",IF(D15="Stroški kmetijske mehanizacije","65%",IF(D15="Stroški opreme in drugih opredmetenih sredstev","80%",IF(D15="Stroški neopredmetenih sredstev","80%",IF(D15="Izberi","0",IF(D15="Stroški storitev zunanjih izvajalcev","80%"))))))) -> 0 | K15: =ROUND((E15-I15),2) -> 0
C16: Dejanski stroški | D16: Izberi | H16: =E16-G16 -> 0 | I16: =G16*J16 -> 0 | J16: =IF(D16="Stroški nakupa/zakupa nepremičnin","65%",IF(D16="Stroški gradnje/obnove nepremičnin","65%",IF(D16="Stroški kmetijske mehanizacije","65%",IF(D16="Stroški opreme in drugih opredmetenih sredstev","80%",IF(D16="Stroški neopredmetenih sredstev","80%",IF(D16="Izberi","0",IF(D16="Stroški storitev zunanjih izvajalcev","80%"))))))) -> 0 | K16: =ROUND((E16-I16),2) -> 0
C17: Dejanski stroški | D17: Izberi | H17: =E17-G17 -> 0 | I17: =G17*J17 -> 0 | J17: =IF(D17="Stroški nakupa/zakupa nepremičnin","65%",IF(D17="Stroški gradnje/obnove nepremičnin","65%",IF(D17="Stroški kmetijske mehanizacije","65%",IF(D17="Stroški opreme in drugih opredmetenih sredstev","80%",IF(D17="Stroški neopredmetenih sredstev","80%",IF(D17="Izberi","0",IF(D17="Stroški storitev zunanjih izvajalcev","80%"))))))) -> 0 | K17: =ROUND((E17-I17),2) -> 0
... C25: Dejanski stroški | D25: Izberi | H25: =E25-G25 -> 0 | I25: =G25*J25 -> 0 | J25: =IF(D25="Stroški nakupa/zakupa nepremičnin","65%",IF(D25="Stroški gradnje/obnove nepremičnin","65%",IF(D25="Stroški kmetijske mehanizacije","65%",IF(D25="Stroški opreme in drugih opredmetenih sredstev","80%",IF(D25="Stroški neopredmetenih sredstev","80%",IF(D25="Izberi","0",IF(D25="Stroški storitev zunanjih izvajalcev","80%"))))))) -> 0 | K25: =ROUND((E25-I25),2) -> 0
C26: Pavšalna stopnja | D26: Stroški osebja (pri stopnji financiranja 65%) | E26: =(G26) -> 0 | F26: =(G26) -> 0 | G26: =SUMIFS($G$6:$G$25,$J$6:$J$25,"65%")*0.2 -> 0 | H26: 0 | I26: =G26*0.65 -> 0 | K26: =ROUND((E26-I26),2) -> 0
C27: Pavšalna stopnja | D27: Stroški osebja (pri stopnji financiranja 80%) | E27: =(G27) -> 0 | F27: =(G27) -> 0 | G27: =SUMIFS($G$6:$G$25,$J$6:$J$25,"80%")*0.2 -> 0 | H27: 0 | I27: =G27*0.8 -> 0 | K27: =ROUND((E27-I27),2) -> 0
C28: Pavšalna stopnja | D28: Stroški osebja (skupaj) | E28: =E26+E27 -> 0 | F28: =F26+F27 -> 0 | G28: =SUM(G26+G27) -> 0 | H28: 0 | I28: =SUM(I27+I26) -> 0
D29: SKUPAJ | E29: =SUM(E6:E25,E28) -> 0 | F29: =SUM(F6:F25,F28) -> 0 | G29: =SUM(G6:G25,G28) -> 0 | H29: =SUM(H6:H25,H28) -> 0 | I29: =SUM(I6:I25,I28) -> 0 | K29: =ROUND((E29-I29),2) -> 0
B32: AKTIVNOST (2. FAZA) | C32: OBLIKA FINANCIRANJA (dejanski stroški/ pavšalna stopnja) | D32: VRSTA STROŠKA | E32: SKUPNI STROŠKI Z DDV (EUR) | F32: SKUPNI STROŠKI BREZ DDV (EUR) | G32: SKUPNI UPRAVIČENI STROŠKI (EUR) | H32: NEUPRAVIČENI STROŠKI (EUR) | I32: ZNESEK SOFINANCIRANJA (EUR) | J32: ODSTOTEK SOFINANCIRANJA | K32: LASTNA UDELEŽBA (EUR)
C33: Dejanski stroški | D33: Izberi | H33: =E33-G33 -> 0 | I33: =G33*J33 -> 0 | J33: =IF(D33="Stroški nakupa/zakupa nepremičnin","65%",IF(D33="Stroški gradnje/obnove nepremičnin","65%",IF(D33="Stroški kmetijske mehanizacije","65%",IF(D33="Stroški opreme in drugih opredmetenih sredstev","80%",IF(D33="Stroški neopredmetenih sredstev","80%",IF(D33="Izberi","0",IF(D33="Stroški storitev zunanjih izvajalcev","80%"))))))) -> 0 | K33: =ROUND((E33-I33),2) -> 0
C34: Dejanski stroški | D34: Izberi | H34: =E34-G34 -> 0 | I34: =G34*J34 -> 0 | J34: =IF(D34="Stroški nakupa/zakupa nepremičnin","65%",IF(D34="Stroški gradnje/obnove nepremičnin","65%",IF(D34="Stroški kmetijske mehanizacije","65%",IF(D34="Stroški opreme in drugih opredmetenih sredstev","80%",IF(D34="Stroški neopredmetenih sredstev","80%",IF(D34="Izberi","0",IF(D34="Stroški storitev zunanjih izvajalcev","80%"))))))) -> 0 | K34: =ROUND((E34-I34),2) -> 0
C35: Dejanski stroški | D35: Izberi | H35: =E35-G35 -> 0 | I35: =G35*J35 -> 0 | J35: =IF(D35="Stroški nakupa/zakupa nepremičnin","65%",IF(D35="Stroški gradnje/obnove nepremičnin","65%",IF(D35="Stroški kmetijske mehanizacije","65%",IF(D35="Stroški opreme in drugih opredmetenih sredstev","80%",IF(D35="Stroški neopredmetenih sredstev","80%",IF(D35="Izberi","0",IF(D35="Stroški storitev zunanjih izvajalcev","80%"))))))) -> 0 | K35: =ROUND((E35-I35),2) -> 0
C36: Dejanski stroški | D36: Izberi | H36: =E36-G36 -> 0 | I36: =G36*J36 -> 0 | J36: =IF(D36="Stroški nakupa/zakupa nepremičnin","65%",IF(D36="Stroški gradnje/obnove nepremičnin","65%",IF(D36="Stroški kmetijske mehanizacije","65%",IF(D36="Stroški opreme in drugih opredmetenih sredstev","80%",IF(D36="Stroški neopredmetenih sredstev","80%",IF(D36="Izberi","0",IF(D36="Stroški storitev zunanjih izvajalcev","80%"))))))) -> 0 | K36: =ROUND((E36-I36),2) -> 0
C37: Dejanski stroški | D37: Izberi | H37: =E37-G37 -> 0 | I37: =G37*J37 -> 0 | J37: =IF(D37="Stroški nakupa/zakupa nepremičnin","65%",IF(D37="Stroški gradnje/obnove nepremičnin","65%",IF(D37="Stroški kmetijske mehanizacije","65%",IF(D37="Stroški opreme in drugih opredmetenih sredstev","80%",IF(D37="Stroški neopredmetenih sredstev","80%",IF(D37="Izberi","0",IF(D37="Stroški storitev zunanjih izvajalcev","80%"))))))) -> 0 | K37: =ROUND((E37-I37),2) -> 0
C38: Dejanski stroški | D38: Izberi | H38: =E38-G38 -> 0 | I38: =G38*J38 -> 0 | J38: =IF(D38="Stroški nakupa/zakupa nepremičnin","65%",IF(D38="Stroški gradnje/obnove nepremičnin","65%",IF(D38="Stroški kmetijske mehanizacije","65%",IF(D38="Stroški opreme in drugih opredmetenih sredstev","80%",IF(D38="Stroški neopredmetenih sredstev","80%",IF(D38="Izberi","0",IF(D38="Stroški storitev zunanjih izvajalcev","80%"))))))) -> 0 | K38: =ROUND((E38-I38),2) -> 0
C39: Dejanski stroški | D39: Izberi | H39: =E39-G39 -> 0 | I39: =G39*J39 -> 0 | J39: =IF(D39="Stroški nakupa/zakupa nepremičnin","65%",IF(D39="Stroški gradnje/obnove nepremičnin","65%",IF(D39="Stroški kmetijske mehanizacije","65%",IF(D39="Stroški opreme in drugih opredmetenih sredstev","80%",IF(D39="Stroški neopredmetenih sredstev","80%",IF(D39="Izberi","0",IF(D39="Stroški storitev zunanjih izvajalcev","80%"))))))) -> 0 | K39: =ROUND((E39-I39),2) -> 0
C40: Dejanski stroški | D40: Izberi | H40: =E40-G40 -> 0 | I40: =G40*J40 -> 0 | J40: =IF(D40="Stroški nakupa/zakupa nepremičnin","65%",IF(D40="Stroški gradnje/obnove nepremičnin","65%",IF(D40="Stroški kmetijske mehanizacije","65%",IF(D40="Stroški opreme in drugih opredmetenih sredstev","80%",IF(D40="Stroški neopredmetenih sredstev","80%",IF(D40="Izberi","0",IF(D40="Stroški storitev zunanjih izvajalcev","80%"))))))) -> 0 | K40: =ROUND((E40-I40),2) -> 0
C41: Dejanski stroški | D41: Izberi | H41: =E41-G41 -> 0 | I41: =G41*J41 -> 0 | J41: =IF(D41="Stroški nakupa/zakupa nepremičnin","65%",IF(D41="Stroški gradnje/obnove nepremičnin","65%",IF(D41="Stroški kmetijske mehanizacije","65%",IF(D41="Stroški opreme in drugih opredmetenih sredstev","80%",IF(D41="Stroški neopredmetenih sredstev","80%",IF(D41="Izberi","0",IF(D41="Stroški storitev zunanjih izvajalcev","80%"))))))) -> 0 | K41: =ROUND((E41-I41),2) -> 0
C42: Dejanski stroški | D42: Izberi | H42: =E42-G42 -> 0 | I42: =G42*J42 -> 0 | J42: =IF(D42="Stroški nakupa/zakupa nepremičnin","65%",IF(D42="Stroški gradnje/obnove nepremičnin","65%",IF(D42="Stroški kmetijske mehanizacije","65%",IF(D42="Stroški opreme in drugih opredmetenih sredstev","80%",IF(D42="Stroški neopredmetenih sredstev","80%",IF(D42="Izberi","0",IF(D42="Stroški storitev zunanjih izvajalcev","80%"))))))) -> 0 | K42: =ROUND((E42-I42),2) -> 0
C43: Dejanski stroški | D43: Izberi | H43: =E43-G43 -> 0 | I43: =G43*J43 -> 0 | J43: =IF(D43="Stroški nakupa/zakupa nepremičnin","65%",IF(D43="Stroški gradnje/obnove nepremičnin","65%",IF(D43="Stroški kmetijske mehanizacije","65%",IF(D43="Stroški opreme in drugih opredmetenih sredstev","80%",IF(D43="Stroški neopredmetenih sredstev","80%",IF(D43="Izberi","0",IF(D43="Stroški storitev zunanjih izvajalcev","80%"))))))) -> 0 | K43: =ROUND((E43-I43),2) -> 0
C44: Dejanski stroški | D44: Izberi | H44: =E44-G44 -> 0 | I44: =G44*J44 -> 0 | J44: =IF(D44="Stroški nakupa/zakupa nepremičnin","65%",IF(D44="Stroški gradnje/obnove nepremičnin","65%",IF(D44="Stroški kmetijske mehanizacije","65%",IF(D44="Stroški opreme in drugih opredmetenih sredstev","80%",IF(D44="Stroški neopredmetenih sredstev","80%",IF(D44="Izberi","0",IF(D44="Stroški storitev zunanjih izvajalcev","80%"))))))) -> 0 | K44: =ROUND((E44-I44),2) -> 0
... C52: Dejanski stroški | D52: Izberi | H52: =E52-G52 -> 0 | I52: =G52*J52 -> 0 | J52: =IF(D52="Stroški nakupa/zakupa nepremičnin","65%",IF(D52="Stroški gradnje/obnove nepremičnin","65%",IF(D52="Stroški kmetijske mehanizacije","65%",IF(D52="Stroški opreme in drugih opredmetenih sredstev","80%",IF(D52="Stroški neopredmetenih sredstev","80%",IF(D52="Izberi","0",IF(D52="Stroški storitev zunanjih izvajalcev","80%"))))))) -> 0 | K52: =ROUND((E52-I52),2) -> 0
C53: Pavšalna stopnja | D53: Stroški osebja (pri stopnji financiranja 65%) | E53: =(G53) -> 0 | F53: =(G53) -> 0 | G53: =SUMIFS($G$33:$G$52,$J$33:$J$52,"65%")*0.2 -> 0 | H53: 0 | I53: =G53*0.65 -> 0 | K53: =ROUND((E53-I53),2) -> 0
C54: Pavšalna stopnja | D54: Stroški osebja (pri stopnji financiranja 80%) | E54: =(G54) -> 0 | F54: =(G54) -> 0 | G54: =SUMIFS($G$33:$G$52,$J$33:$J$52,"80%")*0.2 -> 0 | H54: 0 | I54: =G54*0.8 -> 0 | K54: =ROUND((E54-I54),2) -> 0
C55: Pavšalna stopnja | D55: Stroški osebja (skupaj) | E55: =E53+E54 -> 0 | F55: =F53+F54 -> 0 | G55: =SUM(G53+G54) -> 0 | H55: 0 | I55: =SUM(I54+I53) -> 0
D56: SKUPAJ | E56: =SUM(E33:E52,E55) -> 0 | F56: =SUM(F33:F52,F55) -> 0 | G56: =SUM(G33:G52,G55) -> 0 | H56: =SUM(H33:H52,H55) -> 0 | I56: =SUM(I33:I52,I55) -> 0 | K56: =ROUND((E56-I56),2) -> 0
C61: VREDNOST PROJEKTA - PARTNER 2
C62: SKUPNI STROŠKI Z DDV (EUR) | D62: SKUPNI STROŠKI BREZ DDV (EUR) | E62: SKUPNI UPRAVIČENI STROŠKI (EUR) | F62: SKUPNI UPRAVIČENI DEJANSKI STROŠKI | G62: SKUPNI UPRAVIČENI STROŠKI OSEBJA (PAVŠAL) | H62: NEUPRAVIČENI STROŠKI (EUR) | I62: ZNESEK SOFINANCIRANJA (EUR) | K62: LASTNA UDELEŽBA (EUR)
...

Sheet Partner 3
B1: "Finančni načrt - INVESTICIJSKI PROJEKT" | J1: 1. JAVNI POZIV LAS ZELENA ISTRA (EKSRP)
B4: NAZIV PARTNERJA 3:
B5: AKTIVNOST (1. FAZA) | C5: OBLIKA FINANCIRANJA (dejanski stroški/ pavšalna stopnja) | D5: VRSTA STROŠKA | E5: SKUPNI STROŠKI Z DDV (EUR) | F5: SKUPNI STROŠKI BREZ DDV (EUR) | G5: SKUPNI UPRAVIČENI STROŠKI (EUR) | H5: NEUPRAVIČENI STROŠKI (EUR) | I5: ZNESEK SOFINANCIRANJA (EUR) | J5: ODSTOTEK SOFINANCIRANJA | K5: LASTNA UDELEŽBA (EUR)
C6: Dejanski stroški | D6: Izberi | H6: =E6-G6 -> 0 | I6: =G6*J6 -> 0 | J6: =IF(D6="Stroški nakupa/zakupa nepremičnin","65%",IF(D6="Stroški gradnje/obnove nepremičnin","65%",IF(D6="Stroški kmetijske mehanizacije","65%",IF(D6="Stroški opreme in drugih opredmetenih sredstev","80%",IF(D6="Stroški neopredmetenih sredstev","80%",IF(D6="Izberi","0",IF(D6="Stroški storitev zunanjih izvajalcev","80%"))))))) -> 0 | K6: =ROUND((E6-I6),2) -> 0
C7: Dejanski stroški | D7: Izberi | H7: =E7-G7 -> 0 | I7: =G7*J7 -> 0 | J7: =IF(D7="Stroški nakupa/zakupa nepremičnin","65%",IF(D7="Stroški gradnje/obnove nepremičnin","65%",IF(D7="Stroški kmetijske mehanizacije","65%",IF(D7="Stroški opreme in drugih opredmetenih sredstev","80%",IF(D7="Stroški neopredmetenih sredstev","80%",IF(D7="Izberi","0",IF(D7="Stroški storitev zunanjih izvajalcev","80%"))))))) -> 0 | K7: =ROUND((E7-I7),2) -> 0
C8: Dejanski stroški | D8: Izberi | H8: =E8-G8 -> 0 | I8: =G8*J8 -> 0 | J8: =IF(D8="Stroški nakupa/zakupa nepremičnin","65%",IF(D8="Stroški gradnje/obnove nepremičnin","65%",IF(D8="Stroški kmetijske mehanizacije","65%",IF(D8="Stroški opreme in drugih opredmetenih sredstev","80%",IF(D8="Stroški neopredmetenih sredstev","80%",IF(D8="Izberi","0",IF(D8="Stroški storitev zunanjih izvajalcev","80%"))))))) -> 0 | K8: =ROUND((E8-I8),2) -> 0
C9: Dejanski stroški | D9: Izberi | H9: =E9-G9 -> 0 | I9: =G9*J9 -> 0 | J9: =IF(D9="Stroški nakupa/zakupa nepremičnin","65%",IF(D9="Stroški gradnje/obnove nepremičnin","65%",IF(D9="Stroški kmetijske mehanizacije","65%",IF(D9="Stroški opreme in drugih opredmetenih sredstev","80%",IF(D9="Stroški neopredmetenih sredstev","80%",IF(D9="Izberi","0",IF(D9="Stroški storitev zunanjih izvajalcev","80%"))))))) -> 0 | K9: =ROUND((E9-I9),2) -> 0
C10: Dejanski stroški | D10: Izberi | H10: =E10-G10 -> 0 | I10: =G10*J10 -> 0 | J10: =IF(D10="Stroški nakupa/zakupa nepremičnin","65%",IF(D10="Stroški gradnje/obnove nepremičnin","65%",IF(D10="Stroški kmetijske mehanizacije","65%",IF(D10="Stroški opreme in drugih opredmetenih sredstev","80%",IF(D10="Stroški neopredmetenih sredstev","80%",IF(D10="Izberi","0",IF(D10="Stroški storitev zunanjih izvajalcev","80%"))))))) -> 0 | K10: =ROUND((E10-I10),2) -> 0
C11: Dejanski stroški | D11: Izberi | H11: =E11-G11 -> 0 | I11: =G11*J11 -> 0 | J11: =IF(D11="Stroški nakupa/zakupa nepremičnin","65%",IF(D11="Stroški gradnje/obnove nepremičnin","65%",IF(D11="Stroški kmetijske mehanizacije","65%",IF(D11="Stroški opreme in drugih opredmetenih sredstev","80%",IF(D11="Stroški neopredmetenih sredstev","80%",IF(D11="Izberi","0",IF(D11="Stroški storitev zunanjih izvajalcev","80%"))))))) -> 0 | K11: =ROUND((E11-I11),2) -> 0
C12: Dejanski stroški | D12: Izberi | H12: =E12-G12 -> 0 | I12: =G12*J12 -> 0 | J12: =IF(D12="Stroški nakupa/zakupa nepremičnin","65%",IF(D12="Stroški gradnje/obnove nepremičnin","65%",IF(D12="Stroški kmetijske mehanizacije","65%",IF(D12="Stroški opreme in drugih opredmetenih sredstev","80%",IF(D12="Stroški neopredmetenih sredstev","80%",IF(D12="Izberi","0",IF(D12="Stroški storitev zunanjih izvajalcev","80%"))))))) -> 0 | K12: =ROUND((E12-I12),2) -> 0
C13: Dejanski stroški | D13: Izberi | H13: =E13-G13 -> 0 | I13: =G13*J13 -> 0 | J13: =IF(D13="Stroški nakupa/zakupa nepremičnin","65%",IF(D13="Stroški gradnje/obnove nepremičnin","65%",IF(D13="Stroški kmetijske mehanizacije","65%",IF(D13="Stroški opreme in drugih opredmetenih sredstev","80%",IF(D13="Stroški neopredmetenih sredstev","80%",IF(D13="Izberi","0",IF(D13="Stroški storitev zunanjih izvajalcev","80%"))))))) -> 0 | K13: =ROUND((E13-I13),2) -> 0
C14: Dejanski stroški | D14: Izberi | H14: =E14-G14 -> 0 | I14: =G14*J14 -> 0 | J14: =IF(D14="Stroški nakupa/zakupa nepremičnin","65%",IF(D14="Stroški gradnje/obnove nepremičnin","65%",IF(D14="Stroški kmetijske mehanizacije","65%",IF(D14="Stroški opreme in drugih opredmetenih sredstev","80%",IF(D14="Stroški neopredmetenih sredstev","80%",IF(D14="Izberi","0",IF(D14="Stroški storitev zunanjih izvajalcev","80%"))))))) -> 0 | K14: =ROUND((E14-I14),2) -> 0
C15: Dejanski stroški | D15: Izberi | H15: =E15-G15 -> 0 | I15: =G15*J15 -> 0 | J15: =IF(D15="Stroški nakupa/zakupa nepremičnin","65%",IF(D15="Stroški gradnje/obnove nepremičnin","65%",IF(D15="Stroški kmetijske mehanizacije","65%",IF(D15="Stroški opreme in drugih opredmetenih sredstev","80%",IF(D15="Stroški neopredmetenih sredstev","80%",IF(D15="Izberi","0",IF(D15="Stroški storitev zunanjih izvajalcev","80%"))))))) -> 0 | K15: =ROUND((E15-I15),2) -> 0
C16: Dejanski stroški | D16: Izberi | H16: =E16-G16 -> 0 | I16: =G16*J16 -> 0 | J16: =IF(D16="Stroški nakupa/zakupa nepremičnin","65%",IF(D16="Stroški gradnje/obnove nepremičnin","65%",IF(D16="Stroški kmetijske mehanizacije","65%",IF(D16="Stroški opreme in drugih opredmetenih sredstev","80%",IF(D16="Stroški neopredmetenih sredstev","80%",IF(D16="Izberi","0",IF(D16="Stroški storitev zunanjih izvajalcev","80%"))))))) -> 0 | K16: =ROUND((E16-I16),2) -> 0
C17: Dejanski stroški | D17: Izberi | H17: =E17-G17 -> 0 | I17: =G17*J17 -> 0 | J17: =IF(D17="Stroški nakupa/zakupa nepremičnin","65%",IF(D17="Stroški gradnje/obnove nepremičnin","65%",IF(D17="Stroški kmetijske mehanizacije","65%",IF(D17="Stroški opreme in drugih opredmetenih sredstev","80%",IF(D17="Stroški neopredmetenih sredstev","80%",IF(D17="Izberi","0",IF(D17="Stroški storitev zunanjih izvajalcev","80%"))))))) -> 0 | K17: =ROUND((E17-I17),2) -> 0
... C25: Dejanski stroški | D25: Izberi | H25: =E25-G25 -> 0 | I25: =G25*J25 -> 0 | J25: =IF(D25="Stroški nakupa/zakupa nepremičnin","65%",IF(D25="Stroški gradnje/obnove nepremičnin","65%",IF(D25="Stroški kmetijske mehanizacije","65%",IF(D25="Stroški opreme in drugih opredmetenih sredstev","80%",IF(D25="Stroški neopredmetenih sredstev","80%",IF(D25="Izberi","0",IF(D25="Stroški storitev zunanjih izvajalcev","80%"))))))) -> 0 | K25: =ROUND((E25-I25),2) -> 0
C26: Pavšalna stopnja | D26: Stroški osebja (pri stopnji financiranja 65%) | E26: =(G26) -> 0 | F26: =(G26) -> 0 | G26: =SUMIFS($G$6:$G$25,$J$6:$J$25,"65%")*0.2 -> 0 | H26: 0 | I26: =G26*0.65 -> 0 | K26: =ROUND((E26-I26),2) -> 0
C27: Pavšalna stopnja | D27: Stroški osebja (pri stopnji financiranja 80%) | E27: =(G27) -> 0 | F27: =(G27) -> 0 | G27: =SUMIFS($G$6:$G$25,$J$6:$J$25,"80%")*0.2 -> 0 | H27: 0 | I27: =G27*0.8 -> 0 | K27: =ROUND((E27-I27),2) -> 0
C28: Pavšalna stopnja | D28: Stroški osebja (skupaj) | E28: =E26+E27 -> 0 | F28: =F26+F27 -> 0 | G28: =SUM(G26+G27) -> 0 | H28: 0 | I28: =SUM(I27+I26) -> 0
D29: SKUPAJ | E29: =SUM(E6:E25,E28) -> 0 | F29: =SUM(F6:F25,F28) -> 0 | G29: =SUM(G6:G25,G28) -> 0 | H29: =SUM(H6:H25,H28) -> 0 | I29: =SUM(I6:I25,I28) -> 0 | K29: =ROUND((E29-I29),2) -> 0
B32: AKTIVNOST (2. FAZA) | C32: OBLIKA FINANCIRANJA (dejanski stroški/ pavšalna stopnja) | D32: VRSTA STROŠKA | E32: SKUPNI STROŠKI Z DDV (EUR) | F32: SKUPNI STROŠKI BREZ DDV (EUR) | G32: SKUPNI UPRAVIČENI STROŠKI (EUR) | H32: NEUPRAVIČENI STROŠKI (EUR) | I32: ZNESEK SOFINANCIRANJA (EUR) | J32: ODSTOTEK SOFINANCIRANJA | K32: LASTNA UDELEŽBA (EUR)
C33: Dejanski stroški | D33: Izberi | H33: =E33-G33 -> 0 | I33: =G33*J33 -> 0 | J33: =IF(D33="Stroški nakupa/zakupa nepremičnin","65%",IF(D33="Stroški gradnje/obnove nepremičnin","65%",IF(D33="Stroški kmetijske mehanizacije","65%",IF(D33="Stroški opreme in drugih opredmetenih sredstev","80%",IF(D33="Stroški neopredmetenih sredstev","80%",IF(D33="Izberi","0",IF(D33="Stroški storitev zunanjih izvajalcev","80%"))))))) -> 0 | K33: =ROUND((E33-I33),2) -> 0
C34: Dejanski stroški | D34: Izberi | H34: =E34-G34 -> 0 | I34: =G34*J34 -> 0 | J34: =IF(D34="Stroški nakupa/zakupa nepremičnin","65%",IF(D34="Stroški gradnje/obnove nepremičnin","65%",IF(D34="Stroški kmetijske mehanizacije","65%",IF(D34="Stroški opreme in drugih opredmetenih sredstev","80%",IF(D34="Stroški neopredmetenih sredstev","80%",IF(D34="Izberi","0",IF(D34="Stroški storitev zunanjih izvajalcev","80%"))))))) -> 0 | K34: =ROUND((E34-I34),2) -> 0
C35: Dejanski stroški | D35: Izberi | H35: =E35-G35 -> 0 | I35: =G35*J35 -> 0 | J35: =IF(D35="Stroški nakupa/zakupa nepremičnin","65%",IF(D35="Stroški gradnje/obnove nepremičnin","65%",IF(D35="Stroški kmetijske mehanizacije","65%",IF(D35="Stroški opreme in drugih opredmetenih sredstev","80%",IF(D35="Stroški neopredmetenih sredstev","80%",IF(D35="Izberi","0",IF(D35="Stroški storitev zunanjih izvajalcev","80%"))))))) -> 0 | K35: =ROUND((E35-I35),2) -> 0
C36: Dejanski stroški | D36: Izberi | H36: =E36-G36 -> 0 | I36: =G36*J36 -> 0 | J36: =IF(D36="Stroški nakupa/zakupa nepremičnin","65%",IF(D36="Stroški gradnje/obnove nepremičnin","65%",IF(D36="Stroški kmetijske mehanizacije","65%",IF(D36="Stroški opreme in drugih opredmetenih sredstev","80%",IF(D36="Stroški neopredmetenih sredstev","80%",IF(D36="Izberi","0",IF(D36="Stroški storitev zunanjih izvajalcev","80%"))))))) -> 0 | K36: =ROUND((E36-I36),2) -> 0
C37: Dejanski stroški | D37: Izberi | H37: =E37-G37 -> 0 | I37: =G37*J37 -> 0 | J37: =IF(D37="Stroški nakupa/zakupa nepremičnin","65%",IF(D37="Stroški gradnje/obnove nepremičnin","65%",IF(D37="Stroški kmetijske mehanizacije","65%",IF(D37="Stroški opreme in drugih opredmetenih sredstev","80%",IF(D37="Stroški neopredmetenih sredstev","80%",IF(D37="Izberi","0",IF(D37="Stroški storitev zunanjih izvajalcev","80%"))))))) -> 0 | K37: =ROUND((E37-I37),2) -> 0
C38: Dejanski stroški | D38: Izberi | H38: =E38-G38 -> 0 | I38: =G38*J38 -> 0 | J38: =IF(D38="Stroški nakupa/zakupa nepremičnin","65%",IF(D38="Stroški gradnje/obnove nepremičnin","65%",IF(D38="Stroški kmetijske mehanizacije","65%",IF(D38="Stroški opreme in drugih opredmetenih sredstev","80%",IF(D38="Stroški neopredmetenih sredstev","80%",IF(D38="Izberi","0",IF(D38="Stroški storitev zunanjih izvajalcev","80%"))))))) -> 0 | K38: =ROUND((E38-I38),2) -> 0
C39: Dejanski stroški | D39: Izberi | H39: =E39-G39 -> 0 | I39: =G39*J39 -> 0 | J39: =IF(D39="Stroški nakupa/zakupa nepremičnin","65%",IF(D39="Stroški gradnje/obnove nepremičnin","65%",IF(D39="Stroški kmetijske mehanizacije","65%",IF(D39="Stroški opreme in drugih opredmetenih sredstev","80%",IF(D39="Stroški neopredmetenih sredstev","80%",IF(D39="Izberi","0",IF(D39="Stroški storitev zunanjih izvajalcev","80%"))))))) -> 0 | K39: =ROUND((E39-I39),2) -> 0
