Workbook

Sheet SKUPNI
B1: "Finančni načrt - NEINVESTICIJSKI PROJEKT" | H1: 1. JAVNI POZIV LAS ZELENA ISTRA (EKSRP)
B4: NAZIV PROJEKTA:
B5: VODILNI PARTNER/PARTNER | C5: FAZA | D5: VRSTA STROŠKA | F5: SKUPNI UPRAVIČENI STROŠKI (EUR) | G5: ZNESEK SOFINANCIRANJA oz. POGODBENA VREDNOST (EUR) | H5: LASTNA UDELEŽBA (EUR)
B6: VODILNI PARTNER | C6: 1. FAZA | D6: NEPOSREDNI STROŠKI OSEBJA (60%) | F6: =SUM('Vodilni partner'!G7:G26) -> 0 | G6: =SUM('Vodilni partner'!H7:H26) -> 0 | H6: =SUM('Vodilni partner'!J7:J26) -> 0
D7: PAVŠAL - PREOSTALI STROŠKI, KI NISO STROŠKI OSEBJA (40 %) | F7: ='Vodilni partner'!G27 -> 0 | G7: ='Vodilni partner'!H27 -> 0 | H7: ='Vodilni partner'!J27 -> 0
E8: SKUPAJ 1. FAZA | F8: =SUM(F6:F7) -> 0 | G8: =SUM(G6:G7) -> 0 | H8: =SUM(H6:H7) -> 0
C10: 2. FAZA | D10: NEPOSREDNI STROŠKI OSEBJA (60%) | F10: =SUM('Vodilni partner'!G34:G53) -> 0 | G10: =SUM('Vodilni partner'!H34:H53) -> 0 | H10: =SUM('Vodilni partner'!J34:J53) -> 0
D11: PAVŠAL - PREOSTALI STROŠKI, KI NISO STROŠKI OSEBJA (40 %) | F11: ='Vodilni partner'!G54 -> 0 | G11: ='Vodilni partner'!H54 -> 0 | H11: ='Vodilni partner'!J54 -> 0
E12: SKUPAJ 2. FAZA | F12: =SUM(F10:F11) -> 0 | G12: =SUM(G10:G11) -> 0 | H12: =SUM(H10:H11) -> 0
C14: SKUPAJ 1. in 2. FAZA | D14: NEPOSREDNI STROŠKI OSEBJA (60%) | F14: =F6+F10 -> 0 | G14: =G6+G10 -> 0 | H14: =H6+H10 -> 0
D15: PAVŠAL - PREOSTALI STROŠKI, KI NISO STROŠKI OSEBJA (40 %) | F15: =F7+F11 -> 0 | G15: =G7+G11 -> 0 | H15: =H7+H11 -> 0
E16: SKUPAJ | F16: =SUM(F14:F15) -> 0 | G16: =SUM(G14:G15) -> 0 | H16: =SUM(H14:H15) -> 0
B18: PARTNER 1 | C18: 1. FAZA | D18: NEPOSREDNI STROŠKI OSEBJA (60%) | F18: =SUM('Partner 1'!G7:G26) -> 0 | G18: =SUM('Partner 1'!H7:H26) -> 0 | H18: =SUM('Partner 1'!J7:J26) -> 0
D19: PAVŠAL - PREOSTALI STROŠKI, KI NISO STROŠKI OSEBJA (40 %) | F19: ='Partner 1'!G27 -> 0 | G19: ='Partner 1'!H27 -> 0 | H19: ='Partner 1'!J27 -> 0
E20: SKUPAJ 1. FAZA | F20: =SUM(F18:F19) -> 0 | G20: =SUM(G18:G19) -> 0 | H20: =SUM(H18:H19) -> 0
C22: 2. FAZA | D22: NEPOSREDNI STROŠKI OSEBJA (60%) | F22: =SUM('Partner 1'!G34:G53) -> 0 | G22: =SUM('Partner 1'!H34:H53) -> 0 | H22: =SUM('Partner 1'!J34:J53) -> 0
D23: PAVŠAL - PREOSTALI STROŠKI, KI NISO STROŠKI OSEBJA (40 %) | F23: ='Partner 1'!G54 -> 0 | G23: ='Partner 1'!H54 -> 0 | H23: ='Partner 1'!J54 -> 0
E24: SKUPAJ 2. FAZA | F24: =SUM(F22:F23) -> 0 | G24: =SUM(G22:G23) -> 0 | H24: =SUM(H22:H23) -> 0
C26: SKUPAJ 1. in 2. FAZA | D26: NEPOSREDNI STROŠKI OSEBJA (60%) | F26: =F18+F22 -> 0 | G26: =G18+G22 -> 0 | H26: =H18+H22 -> 0
D27: PAVŠAL - PREOSTALI STROŠKI, KI NISO STROŠKI OSEBJA (40 %) | F27: =F19+F23 -> 0 | G27: =G19+G23 -> 0 | H27: =H19+H23 -> 0
E28: SKUPAJ | F28: =SUM(F26:F27) -> 0 | G28: =SUM(G26:G27) -> 0 | H28: =SUM(H26:H27) -> 0
B30: PARTNER 2 | C30: 1. FAZA | D30: NEPOSREDNI STROŠKI OSEBJA (60%) | F30: =SUM('Partner 2'!G7:G26) -> 0 | G30: =SUM('Partner 2'!H7:H26) -> 0 | H30: =SUM('Partner 2'!J7:J26) -> 0
D31: PAVŠAL - PREOSTALI STROŠKI, KI NISO STROŠKI OSEBJA (40 %) | F31: ='Partner 2'!G27 -> 0 | G31: ='Partner 2'!H27 -> 0 | H31: ='Partner 2'!J27 -> 0
E32: SKUPAJ 1. FAZA | F32: =SUM(F30:F31) -> 0 | G32: =SUM(G30:G31) -> 0 | H32: =SUM(H30:H31) -> 0
C34: 2. FAZA | D34: NEPOSREDNI STROŠKI OSEBJA (60%) | F34: =SUM('Partner 2'!G34:G53) -> 0 | G34: =SUM('Partner 2'!H34:H53) -> 0 | H34: =SUM('Partner 2'!J34:J53) -> 0
D35: PAVŠAL - PREOSTALI STROŠKI, KI NISO STROŠKI OSEBJA (40 %) | F35: ='Partner 2'!G54 -> 0 | G35: ='Partner 2'!H54 -> 0 | H35: ='Partner 2'!J54 -> 0
E36: SKUPAJ 2. FAZA | F36: =SUM(F34:F35) -> 0 | G36: =SUM(G34:G35) -> 0 | H36: =SUM(H34:H35) -> 0
C38: SKUPAJ 1. in 2. FAZA | D38: NEPOSREDNI STROŠKI OSEBJA (60%) | F38: =F30+F34 -> 0 | G38: =G30+G34 -> 0 | H38: =H30+H34 -> 0
D39: PAVŠAL - PREOSTALI STROŠKI, KI NISO STROŠKI OSEBJA (40 %) | F39: =F31+F35 -> 0 | G39: =G31+G35 -> 0 | H39: =H31+H35 -> 0
E40: SKUPAJ | F40: =SUM(F38:F39) -> 0 | G40: =SUM(G38:G39) -> 0 | H40: =SUM(H38:H39) -> 0
B42: PARTNER 3 | C42: 1. FAZA | D42: NEPOSREDNI STROŠKI OSEBJA (60%) | F42: =SUM('Partner 3'!G7:G26) -> 0 | G42: =SUM('Partner 3'!H7:H26) -> 0 | H42: =SUM('Partner 3'!J7:J26) -> 0
D43: PAVŠAL - PREOSTALI STROŠKI, KI NISO STROŠKI OSEBJA (40 %) | F43: ='Partner 3'!G27 -> 0 | G43: ='Partner 3'!H27 -> 0 | H43: ='Partner 3'!J27 -> 0
E44: SKUPAJ 1. FAZA | F44: =SUM(F42:F43) -> 0 | G44: =SUM(G42:G43) -> 0 | H44: =SUM(H42:H43) -> 0
C46: 2. FAZA | D46: NEPOSREDNI STROŠKI OSEBJA (60%) | F46: =SUM('Partner 3'!G34:G53) -> 0 | G46: =SUM('Partner 3'!H34:H53) -> 0 | H46: =SUM('Partner 3'!J34:J53) -> 0
D47: PAVŠAL - PREOSTALI STROŠKI, KI NISO STROŠKI OSEBJA (40 %) | F47: ='Partner 3'!G54 -> 0 | G47: ='Partner 3'!H54 -> 0 | H47: ='Partner 3'!J54 -> 0
E48: SKUPAJ 2. FAZA | F48: =SUM(F46:F47) -> 0 | G48: =SUM(G46:G47) -> 0 | H48: =SUM(H46:H47) -> 0
C50: SKUPAJ 1. in 2. FAZA | D50: NEPOSREDNI STROŠKI OSEBJA (60%) | F50: =F42+F46 -> 0 | G50: =G42+G46 -> 0 | H50: =H42+H46 -> 0
D51: PAVŠAL - PREOSTALI STROŠKI, KI NISO STROŠKI OSEBJA (40 %) | F51: =F43+F47 -> 0 | G51: =G43+G47 -> 0 | H51: =H43+H47 -> 0
E52: SKUPAJ | F52: =SUM(F50:F51) -> 0 | G52: =SUM(G50:G51) -> 0 | H52: =SUM(H50:H51) -> 0
B54: PARTNER 4 | C54: 1. FAZA | D54: NEPOSREDNI STROŠKI OSEBJA (60%) | F54: =SUM('Partner 4'!G7:G26) -> 0 | G54: =SUM('Partner 4'!H7:H26) -> 0 | H54: =SUM('Partner 4'!J7:J26) -> 0
D55: PAVŠAL - PREOSTALI STROŠKI, KI NISO STROŠKI OSEBJA (40 %) | F55: ='Partner 4'!G27 -> 0 | G55: ='Partner 4'!H27 -> 0 | H55: ='Partner 4'!J27 -> 0
E56: SKUPAJ 1. FAZA | F56: =SUM(F54:F55) -> 0 | G56: =SUM(G54:G55) -> 0 | H56: =SUM(H54:H55) -> 0
C58: 2. FAZA | D58: NEPOSREDNI STROŠKI OSEBJA (60%) | F58: =SUM('Partner 4'!G34:G53) -> 0 | G58: =SUM('Partner 4'!H34:H53) -> 0 | H58: =SUM('Partner 4'!J34:J53) -> 0
D59: PAVŠAL - PREOSTALI STROŠKI, KI NISO STROŠKI OSEBJA (40 %) | F59: ='Partner 4'!G54 -> 0 | G59: ='Partner 4'!H54 -> 0 | H59: ='Partner 4'!J54 -> 0
E60: SKUPAJ 2. FAZA | F60: =SUM(F58:F59) -> 0 | G60: =SUM(G58:G59) -> 0 | H60: =SUM(H58:H59) -> 0
C62: SKUPAJ 1. in 2. FAZA | D62: NEPOSREDNI STROŠKI OSEBJA (60%) | F62: =F54+F58 -> 0 | G62: =G54+G58 -> 0 | H62: =H54+H58 -> 0
D63: PAVŠAL - PREOSTALI STROŠKI, KI NISO STROŠKI OSEBJA (40 %) | F63: =F55+F59 -> 0 | G63: =G55+G59 -> 0 | H63: =H55+H59 -> 0
E64: SKUPAJ | F64: =SUM(F62:F63) -> 0 | G64: =SUM(G62:G63) -> 0 | H64: =SUM(H62:H63) -> 0
B66: PARTNER 5 | C66: 1. FAZA | D66: NEPOSREDNI STROŠKI OSEBJA (60%) | F66: =SUM('Partner 5'!G7:G26) -> 0 | G66: =SUM('Partner 5'!H7:H26) -> 0 | H66: =SUM('Partner 5'!J7:J26) -> 0
D67: PAVŠAL - PREOSTALI STROŠKI, KI NISO STROŠKI OSEBJA (40 %) | F67: ='Partner 5'!G27 -> 0 | G67: ='Partner 5'!H27 -> 0 | H67: ='Partner 5'!J27 -> 0
E68: SKUPAJ 1. FAZA | F68: =SUM(F66:F67) -> 0 | G68: =SUM(G66:G67) -> 0 | H68: =SUM(H66:H67) -> 0
C70: 2. FAZA | D70: NEPOSREDNI STROŠKI OSEBJA (60%) | F70: =SUM('Partner 5'!G34:G53) -> 0 | G70: =SUM('Partner 5'!H34:H53) -> 0 | H70: =SUM('Partner 5'!J34:J53) -> 0
D71: PAVŠAL - PREOSTALI STROŠKI, KI NISO STROŠKI OSEBJA (40 %) | F71: ='Partner 5'!G54 -> 0 | G71: ='Partner 5'!H54 -> 0 | H71: ='Partner 5'!J54 -> 0
E72: SKUPAJ 2. FAZA | F72: =SUM(F70:F71) -> 0 | G72: =SUM(G70:G71) -> 0 | H72: =SUM(H70:H71) -> 0
C74: SKUPAJ 1. in 2. FAZA | D74: NEPOSREDNI STROŠKI OSEBJA (60%) | F74: =F66+F70 -> 0 | G74: =G66+G70 -> 0 | H74: =H66+H70 -> 0
D75: PAVŠAL - PREOSTALI STROŠKI, KI NISO STROŠKI OSEBJA (40 %) | F75: =F67+F71 -> 0 | G75: =G67+G71 -> 0 | H75: =H67+H71 -> 0
E76: SKUPAJ | F76: =SUM(F74:F75) -> 0 | G76: =SUM(G74:G75) -> 0 | H76: =SUM(H74:H75) -> 0
B79: Kategorija stroška | F79: Faza 1 | G79: Faza 2 | H79: SKUPAJ
B80: Celotna vrednost projekta (upravičeni in neupravičeni stroški, z DDV) v EUR | F80: =F83+F84 -> 0 | G80: =G83+G84 -> 0 | H80: =F80+G80 -> 0
B81: Upravičeni stroški (EUR) | F81: =F8+F20+F32+F44+F56+F68 -> 0 | G81: =F12+F24+F36+F48+F60+F72 -> 0 | H81: =F81+G81 -> 0
B82: Zaprošen % sofinanciranja | F82: 0.8 | G82: 0.8 | H82: 0.8
B83: Zaprošena vrednost sofinanciranja v EUR | F83: =G8+G20+G32+G44+G56+G68 -> 0 | G83: =G12+G24+G36+G48+G60+G72 -> 0 | H83: =F83+G83 -> 0
B84: Lastna udeležba v EUR | F84: =H8+H20+H32+H44+H56+H68 -> 0 | G84: =H12+H24+H36+H48+H60+H72 -> 0 | H84: =F84+G84 -> 0
B85: V projektu neinvesticijske narave višina dejanskih upravičenih stroškov (neposredni stroški osebja) | F85: =F6+F18+F30+F42+F54+F66 -> 0 | G85: =F10+F22+F34+F46+F58+F70 -> 0 | H85: =F85+G85 -> 0
B86: V projektu neinvesticijske narave višina preostalih upravičenih stroškov (40% pavšalna stopnja) | F86: =F7+F19+F31+F43+F55+F67 -> 0 | G86: =F11+F23+F35+F47+F59+F71 -> 0 | H86: =F86+G86 -> 0

Sheet Vodilni partner
B1: "Finančni načrt - NEINVESTICIJSKI PROJEKT" | I1: 1. JAVNI POZIV LAS ZELENA ISTRA (EKSRP)
B5: NAZIV VODILNEGA PARTNERJA:
B6: AKTIVNOST (1. FAZA) | C6: VRSTA STROŠKA | D6: TIP DELA | E6: ŠT. OPRAVLJENIH UR NA PROJEKTU | F6: URNA POSTAVKA (EUR) | G6: SKUPNI UPRAVIČENI STROŠKI | H6: ZNESEK SOFINANCIRANJA | I6: ODSTOTEK SOFINANCIRANJA (80%) | J6: LASTNA UDELEŽBA
C7: NSO - neposredni stroški osebja | D7: Izberi | F7: =IF(D7="Vodenje in koordinacija","23,33",IF(D7="Strokovna in tehnična pomoč","17,89",IF(D7="Izvajanje neindustrijske dejavnosti","13,24",IF(D7="Prostovoljsko delo - organizacijsko","13,00",IF(D7="Prostovoljsko delo - vsebinsko","10,00",IF(D7="Prostovoljsko delo - drugo","6,00",IF(D7="Kmet","12,25",IF(D7="Izberi","0")))))))) -> 0 | G7: =SUM(E7*F7) -> 0 | H7: =G7*0.8 -> 0 | I7: 80 | J7: =ROUND((G7-H7),2) -> 0
C8: NSO - neposredni stroški osebja | D8: Izberi | F8: =IF(D8="Vodenje in koordinacija","23,33",IF(D8="Strokovna in tehnična pomoč","17,89",IF(D8="Izvajanje neindustrijske dejavnosti","13,24",IF(D8="Prostovoljsko delo - organizacijsko","13,00",IF(D8="Prostovoljsko delo - vsebinsko","10,00",IF(D8="Prostovoljsko delo - drugo","6,00",IF(D8="Kmet","12,25",IF(D8="Izberi","0")))))))) -> 0 | G8: =SUM(E8*F8) -> 0 | H8: =G8*0.8 -> 0 | I8: 80 | J8: =ROUND((G8-H8),2) -> 0
C9: NSO - neposredni stroški osebja | D9: Izberi | F9: =IF(D9="Vodenje in koordinacija","23,33",IF(D9="Strokovna in tehnična pomoč","17,89",IF(D9="Izvajanje neindustrijske dejavnosti","13,24",IF(D9="Prostovoljsko delo - organizacijsko","13,00",IF(D9="Prostovoljsko delo - vsebinsko","10,00",IF(D9="Prostovoljsko delo - drugo","6,00",IF(D9="Kmet","12,25",IF(D9="Izberi","0")))))))) -> 0 | G9: =SUM(E9*F9) -> 0 | H9: =G9*0.8 -> 0 | I9: 80 | J9: =ROUND((G9-H9),2) -> 0
C10: NSO - neposredni stroški osebja | D10: Izberi | F10: =IF(D10="Vodenje in koordinacija","23,33",IF(D10="Strokovna in tehnična pomoč","17,89",IF(D10="Izvajanje neindustrijske dejavnosti","13,24",IF(D10="Prostovoljsko delo - organizacijsko","13,00",IF(D10="Prostovoljsko delo - vsebinsko","10,00",IF(D10="Prostovoljsko delo - drugo","6,00",IF(D10="Kmet","12,25",IF(D10="Izberi","0")))))))) -> 0 | G10: =SUM(E10*F10) -> 0 | H10: =G10*0.8 -> 0 | I10: 80 | J10: =ROUND((G10-H10),2) -> 0
C11: NSO - neposredni stroški osebja | D11: Izberi | F11: =IF(D11="Vodenje in koordinacija","23,33",IF(D11="Strokovna in tehnična pomoč","17,89",IF(D11="Izvajanje neindustrijske dejavnosti","13,24",IF(D11="Prostovoljsko delo - organizacijsko","13,00",IF(D11="Prostovoljsko delo - vsebinsko","10,00",IF(D11="Prostovoljsko delo - drugo","6,00",IF(D11="Kmet","12,25",IF(D11="Izberi","0")))))))) -> 0 | G11: =SUM(E11*F11) -> 0 | H11: =G11*0.8 -> 0 | I11: 80 | J11: =ROUND((G11-H11),2) -> 0
C12: NSO - neposredni stroški osebja | D12: Izberi | F12: =IF(D12="Vodenje in koordinacija","23,33",IF(D12="Strokovna in tehnična pomoč","17,89",IF(D12="Izvajanje neindustrijske dejavnosti","13,24",IF(D12="Prostovoljsko delo - organizacijsko","13,00",IF(D12="Prostovoljsko delo - vsebinsko","10,00",IF(D12="Prostovoljsko delo - drugo","6,00",IF(D12="Kmet","12,25",IF(D12="Izberi","0")))))))) -> 0 | G12: =SUM(E12*F12) -> 0 | H12: =G12*0.8 -> 0 | I12: 80 | J12: =ROUND((G12-H12),2) -> 0
C13: NSO - neposredni stroški osebja | D13: Izberi | F13: =IF(D13="Vodenje in koordinacija","23,33",IF(D13="Strokovna in tehnična pomoč","17,89",IF(D13="Izvajanje neindustrijske dejavnosti","13,24",IF(D13="Prostovoljsko delo - organizacijsko","13,00",IF(D13="Prostovoljsko delo - vsebinsko","10,00",IF(D13="Prostovoljsko delo - drugo","6,00",IF(D13="Kmet","12,25",IF(D13="Izberi","0")))))))) -> 0 | G13: =SUM(E13*F13) -> 0 | H13: =G13*0.8 -> 0 | I13: 80 | J13: =ROUND((G13-H13),2) -> 0
C14: NSO - neposredni stroški osebja | D14: Izberi | F14: =IF(D14="Vodenje in koordinacija","23,33",IF(D14="Strokovna in tehnična pomoč","17,89",IF(D14="Izvajanje neindustrijske dejavnosti","13,24",IF(D14="Prostovoljsko delo - organizacijsko","13,00",IF(D14="Prostovoljsko delo - vsebinsko","10,00",IF(D14="Prostovoljsko delo - drugo","6,00",IF(D14="Kmet","12,25",IF(D14="Izberi","0")))))))) -> 0 | G14: =SUM(E14*F14) -> 0 | H14: =G14*0.8 -> 0 | I14: 80 | J14: =ROUND((G14-H14),2) -> 0
C15: NSO - neposredni stroški osebja | D15: Izberi | F15: =IF(D15="Vodenje in koordinacija","23,33",IF(D15="Strokovna in tehnična pomoč","17,89",IF(D15="Izvajanje neindustrijske dejavnosti","13,24",IF(D15="Prostovoljsko delo - organizacijsko","13,00",IF(D15="Prostovoljsko delo - vsebinsko","10,00",IF(D15="Prostovoljsko delo - drugo","6,00",IF(D15="Kmet","12,25",IF(D15="Izberi","0")))))))) -> 0 | G15: =SUM(E15*F15) -> 0 | H15: =G15*0.8 -> 0 | I15: 80 | J15: =ROUND((G15-H15),2) -> 0
C16: NSO - neposredni stroški osebja | D16: Izberi | F16: =IF(D16="Vodenje in koordinacija","23,33",IF(D16="Strokovna in tehnična pomoč","17,89",IF(D16="Izvajanje neindustrijske dejavnosti","13,24",IF(D16="Prostovoljsko delo - organizacijsko","13,00",IF(D16="Prostovoljsko delo - vsebinsko","10,00",IF(D16="Prostovoljsko delo - drugo","6,00",IF(D16="Kmet","12,25",IF(D16="Izberi","0")))))))) -> 0 | G16: =SUM(E16*F16) -> 0 | H16: =G16*0.8 -> 0 | I16: 80 | J16: =ROUND((G16-H16),2) -> 0
C17: NSO - neposredni stroški osebja | D17: Izberi | F17: =IF(D17="Vodenje in koordinacija","23,33",IF(D17="Strokovna in tehnična pomoč","17,89",IF(D17="Izvajanje neindustrijske dejavnosti","13,24",IF(D17="Prostovoljsko delo - organizacijsko","13,00",IF(D17="Prostovoljsko delo - vsebinsko","10,00",IF(D17="Prostovoljsko delo - drugo","6,00",IF(D17="Kmet","12,25",IF(D17="Izberi","0")))))))) -> 0 | G17: =SUM(E17*F17) -> 0 | H17: =G17*0.8 -> 0 | I17: 80 | J17: =ROUND((G17-H17),2) -> 0
C18: NSO - neposredni stroški osebja | D18: Izberi | F18: =IF(D18="Vodenje in koordinacija","23,33",IF(D18="Strokovna in tehnična pomoč","17,89",IF(D18="Izvajanje neindustrijske dejavnosti","13,24",IF(D18="Prostovoljsko delo - organizacijsko","13,00",IF(D18="Prostovoljsko delo - vsebinsko","10,00",IF(D18="Prostovoljsko delo - drugo","6,00",IF(D18="Kmet","12,25",IF(D18="Izberi","0")))))))) -> 0 | G18: =SUM(E18*F18) -> 0 | H18: =G18*0.8 -> 0 | I18: 80 | J18: =ROUND((G18-H18),2) -> 0
... C26: NSO - neposredni stroški osebja | D26: Izberi | F26: =IF(D26="Vodenje in koordinacija","23,33",IF(D26="Strokovna in tehnična pomoč","17,89",IF(D26="Izvajanje neindustrijske dejavnosti","13,24",IF(D26="Prostovoljsko delo - organizacijsko","13,00",IF(D26="Prostovoljsko delo - vsebinsko","10,00",IF(D26="Prostovoljsko delo - drugo","6,00",IF(D26="Kmet","12,25",IF(D26="Izberi","0")))))))) -> 0 | G26: =SUM(E26*F26) -> 0 | H26: =G26*0.8 -> 0 | I26: 80 | J26: =ROUND((G26-H26),2) -> 0
C27: PRS - preostali stroški, ki niso stroški osebja (40 %) | D27: Preostale projektne aktivnosti | G27: =SUM(G7:G26)*0.4 -> 0 | H27: =G27*0.8 -> 0 | I27: 80 | J27: =ROUND((G27-H27),2) -> 0
F28: SKUPAJ | G28: =SUM(G7:G27) -> 0 | H28: =SUM(H7:H27) -> 0
B33: AKTIVNOST (2. FAZA) | C33: VRSTA STROŠKA | D33: TIP DELA | E33: ŠT. OPRAVLJENIH UR NA PROJEKTU | F33: URNA POSTAVKA (EUR) | G33: SKUPNI UPRAVIČENI STROŠKI | H33: ZNESEK SOFINANCIRANJA | I33: ODSTOTEK SOFINANCIRANJA (80%) | J33: LASTNA UDELEŽBA
C34: NSO - neposredni stroški osebja | D34: Izberi | F34: =IF(D34="Vodenje in koordinacija","23,33",IF(D34="Strokovna in tehnična pomoč","17,89",IF(D34="Izvajanje neindustrijske dejavnosti","13,24",IF(D34="Prostovoljsko delo - organizacijsko","13,00",IF(D34="Prostovoljsko delo - vsebinsko","10,00",IF(D34="Prostovoljsko delo - drugo","6,00",IF(D34="Kmet","12,25",IF(D34="Izberi","0")))))))) -> 0 | G34: =SUM(E34*F34) -> 0 | H34: =G34*0.8 -> 0 | I34: 80 | J34: =ROUND((G34-H34),2) -> 0
C35: NSO - neposredni stroški osebja | D35: Izberi | F35: =IF(D35="Vodenje in koordinacija","23,33",IF(D35="Strokovna in tehnična pomoč","17,89",IF(D35="Izvajanje neindustrijske dejavnosti","13,24",IF(D35="Prostovoljsko delo - organizacijsko","13,00",IF(D35="Prostovoljsko delo - vsebinsko","10,00",IF(D35="Prostovoljsko delo - drugo","6,00",IF(D35="Kmet","12,25",IF(D35="Izberi","0")))))))) -> 0 | G35: =SUM(E35*F35) -> 0 | H35: =G35*0.8 -> 0 | I35: 80 | J35: =ROUND((G35-H35),2) -> 0
C36: NSO - neposredni stroški osebja | D36: Izberi | F36: =IF(D36="Vodenje in koordinacija","23,33",IF(D36="Strokovna in tehnična pomoč","17,89",IF(D36="Izvajanje neindustrijske dejavnosti","13,24",IF(D36="Prostovoljsko delo - organizacijsko","13,00",IF(D36="Prostovoljsko delo - vsebinsko","10,00",IF(D36="Prostovoljsko delo - drugo","6,00",IF(D36="Kmet","12,25",IF(D36="Izberi","0")))))))) -> 0 | G36: =SUM(E36*F36) -> 0 | H36: =G36*0.8 -> 0 | I36: 80 | J36: =ROUND((G36-H36),2) -> 0
C37: NSO - neposredni stroški osebja | D37: Izberi | F37: =IF(D37="Vodenje in koordinacija","23,33",IF(D37="Strokovna in tehnična pomoč","17,89",IF(D37="Izvajanje neindustrijske dejavnosti","13,24",IF(D37="Prostovoljsko delo - organizacijsko","13,00",IF(D37="Prostovoljsko delo - vsebinsko","10,00",IF(D37="Prostovoljsko delo - drugo","6,00",IF(D37="Kmet","12,25",IF(D37="Izberi","0")))))))) -> 0 | G37: =SUM(E37*F37) -> 0 | H37: =G37*0.8 -> 0 | I37: 80 | J37: =ROUND((G37-H37),2) -> 0
C38: NSO - neposredni stroški osebja | D38: Izberi | F38: =IF(D38="Vodenje in koordinacija","23,33",IF(D38="Strokovna in tehnična pomoč","17,89",IF(D38="Izvajanje neindustrijske dejavnosti","13,24",IF(D38="Prostovoljsko delo - organizacijsko","13,00",IF(D38="Prostovoljsko delo - vsebinsko","10,00",IF(D38="Prostovoljsko delo - drugo","6,00",IF(D38="Kmet","12,25",IF(D38="Izberi","0")))))))) -> 0 | G38: =SUM(E38*F38) -> 0 | H38: =G38*0.8 -> 0 | I38: 80 | J38: =ROUND((G38-H38),2) -> 0
C39: NSO - neposredni stroški osebja | D39: Izberi | F39: =IF(D39="Vodenje in koordinacija","23,33",IF(D39="Strokovna in tehnična pomoč","17,89",IF(D39="Izvajanje neindustrijske dejavnosti","13,24",IF(D39="Prostovoljsko delo - organizacijsko","13,00",IF(D39="Prostovoljsko delo - vsebinsko","10,00",IF(D39="Prostovoljsko delo - drugo","6,00",IF(D39="Kmet","12,25",IF(D39="Izberi","0")))))))) -> 0 | G39: =SUM(E39*F39) -> 0 | H39: =G39*0.8 -> 0 | I39: 80 | J39: =ROUND((G39-H39),2) -> 0
C40: NSO - neposredni stroški osebja | D40: Izberi | F40: =IF(D40="Vodenje in koordinacija","23,33",IF(D40="Strokovna in tehnična pomoč","17,89",IF(D40="Izvajanje neindustrijske dejavnosti","13,24",IF(D40="Prostovoljsko delo - organizacijsko","13,00",IF(D40="Prostovoljsko delo - vsebinsko","10,00",IF(D40="Prostovoljsko delo - drugo","6,00",IF(D40="Kmet","12,25",IF(D40="Izberi","0")))))))) -> 0 | G40: =SUM(E40*F40) -> 0 | H40: =G40*0.8 -> 0 | I40: 80 | J40: =ROUND((G40-H40),2) -> 0
C41: NSO - neposredni stroški osebja | D41: Izberi | F41: =IF(D41="Vodenje in koordinacija","23,33",IF(D41="Strokovna in tehnična pomoč","17,89",IF(D41="Izvajanje neindustrijske dejavnosti","13,24",IF(D41="Prostovoljsko delo - organizacijsko","13,00",IF(D41="Prostovoljsko delo - vsebinsko","10,00",IF(D41="Prostovoljsko delo - drugo","6,00",IF(D41="Kmet","12,25",IF(D41="Izberi","0")))))))) -> 0 | G41: =SUM(E41*F41) -> 0 | H41: =G41*0.8 -> 0 | I41: 80 | J41: =ROUND((G41-H41),2) -> 0
C42: NSO - neposredni stroški osebja | D42: Izberi | F42: =IF(D42="Vodenje in koordinacija","23,33",IF(D42="Strokovna in tehnična pomoč","17,89",IF(D42="Izvajanje neindustrijske dejavnosti","13,24",IF(D42="Prostovoljsko delo - organizacijsko","13,00",IF(D42="Prostovoljsko delo - vsebinsko","10,00",IF(D42="Prostovoljsko delo - drugo","6,00",IF(D42="Kmet","12,25",IF(D42="Izberi","0")))))))) -> 0 | G42: =SUM(E42*F42) -> 0 | H42: =G42*0.8 -> 0 | I42: 80 | J42: =ROUND((G42-H42),2) -> 0
C43: NSO - neposredni stroški osebja | D43: Izberi | F43: =IF(D43="Vodenje in koordinacija","23,33",IF(D43="Strokovna in tehnična pomoč","17,89",IF(D43="Izvajanje neindustrijske dejavnosti","13,24",IF(D43="Prostovoljsko delo - organizacijsko","13,00",IF(D43="Prostovoljsko delo - vsebinsko","10,00",IF(D43="Prostovoljsko delo - drugo","6,00",IF(D43="Kmet","12,25",IF(D43="Izberi","0")))))))) -> 0 | G43: =SUM(E43*F43) -> 0 | H43: =G43*0.8 -> 0 | I43: 80 | J43: =ROUND((G43-H43),2) -> 0
C44: NSO - neposredni stroški osebja | D44: Izberi | F44: =IF(D44="Vodenje in koordinacija","23,33",IF(D44="Strokovna in tehnična pomoč","17,89",IF(D44="Izvajanje neindustrijske dejavnosti","13,24",IF(D44="Prostovoljsko delo - organizacijsko","13,00",IF(D44="Prostovoljsko delo - vsebinsko","10,00",IF(D44="Prostovoljsko delo - drugo","6,00",IF(D44="Kmet","12,25",IF(D44="Izberi","0")))))))) -> 0 | G44: =SUM(E44*F44) -> 0 | H44: =G44*0.8 -> 0 | I44: 80 | J44: =ROUND((G44-H44),2) -> 0
C45: NSO - neposredni stroški osebja | D45: Izberi | F45: =IF(D45="Vodenje in koordinacija","23,33",IF(D45="Strokovna in tehnična pomoč","17,89",IF(D45="Izvajanje neindustrijske dejavnosti","13,24",IF(D45="Prostovoljsko delo - organizacijsko","13,00",IF(D45="Prostovoljsko delo - vsebinsko","10,00",IF(D45="Prostovoljsko delo - drugo","6,00",IF(D45="Kmet","12,25",IF(D45="Izberi","0")))))))) -> 0 | G45: =SUM(E45*F45) -> 0 | H45: =G45*0.8 -> 0 | I45: 80 | J45: =ROUND((G45-H45),2) -> 0
... C53: NSO - neposredni stroški osebja | D53: Izberi | F53: =IF(D53="Vodenje in koordinacija","23,33",IF(D53="Strokovna in tehnična pomoč","17,89",IF(D53="Izvajanje neindustrijske dejavnosti","13,24",IF(D53="Prostovoljsko delo - organizacijsko","13,00",IF(D53="Prostovoljsko delo - vsebinsko","10,00",IF(D53="Prostovoljsko delo - drugo","6,00",IF(D53="Kmet","12,25",IF(D53="Izberi","0")))))))) -> 0 | G53: =SUM(E53*F53) -> 0 | H53: =G53*0.8 -> 0 | I53: 80 | J53: =ROUND((G53-H53),2) -> 0
C54: PRS - preostali stroški, ki niso stroški osebja (40 %) | D54: Preostale projektne aktivnosti | G54: =SUM(G34:G53)*0.4 -> 0 | H54: =G54*0.8 -> 0 | I54: 80 | J54: =ROUND((G54-H54),2) -> 0
F55: SKUPAJ | G55: =SUM(G34:G54) -> 0 | H55: =SUM(H34:H54) -> 0
B59: VREDNOST PROJEKTA - VODILNI PARTNER
B60: SKUPNI UPRAVIČENI NEPOSREDNI STROŠKI OSEBJA | C60: PREOSTALI STROŠKI, KI NISO STROŠKI OSEBJA (PAVŠALNA STOPNJA) | D60: SKUPNI UPRAVIČENI STROŠKI | E60: ZNESEK SOFINANCIRANJA | F60: LASTNA UDELEŽBA
B61: =SUM(G34:G53)+SUM(G7:G26) -> 0 | C61: =G54+G27 -> 0 | D61: =G55+G28 -> 0 | E61: =H55+H28 -> 0 | F61: =SUM(J7:J27,J34:J54) -> 0

Sheet Partner 1
B1: "Finančni načrt - NEINVESTICIJSKI PROJEKT" | I1: 1. JAVNI POZIV LAS ZELENA ISTRA (EKSRP)
B5: NAZIV PARTNERJA 1:
B6: AKTIVNOST (1. FAZA) | C6: VRSTA STROŠKA | D6: TIP DELA | E6: ŠT. OPRAVLJENIH UR NA PROJEKTU | F6: URNA POSTAVKA (EUR) | G6: SKUPNI UPRAVIČENI STROŠKI | H6: ZNESEK SOFINANCIRANJA | I6: ODSTOTEK SOFINANCIRANJA (80%) | J6: LASTNA UDELEŽBA
C7: NSO - neposredni stroški osebja | D7: Izberi | F7: =IF(D7="Vodenje in koordinacija","23,33",IF(D7="Strokovna in tehnična pomoč","17,89",IF(D7="Izvajanje neindustrijske dejavnosti","13,24",IF(D7="Prostovoljsko delo - organizacijsko","13,00",IF(D7="Prostovoljsko delo - vsebinsko","10,00",IF(D7="Prostovoljsko delo - drugo","6,00",IF(D7="Kmet","12,25",IF(D7="Izberi","0")))))))) -> 0 | G7: =SUM(E7*F7) -> 0 | H7: =G7*0.8 -> 0 | I7: 80 | J7: =ROUND((G7-H7),2) -> 0
C8: NSO - neposredni stroški osebja | D8: Izberi | F8: =IF(D8="Vodenje in koordinacija","23,33",IF(D8="Strokovna in tehnična pomoč","17,89",IF(D8="Izvajanje neindustrijske dejavnosti","13,24",IF(D8="Prostovoljsko delo - organizacijsko","13,00",IF(D8="Prostovoljsko delo - vsebinsko","10,00",IF(D8="Prostovoljsko delo - drugo","6,00",IF(D8="Kmet","12,25",IF(D8="Izberi","0")))))))) -> 0 | G8: =SUM(E8*F8) -> 0 | H8: =G8*0.8 -> 0 | I8: 80 | J8: =ROUND((G8-H8),2) -> 0
C9: NSO - neposredni stroški osebja | D9: Izberi | F9: =IF(D9="Vodenje in koordinacija","23,33",IF(D9="Strokovna in tehnična pomoč","17,89",IF(D9="Izvajanje neindustrijske dejavnosti","13,24",IF(D9="Prostovoljsko delo - organizacijsko","13,00",IF(D9="Prostovoljsko delo - vsebinsko","10,00",IF(D9="Prostovoljsko delo - drugo","6,00",IF(D9="Kmet","12,25",IF(D9="Izberi","0")))))))) -> 0 | G9: =SUM(E9*F9) -> 0 | H9: =G9*0.8 -> 0 | I9: 80 | J9: =ROUND((G9-H9),2) -> 0
C10: NSO - neposredni stroški osebja | D10: Izberi | F10: =IF(D10="Vodenje in koordinacija","23,33",IF(D10="Strokovna in tehnična pomoč","17,89",IF(D10="Izvajanje neindustrijske dejavnosti","13,24",IF(D10="Prostovoljsko delo - organizacijsko","13,00",IF(D10="Prostovoljsko delo - vsebinsko","10,00",IF(D10="Prostovoljsko delo - drugo","6,00",IF(D10="Kmet","12,25",IF(D10="Izberi","0")))))))) -> 0 | G10: =SUM(E10*F10) -> 0 | H10: =G10*0.8 -> 0 | I10: 80 | J10: =ROUND((G10-H10),2) -> 0
C11: NSO - neposredni stroški osebja | D11: Izberi | F11: =IF(D11="Vodenje in koordinacija","23,33",IF(D11="Strokovna in tehnična pomoč","17,89",IF(D11="Izvajanje neindustrijske dejavnosti","13,24",IF(D11="Prostovoljsko delo - organizacijsko","13,00",IF(D11="Prostovoljsko delo - vsebinsko","10,00",IF(D11="Prostovoljsko delo - drugo","6,00",IF(D11="Kmet","12,25",IF(D11="Izberi","0")))))))) -> 0 | G11: =SUM(E11*F11) -> 0 | H11: =G11*0.8 -> 0 | I11: 80 | J11: =ROUND((G11-H11),2) -> 0
C12: NSO - neposredni stroški osebja | D12: Izberi | F12: =IF(D12="Vodenje in koordinacija","23,33",IF(D12="Strokovna in tehnična pomoč","17,89",IF(D12="Izvajanje neindustrijske dejavnosti","13,24",IF(D12="Prostovoljsko delo - organizacijsko","13,00",IF(D12="Prostovoljsko delo - vsebinsko","10,00",IF(D12="Prostovoljsko delo - drugo","6,00",IF(D12="Kmet","12,25",IF(D12="Izberi","0")))))))) -> 0 | G12: =SUM(E12*F12) -> 0 | H12: =G12*0.8 -> 0 | I12: 80 | J12: =ROUND((G12-H12),2) -> 0
C13: NSO - neposredni stroški osebja | D13: Izberi | F13: =IF(D13="Vodenje in koordinacija","23,33",IF(D13="Strokovna in tehnična pomoč","17,89",IF(D13="Izvajanje neindustrijske dejavnosti","13,24",IF(D13="Prostovoljsko delo - organizacijsko","13,00",IF(D13="Prostovoljsko delo - vsebinsko","10,00",IF(D13="Prostovoljsko delo - drugo","6,00",IF(D13="Kmet","12,25",IF(D13="Izberi","0")))))))) -> 0 | G13: =SUM(E13*F13) -> 0 | H13: =G13*0.8 -> 0 | I13: 80 | J13: =ROUND((G13-H13),2) -> 0
C14: NSO - neposredni stroški osebja | D14: Izberi | F14: =IF(D14="Vodenje in koordinacija","23,33",IF(D14="Strokovna in tehnična pomoč","17,89",IF(D14="Izvajanje neindustrijske dejavnosti","13,24",IF(D14="Prostovoljsko delo - organizacijsko","13,00",IF(D14="Prostovoljsko delo - vsebinsko","10,00",IF(D14="Prostovoljsko delo - drugo","6,00",IF(D14="Kmet","12,25",IF(D14="Izberi","0")))))))) -> 0 | G14: =SUM(E14*F14) -> 0 | H14: =G14*0.8 -> 0 | I14: 80 | J14: =ROUND((G14-H14),2) -> 0
C15: NSO - neposredni stroški osebja | D15: Izberi | F15: =IF(D15="Vodenje in koordinacija","23,33",IF(D15="Strokovna in tehnična pomoč","17,89",IF(D15="Izvajanje neindustrijske dejavnosti","13,24",IF(D15="Prostovoljsko delo - organizacijsko","13,00",IF(D15="Prostovoljsko delo - vsebinsko","10,00",IF(D15="Prostovoljsko delo - drugo","6,00",IF(D15="Kmet","12,25",IF(D15="Izberi","0")))))))) -> 0 | G15: =SUM(E15*F15) -> 0 | H15: =G15*0.8 -> 0 | I15: 80 | J15: =ROUND((G15-H15),2) -> 0
C16: NSO - neposredni stroški osebja | D16: Izberi | F16: =IF(D16="Vodenje in koordinacija","23,33",IF(D16="Strokovna in tehnična pomoč","17,89",IF(D16="Izvajanje neindustrijske dejavnosti","13,24",IF(D16="Prostovoljsko delo - organizacijsko","13,00",IF(D16="Prostovoljsko delo - vsebinsko","10,00",IF(D16="Prostovoljsko delo - drugo","6,00",IF(D16="Kmet","12,25",IF(D16="Izberi","0")))))))) -> 0 | G16: =SUM(E16*F16) -> 0 | H16: =G16*0.8 -> 0 | I16: 80 | J16: =ROUND((G16-H16),2) -> 0
C17: NSO - neposredni stroški osebja | D17: Izberi | F17: =IF(D17="Vodenje in koordinacija","23,33",IF(D17="Strokovna in tehnična pomoč","17,89",IF(D17="Izvajanje neindustrijske dejavnosti","13,24",IF(D17="Prostovoljsko delo - organizacijsko","13,00",IF(D17="Prostovoljsko delo - vsebinsko","10,00",IF(D17="Prostovoljsko delo - drugo","6,00",IF(D17="Kmet","12,25",IF(D17="Izberi","0")))))))) -> 0 | G17: =SUM(E17*F17) -> 0 | H17: =G17*0.8 -> 0 | I17: 80 | J17: =ROUND((G17-H17),2) -> 0
C18: NSO - neposredni stroški osebja | D18: Izberi | F18: =IF(D18="Vodenje in koordinacija","23,33",IF(D18="Strokovna in tehnična pomoč","17,89",IF(D18="Izvajanje neindustrijske dejavnosti","13,24",IF(D18="Prostovoljsko delo - organizacijsko","13,00",IF(D18="Prostovoljsko delo - vsebinsko","10,00",IF(D18="Prostovoljsko delo - drugo","6,00",IF(D18="Kmet","12,25",IF(D18="Izberi","0")))))))) -> 0 | G18: =SUM(E18*F18) -> 0 | H18: =G18*0.8 -> 0 | I18: 80 | J18: =ROUND((G18-H18),2) -> 0
... C26: NSO - neposredni stroški osebja | D26: Izberi | F26: =IF(D26="Vodenje in koordinacija","23,33",IF(D26="Strokovna in tehnična pomoč","17,89",IF(D26="Izvajanje neindustrijske dejavnosti","13,24",IF(D26="Prostovoljsko delo - organizacijsko","13,00",IF(D26="Prostovoljsko delo - vsebinsko","10,00",IF(D26="Prostovoljsko delo - drugo","6,00",IF(D26="Kmet","12,25",IF(D26="Izberi","0")))))))) -> 0 | G26: =SUM(E26*F26) -> 0 | H26: =G26*0.8 -> 0 | I26: 80 | J26: =ROUND((G26-H26),2) -> 0
C27: PRS - preostali stroški, ki niso stroški osebja (40 %) | D27: Preostale projektne aktivnosti | G27: =SUM(G7:G26)*0.4 -> 0 | H27: =G27*0.8 -> 0 | I27: 80 | J27: =ROUND((G27-H27),2) -> 0
F28: SKUPAJ | G28: =SUM(G7:G27) -> 0 | H28: =SUM(H7:H27) -> 0
B33: AKTIVNOST (2. FAZA) | C33: VRSTA STROŠKA | D33: TIP DELA | E33: ŠT. OPRAVLJENIH UR NA PROJEKTU | F33: URNA POSTAVKA (EUR) | G33: SKUPNI UPRAVIČENI STROŠKI (EUR) | H33: ZNESEK SOFINANCIRANJA (EUR) | I33: ODSTOTEK SOFINANCIRANJA (80%) | J33: LASTNA UDELEŽBA
C34: NSO - neposredni stroški osebja | D34: Izberi | F34: =IF(D34="Vodenje in koordinacija","23,33",IF(D34="Strokovna in tehnična pomoč","17,89",IF(D34="Izvajanje neindustrijske dejavnosti","13,24",IF(D34="Prostovoljsko delo - organizacijsko","13,00",IF(D34="Prostovoljsko delo - vsebinsko","10,00",IF(D34="Prostovoljsko delo - drugo","6,00",IF(D34="Kmet","12,25",IF(D34="Izberi","0")))))))) -> 0 | G34: =SUM(E34*F34) -> 0 | H34: =G34*0.8 -> 0 | I34: 80 | J34: =ROUND((G34-H34),2) -> 0
C35: NSO - neposredni stroški osebja | D35: Izberi | F35: =IF(D35="Vodenje in koordinacija","23,33",IF(D35="Strokovna in tehnična pomoč","17,89",IF(D35="Izvajanje neindustrijske dejavnosti","13,24",IF(D35="Prostovoljsko delo - organizacijsko","13,00",IF(D35="Prostovoljsko delo - vsebinsko","10,00",IF(D35="Prostovoljsko delo - drugo","6,00",IF(D35="Kmet","12,25",IF(D35="Izberi","0")))))))) -> 0 | G35: =SUM(E35*F35) -> 0 | H35: =G35*0.8 -> 0 | I35: 80 | J35: =ROUND((G35-H35),2) -> 0
C36: NSO - neposredni stroški osebja | D36: Izberi | F36: =IF(D36="Vodenje in koordinacija","23,33",IF(D36="Strokovna in tehnična pomoč","17,89",IF(D36="Izvajanje neindustrijske dejavnosti","13,24",IF(D36="Prostovoljsko delo - organizacijsko","13,00",IF(D36="Prostovoljsko delo - vsebinsko","10,00",IF(D36="Prostovoljsko delo - drugo","6,00",IF(D36="Kmet","12,25",IF(D36="Izberi","0")))))))) -> 0 | G36: =SUM(E36*F36) -> 0 | H36: =G36*0.8 -> 0 | I36: 80 | J36: =ROUND((G36-H36),2) -> 0
C37: NSO - neposredni stroški osebja | D37: Izberi | F37: =IF(D37="Vodenje in koordinacija","23,33",IF(D37="Strokovna in tehnična pomoč","17,89",IF(D37="Izvajanje neindustrijske dejavnosti","13,24",IF(D37="Prostovoljsko delo - organizacijsko","13,00",IF(D37="Prostovoljsko delo - vsebinsko","10,00",IF(D37="Prostovoljsko delo - drugo","6,00",IF(D37="Kmet","12,25",IF(D37="Izberi","0")))))))) -> 0 | G37: =SUM(E37*F37) -> 0 | H37: =G37*0.8 -> 0 | I37: 80 | J37: =ROUND((G37-H37),2) -> 0
C38: NSO - neposredni stroški osebja | D38: Izberi | F38: =IF(D38="Vodenje in koordinacija","23,33",IF(D38="Strokovna in tehnična pomoč","17,89",IF(D38="Izvajanje neindustrijske dejavnosti","13,24",IF(D38="Prostovoljsko delo - organizacijsko","13,00",IF(D38="Prostovoljsko delo - vsebinsko","10,00",IF(D38="Prostovoljsko delo - drugo","6,00",IF(D38="Kmet","12,25",IF(D38="Izberi","0")))))))) -> 0 | G38: =SUM(E38*F38) -> 0 | H38: =G38*0.8 -> 0 | I38: 80 | J38: =ROUND((G38-H38),2) -> 0
C39: NSO - neposredni stroški osebja | D39: Izberi | F39: =IF(D39="Vodenje in koordinacija","23,33",IF(D39="Strokovna in tehnična pomoč","17,89",IF(D39="Izvajanje neindustrijske dejavnosti","13,24",IF(D39="Prostovoljsko delo - organizacijsko","13,00",IF(D39="Prostovoljsko delo - vsebinsko","10,00",IF(D39="Prostovoljsko delo - drugo","6,00",IF(D39="Kmet","12,25",IF(D39="Izberi","0")))))))) -> 0 | G39: =SUM(E39*F39) -> 0 | H39: =G39*0.8 -> 0 | I39: 80 | J39: =ROUND((G39-H39),2) -> 0
C40: NSO - neposredni stroški osebja | D40: Izberi | F40: =IF(D40="Vodenje in koordinacija","23,33",IF(D40="Strokovna in tehnična pomoč","17,89",IF(D40="Izvajanje neindustrijske dejavnosti","13,24",IF(D40="Prostovoljsko delo - organizacijsko","13,00",IF(D40="Prostovoljsko delo - vsebinsko","10,00",IF(D40="Prostovoljsko delo - drugo","6,00",IF(D40="Kmet","12,25",IF(D40="Izberi","0")))))))) -> 0 | G40: =SUM(E40*F40) -> 0 | H40: =G40*0.8 -> 0 | I40: 80 | J40: =ROUND((G40-H40),2) -> 0
C41: NSO - neposredni stroški osebja | D41: Izberi | F41: =IF(D41="Vodenje in koordinacija","23,33",IF(D41="Strokovna in tehnična pomoč","17,89",IF(D41="Izvajanje neindustrijske dejavnosti","13,24",IF(D41="Prostovoljsko delo - organizacijsko","13,00",IF(D41="Prostovoljsko delo - vsebinsko","10,00",IF(D41="Prostovoljsko delo - drugo","6,00",IF(D41="Kmet","12,25",IF(D41="Izberi","0")))))))) -> 0 | G41: =SUM(E41*F41) -> 0 | H41: =G41*0.8 -> 0 | I41: 80 | J41: =ROUND((G41-H41),2) -> 0
C42: NSO - neposredni stroški osebja | D42: Izberi | F42: =IF(D42="Vodenje in koordinacija","23,33",IF(D42="Strokovna in tehnična pomoč","17,89",IF(D42="Izvajanje neindustrijske dejavnosti","13,24",IF(D42="Prostovoljsko delo - organizacijsko","13,00",IF(D42="Prostovoljsko delo - vsebinsko","10,00",IF(D42="Prostovoljsko delo - drugo","6,00",IF(D42="Kmet","12,25",IF(D42="Izberi","0")))))))) -> 0 | G42: =SUM(E42*F42) -> 0 | H42: =G42*0.8 -> 0 | I42: 80 | J42: =ROUND((G42-H42),2) -> 0
C43: NSO - neposredni stroški osebja | D43: Izberi | F43: =IF(D43="Vodenje in koordinacija","23,33",IF(D43="Strokovna in tehnična pomoč","17,89",IF(D43="Izvajanje neindustrijske dejavnosti","13,24",IF(D43="Prostovoljsko delo - organizacijsko","13,00",IF(D43="Prostovoljsko delo - vsebinsko","10,00",IF(D43="Prostovoljsko delo - drugo","6,00",IF(D43="Kmet","12,25",IF(D43="Izberi","0")))))))) -> 0 | G43: =SUM(E43*F43) -> 0 | H43: =G43*0.8 -> 0 | I43: 80 | J43: =ROUND((G43-H43),2) -> 0
C44: NSO - neposredni stroški osebja | D44: Izberi | F44: =IF(D44="Vodenje in koordinacija","23,33",IF(D44="Strokovna in tehnična pomoč","17,89",IF(D44="Izvajanje neindustrijske dejavnosti","13,24",IF(D44="Prostovoljsko delo - organizacijsko","13,00",IF(D44="Prostovoljsko delo - vsebinsko","10,00",IF(D44="Prostovoljsko delo - drugo","6,00",IF(D44="Kmet","12,25",IF(D44="Izberi","0")))))))) -> 0 | G44: =SUM(E44*F44) -> 0 | H44: =G44*0.8 -> 0 | I44: 80 | J44: =ROUND((G44-H44),2) -> 0
C45: NSO - neposredni stroški osebja | D45: Izberi | F45: =IF(D45="Vodenje in koordinacija","23,33",IF(D45="Strokovna in tehnična pomoč","17,89",IF(D45="Izvajanje neindustrijske dejavnosti","13,24",IF(D45="Prostovoljsko delo - organizacijsko","13,00",IF(D45="Prostovoljsko delo - vsebinsko","10,00",IF(D45="Prostovoljsko delo - drugo","6,00",IF(D45="Kmet","12,25",IF(D45="Izberi","0")))))))) -> 0 | G45: =SUM(E45*F45) -> 0 | H45: =G45*0.8 -> 0 | I45: 80 | J45: =ROUND((G45-H45),2) -> 0
... C53: NSO - neposredni stroški osebja | D53: Izberi | F53: =IF(D53="Vodenje in koordinacija","23,33",IF(D53="Strokovna in tehnična pomoč","17,89",IF(D53="Izvajanje neindustrijske dejavnosti","13,24",IF(D53="Prostovoljsko delo - organizacijsko","13,00",IF(D53="Prostovoljsko delo - vsebinsko","10,00",IF(D53="Prostovoljsko delo - drugo","6,00",IF(D53="Kmet","12,25",IF(D53="Izberi","0")))))))) -> 0 | G53: =SUM(E53*F53) -> 0 | H53: =G53*0.8 -> 0 | I53: 80 | J53: =ROUND((G53-H53),2) -> 0
C54: PRS - preostali stroški, ki niso stroški osebja (40 %) | D54: Preostale projektne aktivnosti | G54: =SUM(G34:G53)*0.4 -> 0 | H54: =G54*0.8 -> 0 | I54: 80 | J54: =ROUND((G54-H54),2) -> 0
F55: SKUPAJ | G55: =SUM(G34:G54) -> 0 | H55: =SUM(H34:H54) -> 0
B59: VREDNOST PROJEKTA - PARTNER 1
B60: SKUPNI UPRAVIČENI NEPOSREDNI STROŠKI OSEBJA | C60: PREOSTALI STROŠKI, KI NISO STROŠKI OSEBJA (PAVŠALNA STOPNJA) | D60: SKUPNI UPRAVIČENI STROŠKI | E60: ZNESEK SOFINANCIRANJA | F60: LASTNA UDELEŽBA
B61: =SUM(G34:G53)+SUM(G7:G26) -> 0 | C61: =G54+G27 -> 0 | D61: =G55+G28 -> 0 | E61: =H55+H28 -> 0 | F61: =SUM(J7:J27,J34:J54) -> 0

Sheet Partner 2
B1: "Finančni načrt - NEINVESTICIJSKI PROJEKT" | I1: 1. JAVNI POZIV LAS ZELENA ISTRA (EKSRP)
B5: NAZIV PARTNERJA 2:
B6: AKTIVNOST (1. FAZA) | C6: VRSTA STROŠKA | D6: TIP DELA | E6: ŠT. OPRAVLJENIH UR NA PROJEKTU | F6: URNA POSTAVKA (EUR) | G6: SKUPNI UPRAVIČENI STROŠKI | H6: ZNESEK SOFINANCIRANJA | I6: ODSTOTEK SOFINANCIRANJA (80%) | J6: LASTNA UDELEŽBA
C7: NSO - neposredni stroški osebja | D7: Izberi | F7: =IF(D7="Vodenje in koordinacija","23,33",IF(D7="Strokovna in tehnična pomoč","17,89",IF(D7="Izvajanje neindustrijske dejavnosti","13,24",IF(D7="Prostovoljsko delo - organizacijsko","13,00",IF(D7="Prostovoljsko delo - vsebinsko","10,00",IF(D7="Prostovoljsko delo - drugo","6,00",IF(D7="Kmet","12,25",IF(D7="Izberi","0")))))))) -> 0 | G7: =SUM(E7*F7) -> 0 | H7: =G7*0.8 -> 0 | I7: 80 | J7: =ROUND((G7-H7),2) -> 0
C8: NSO - neposredni stroški osebja | D8: Izberi | F8: =IF(D8="Vodenje in koordinacija","23,33",IF(D8="Strokovna in tehnična pomoč","17,89",IF(D8="Izvajanje neindustrijske dejavnosti","13,24",IF(D8="Prostovoljsko delo - organizacijsko","13,00",IF(D8="Prostovoljsko delo - vsebinsko","10,00",IF(D8="Prostovoljsko delo - drugo","6,00",IF(D8="Kmet","12,25",IF(D8="Izberi","0")))))))) -> 0 | G8: =SUM(E8*F8) -> 0 | H8: =G8*0.8 -> 0 | I8: 80 | J8: =ROUND((G8-H8),2) -> 0
C9: NSO - neposredni stroški osebja | D9: Izberi | F9: =IF(D9="Vodenje in koordinacija","23,33",IF(D9="Strokovna in tehnična pomoč","17,89",IF(D9="Izvajanje neindustrijske dejavnosti","13,24",IF(D9="Prostovoljsko delo - organizacijsko","13,00",IF(D9="Prostovoljsko delo - vsebinsko","10,00",IF(D9="Prostovoljsko delo - drugo","6,00",IF(D9="Kmet","12,25",IF(D9="Izberi","0")))))))) -> 0 | G9: =SUM(E9*F9) -> 0 | H9: =G9*0.8 -> 0 | I9: 80 | J9: =ROUND((G9-H9),2) -> 0
C10: NSO - neposredni stroški osebja | D10: Izberi | F10: =IF(D10="Vodenje in koordinacija","23,33",IF(D10="Strokovna in tehnična pomoč","17,89",IF(D10="Izvajanje neindustrijske dejavnosti","13,24",IF(D10="Prostovoljsko delo - organizacijsko","13,00",IF(D10="Prostovoljsko delo - vsebinsko","10,00",IF(D10="Prostovoljsko delo - drugo","6,00",IF(D10="Kmet","12,25",IF(D10="Izberi","0")))))))) -> 0 | G10: =SUM(E10*F10) -> 0 | H10: =G10*0.8 -> 0 | I10: 80 | J10: =ROUND((G10-H10),2) -> 0
C11: NSO - neposredni stroški osebja | D11: Izberi | F11: =IF(D11="Vodenje in koordinacija","23,33",IF(D11="Strokovna in tehnična pomoč","17,89",IF(D11="Izvajanje neindustrijske dejavnosti","13,24",IF(D11="Prostovoljsko delo - organizacijsko","13,00",IF(D11="Prostovoljsko delo - vsebinsko","10,00",IF(D11="Prostovoljsko delo - drugo","6,00",IF(D11="Kmet","12,25",IF(D11="Izberi","0")))))))) -> 0 | G11: =SUM(E11*F11) -> 0 | H11: =G11*0.8 -> 0 | I11: 80 | J11: =ROUND((G11-H11),2) -> 0
C12: NSO - neposredni stroški osebja | D12: Izberi | F12: =IF(D12="Vodenje in koordinacija","23,33",IF(D12="Strokovna in tehnična pomoč","17,89",IF(D12="Izvajanje neindustrijske dejavnosti","13,24",IF(D12="Prostovoljsko delo - organizacijsko","13,00",IF(D12="Prostovoljsko delo - vsebinsko","10,00",IF(D12="Prostovoljsko delo - drugo","6,00",IF(D12="Kmet","12,25",IF(D12="Izberi","0")))))))) -> 0 | G12: =SUM(E12*F12) -> 0 | H12: =G12*0.8 -> 0 | I12: 80 | J12: =ROUND((G12-H12),2) -> 0
C13: NSO - neposredni stroški osebja | D13: Izberi | F13: =IF(D13="Vodenje in koordinacija","23,33",IF(D13="Strokovna in tehnična pomoč","17,89",IF(D13="Izvajanje neindustrijske dejavnosti","13,24",IF(D13="Prostovoljsko delo - organizacijsko","13,00",IF(D13="Prostovoljsko delo - vsebinsko","10,00",IF(D13="Prostovoljsko delo - drugo","6,00",IF(D13="Kmet","12,25",IF(D13="Izberi","0")))))))) -> 0 | G13: =SUM(E13*F13) -> 0 | H13: =G13*0.8 -> 0 | I13: 80 | J13: =ROUND((G13-H13),2) -> 0
C14: NSO - neposredni stroški osebja | D14: Izberi | F14: =IF(D14="Vodenje in koordinacija","23,33",IF(D14="Strokovna in tehnična pomoč","17,89",IF(D14="Izvajanje neindustrijske dejavnosti","13,24",IF(D14="Prostovoljsko delo - organizacijsko","13,00",IF(D14="Prostovoljsko delo - vsebinsko","10,00",IF(D14="Prostovoljsko delo - drugo","6,00",IF(D14="Kmet","12,25",IF(D14="Izberi","0")))))))) -> 0 | G14: =SUM(E14*F14) -> 0 | H14: =G14*0.8 -> 0 | I14: 80 | J14: =ROUND((G14-H14),2) -> 0
C15: NSO - neposredni stroški osebja | D15: Izberi | F15: =IF(D15="Vodenje in koordinacija","23,33",IF(D15="Strokovna in tehnična pomoč","17,89",IF(D15="Izvajanje neindustrijske dejavnosti","13,24",IF(D15="Prostovoljsko delo - organizacijsko","13,00",IF(D15="Prostovoljsko delo - vsebinsko","10,00",IF(D15="Prostovoljsko delo - drugo","6,00",IF(D15="Kmet","12,25",IF(D15="Izberi","0")))))))) -> 0 | G15: =SUM(E15*F15) -> 0 | H15: =G15*0.8 -> 0 | I15: 80 | J15: =ROUND((G15-H15),2) -> 0
C16: NSO - neposredni stroški osebja | D16: Izberi | F16: =IF(D16="Vodenje in koordinacija","23,33",IF(D16="Strokovna in tehnična pomoč","17,89",IF(D16="Izvajanje neindustrijske dejavnosti","13,24",IF(D16="Prostovoljsko delo - organizacijsko","13,00",IF(D16="Prostovoljsko delo - vsebinsko","10,00",IF(D16="Prostovoljsko delo - drugo","6,00",IF(D16="Kmet","12,25",IF(D16="Izberi","0")))))))) -> 0 | G16: =SUM(E16*F16) -> 0 | H16: =G16*0.8 -> 0 | I16: 80 | J16: =ROUND((G16-H16),2) -> 0
C17: NSO - neposredni stroški osebja | D17: Izberi | F17: =IF(D17="Vodenje in koordinacija","23,33",IF(D17="Strokovna in tehnična pomoč","17,89",IF(D17="Izvajanje neindustrijske dejavnosti","13,24",IF(D17="Prostovoljsko delo - organizacijsko","13,00",IF(D17="Prostovoljsko delo - vsebinsko","10,00",IF(D17="Prostovoljsko delo - drugo","6,00",IF(D17="Kmet","12,25",IF(D17="Izberi","0")))))))) -> 0 | G17: =SUM(E17*F17) -> 0 | H17: =G17*0.8 -> 0 | I17: 80 | J17: =ROUND((G17-H17),2) -> 0
C18: NSO - neposredni stroški osebja | D18: Izberi | F18: =IF(D18="Vodenje in koordinacija","23,33",IF(D18="Strokovna in tehnična pomoč","17,89",IF(D18="Izvajanje neindustrijske dejavnosti","13,24",IF(D18="Prostovoljsko delo - organizacijsko","13,00",IF(D18="Prostovoljsko delo - vsebinsko","10,00",IF(D18="Prostovoljsko delo - drugo","6,00",IF(D18="Kmet","12,25",IF(D18="Izberi","0")))))))) -> 0 | G18: =SUM(E18*F18) -> 0 | H18: =G18*0.8 -> 0 | I18: 80 | J18: =ROUND((G18-H18),2) -> 0
... C26: NSO - neposredni stroški osebja | D26: Izberi | F26: =IF(D26="Vodenje in koordinacija","23,33",IF(D26="Strokovna in tehnična pomoč","17,89",IF(D26="Izvajanje neindustrijske dejavnosti","13,24",IF(D26="Prostovoljsko delo - organizacijsko","13,00",IF(D26="Prostovoljsko delo - vsebinsko","10,00",IF(D26="Prostovoljsko delo - drugo","6,00",IF(D26="Kmet","12,25",IF(D26="Izberi","0")))))))) -> 0 | G26: =SUM(E26*F26) -> 0 | H26: =G26*0.8 -> 0 | I26: 80 | J26: =ROUND((G26-H26),2) -> 0
C27: PRS - preostali stroški, ki niso stroški osebja (40 %) | D27: Preostale projektne aktivnosti | G27: =SUM(G7:G26)*0.4 -> 0 | H27: =G27*0.8 -> 0 | I27: 80 | J27: =ROUND((G27-H27),2) -> 0
F28: SKUPAJ | G28: =SUM(G7:G27) -> 0 | H28: =SUM(H7:H27) -> 0
B33: AKTIVNOST (2. FAZA) | C33: VRSTA STROŠKA | D33: TIP DELA | E33: ŠT. OPRAVLJENIH UR NA PROJEKTU | F33: URNA POSTAVKA (EUR) | G33: SKUPNI UPRAVIČENI STROŠKI (EUR) | H33: ZNESEK SOFINANCIRANJA (EUR) | I33: ODSTOTEK SOFINANCIRANJA (80%) | J33: LASTNA UDELEŽBA
C34: NSO - neposredni stroški osebja | D34: Izberi | F34: =IF(D34="Vodenje in koordinacija","23,33",IF(D34="Strokovna in tehnična pomoč","17,89",IF(D34="Izvajanje neindustrijske dejavnosti","13,24",IF(D34="Prostovoljsko delo - organizacijsko","13,00",IF(D34="Prostovoljsko delo - vsebinsko","10,00",IF(D34="Prostovoljsko delo - drugo","6,00",IF(D34="Kmet","12,25",IF(D34="Izberi","0")))))))) -> 0 | G34: =SUM(E34*F34) -> 0 | H34: =G34*0.8 -> 0 | I34: 80 | J34: =ROUND((G34-H34),2) -> 0
C35: NSO - neposredni stroški osebja | D35: Izberi | F35: =IF(D35="Vodenje in koordinacija","23,33",IF(D35="Strokovna in tehnična pomoč","17,89",IF(D35="Izvajanje neindustrijske dejavnosti","13,24",IF(D35="Prostovoljsko delo - organizacijsko","13,00",IF(D35="Prostovoljsko delo - vsebinsko","10,00",IF(D35="Prostovoljsko delo - drugo","6,00",IF(D35="Kmet","12,25",IF(D35="Izberi","0")))))))) -> 0 | G35: =SUM(E35*F35) -> 0 | H35: =G35*0.8 -> 0 | I35: 80 | J35: =ROUND((G35-H35),2) -> 0
C36: NSO - neposredni stroški osebja | D36: Izberi | F36: =IF(D36="Vodenje in koordinacija","23,33",IF(D36="Strokovna in tehnična pomoč","17,89",IF(D36="Izvajanje neindustrijske dejavnosti","13,24",IF(D36="Prostovoljsko delo - organizacijsko","13,00",IF(D36="Prostovoljsko delo - vsebinsko","10,00",IF(D36="Prostovoljsko delo - drugo","6,00",IF(D36="Kmet","12,25",IF(D36="Izberi","0")))))))) -> 0 | G36: =SUM(E36*F36) -> 0 | H36: =G36*0.8 -> 0 | I36: 80 | J36: =ROUND((G36-H36),2) -> 0
C37: NSO - neposredni stroški osebja | D37: Izberi | F37: =IF(D37="Vodenje in koordinacija","23,33",IF(D37="Strokovna in tehnična pomoč","17,89",IF(D37="Izvajanje neindustrijske dejavnosti","13,24",IF(D37="Prostovoljsko delo - organizacijsko","13,00",IF(D37="Prostovoljsko delo - vsebinsko","10,00",IF(D37="Prostovoljsko delo - drugo","6,00",IF(D37="Kmet","12,25",IF(D37="Izberi","0")))))))) -> 0 | G37: =SUM(E37*F37) -> 0 | H37: =G37*0.8 -> 0 | I37: 80 | J37: =ROUND((G37-H37),2) -> 0
C38: NSO - neposredni stroški osebja | D38: Izberi | F38: =IF(D38="Vodenje in koordinacija","23,33",IF(D38="Strokovna in tehnična pomoč","17,89",IF(D38="Izvajanje neindustrijske dejavnosti","13,24",IF(D38="Prostovoljsko delo - organizacijsko","13,00",IF(D38="Prostovoljsko delo - vsebinsko","10,00",IF(D38="Prostovoljsko delo - drugo","6,00",IF(D38="Kmet","12,25",IF(D38="Izberi","0")))))))) -> 0 | G38: =SUM(E38*F38) -> 0 | H38: =G38*0.8 -> 0 | I38: 80 | J38: =ROUND((G38-H38),2) -> 0
C39: NSO - neposredni stroški osebja | D39: Izberi | F39: =IF(D39="Vodenje in koordinacija","23,33",IF(D39="Strokovna in tehnična pomoč","17,89",IF(D39="Izvajanje neindustrijske dejavnosti","13,24",IF(D39="Prostovoljsko delo - organizacijsko","13,00",IF(D39="Prostovoljsko delo - vsebinsko","10,00",IF(D39="Prostovoljsko delo - drugo","6,00",IF(D39="Kmet","12,25",IF(D39="Izberi","0")))))))) -> 0 | G39: =SUM(E39*F39) -> 0 | H39: =G39*0.8 -> 0 | I39: 80 | J39: =ROUND((G39-H39),2) -> 0
C40: NSO - neposredni stroški osebja | D40: Izberi | F40: =IF(D40="Vodenje in koordinacija","23,33",IF(D40="Strokovna in tehnična pomoč","17,89",IF(D40="Izvajanje neindustrijske dejavnosti","13,24",IF(D40="Prostovoljsko delo - organizacijsko","13,00",IF(D40="Prostovoljsko delo - vsebinsko","10,00",IF(D40="Prostovoljsko delo - drugo","6,00",IF(D40="Kmet","12,25",IF(D40="Izberi","0")))))))) -> 0 | G40: =SUM(E40*F40) -> 0 | H40: =G40*0.8 -> 0 | I40: 80 | J40: =ROUND((G40-H40),2) -> 0
C41: NSO - neposredni stroški osebja | D41: Izberi | F41: =IF(D41="Vodenje in koordinacija","23,33",IF(D41="Strokovna in tehnična pomoč","17,89",IF(D41="Izvajanje neindustrijske dejavnosti","13,24",IF(D41="Prostovoljsko delo - organizacijsko","13,00",IF(D41="Prostovoljsko delo - vsebinsko","10,00",IF(D41="Prostovoljsko delo - drugo","6,00",IF(D41="Kmet","12,25",IF(D41="Izberi","0")))))))) -> 0 | G41: =SUM(E41*F41) -> 0 | H41: =G41*0.8 -> 0 | I41: 80 | J41: =ROUND((G41-H41),2) -> 0
C42: NSO - neposredni stroški osebja | D42: Izberi | F42: =IF(D42="Vodenje in koordinacija","23,33",IF(D42="Strokovna in tehnična pomoč","17,89",IF(D42="Izvajanje neindustrijske dejavnosti","13,24",IF(D42="Prostovoljsko delo - organizacijsko","13,00",IF(D42="Prostovoljsko delo - vsebinsko","10,00",IF(D42="Prostovoljsko delo - drugo","6,00",IF(D42="Kmet","12,25",IF(D42="Izberi","0")))))))) -> 0 | G42: =SUM(E42*F42) -> 0 | H42: =G42*0.8 -> 0 | I42: 80 | J42: =ROUND((G42-H42),2) -> 0
C43: NSO - neposredni stroški osebja | D43: Izberi | F43: =IF(D43="Vodenje in koordinacija","23,33",IF(D43="Strokovna in tehnična pomoč","17,89",IF(D43="Izvajanje neindustrijske dejavnosti","13,24",IF(D43="Prostovoljsko delo - organizacijsko","13,00",IF(D43="Prostovoljsko delo - vsebinsko","10,00",IF(D43="Prostovoljsko delo - drugo","6,00",IF(D43="Kmet","12,25",IF(D43="Izberi","0")))))))) -> 0 | G43: =SUM(E43*F43) -> 0 | H43: =G43*0.8 -> 0 | I43: 80 | J43: =ROUND((G43-H43),2) -> 0
C44: NSO - neposredni stroški osebja | D44: Izberi | F44: =IF(D44="Vodenje in koordinacija","23,33",IF(D44="Strokovna in tehnična pomoč","17,89",IF(D44="Izvajanje neindustrijske dejavnosti","13,24",IF(D44="Prostovoljsko delo - organizacijsko","13,00",IF(D44="Prostovoljsko delo - vsebinsko","10,00",IF(D44="Prostovoljsko delo - drugo","6,00",IF(D44="Kmet","12,25",IF(D44="Izberi","0")))))))) -> 0 | G44: =SUM(E44*F44) -> 0 | H44: =G44*0.8 -> 0 | I44: 80 | J44: =ROUND((G44-H44),2) -> 0
C45: NSO - neposredni stroški osebja | D45: Izberi | F45: =IF(D45="Vodenje in koordinacija","23,33",IF(D45="Strokovna in tehnična pomoč","17,89",IF(D45="Izvajanje neindustrijske dejavnosti","13,24",IF(D45="Prostovoljsko delo - organizacijsko","13,00",IF(D45="Prostovoljsko delo - vsebinsko","10,00",IF(D45="Prostovoljsko delo - drugo","6,00",IF(D45="Kmet","12,25",IF(D45="Izberi","0")))))))) -> 0 | G45: =SUM(E45*F45) -> 0 | H45: =G45*0.8 -> 0 | I45: 80 | J45: =ROUND((G45-H45),2) -> 0
... C53: NSO - neposredni stroški osebja | D53: Izberi | F53: =IF(D53="Vodenje in koordinacija","23,33",IF(D53="Strokovna in tehnična pomoč","17,89",IF(D53="Izvajanje neindustrijske dejavnosti","13,24",IF(D53="Prostovoljsko delo - organizacijsko","13,00",IF(D53="Prostovoljsko delo - vsebinsko","10,00",IF(D53="Prostovoljsko delo - drugo","6,00",IF(D53="Kmet","12,25",IF(D53="Izberi","0")))))))) -> 0 | G53: =SUM(E53*F53) -> 0 | H53: =G53*0.8 -> 0 | I53: 80 | J53: =ROUND((G53-H53),2) -> 0
C54: PRS - preostali stroški, ki niso stroški osebja (40 %) | D54: Preostale projektne aktivnosti | G54: =SUM(G34:G53)*0.4 -> 0 | H54: =G54*0.8 -> 0 | I54: 80 | J54: =ROUND((G54-H54),2) -> 0
F55: SKUPAJ | G55: =SUM(G34:G54) -> 0 | H55: =SUM(H34:H54) -> 0
B59: VREDNOST PROJEKTA - PARTNER 2
B60: SKUPNI UPRAVIČENI NEPOSREDNI STROŠKI OSEBJA | C60: PREOSTALI STROŠKI, KI NISO STROŠKI OSEBJA (PAVŠALNA STOPNJA) | D60: SKUPNI UPRAVIČENI STROŠKI | E60: ZNESEK SOFINANCIRANJA | F60: LASTNA UDELEŽBA
B61: =SUM(G34:G53)+SUM(G7:G26) -> 0 | C61: =G54+G27 -> 0 | D61: =G55+G28 -> 0 | E61: =H55+H28 -> 0 | F61: =SUM(J7:J27,J34:J54) -> 0

Sheet Partner 3
B1: "Finančni načrt - NEINVESTICIJSKI PROJEKT" | I1: 1. JAVNI POZIV LAS ZELENA ISTRA (EKSRP)
B5: NAZIV PARTNERJA 3:
B6: AKTIVNOST (1. FAZA) | C6: VRSTA STROŠKA | D6: TIP DELA | E6: ŠT. OPRAVLJENIH UR NA PROJEKTU | F6: URNA POSTAVKA (EUR) | G6: SKUPNI UPRAVIČENI STROŠKI | H6: ZNESEK SOFINANCIRANJA | I6: ODSTOTEK SOFINANCIRANJA (80%) | J6: LASTNA UDELEŽBA
C7: NSO - neposredni stroški osebja | D7: Izberi | F7: =IF(D7="Vodenje in koordinacija","23,33",IF(D7="Strokovna in tehnična pomoč","17,89",IF(D7="Izvajanje neindustrijske dejavnosti","13,24",IF(D7="Prostovoljsko delo - organizacijsko","13,00",IF(D7="Prostovoljsko delo - vsebinsko","10,00",IF(D7="Prostovoljsko delo - drugo","6,00",IF(D7="Kmet","12,25",IF(D7="Izberi","0")))))))) -> 0 | G7: =SUM(E7*F7) -> 0 | H7: =G7*0.8 -> 0 | I7: 80 | J7: =ROUND((G7-H7),2) -> 0
C8: NSO - neposredni stroški osebja | D8: Izberi | F8: =IF(D8="Vodenje in koordinacija","23,33",IF(D8="Strokovna in tehnična pomoč","17,89",IF(D8="Izvajanje neindustrijske dejavnosti","13,24",IF(D8="Prostovoljsko delo - organizacijsko","13,00",IF(D8="Prostovoljsko delo - vsebinsko","10,00",IF(D8="Prostovoljsko delo - drugo","6,00",IF(D8="Kmet","12,25",IF(D8="Izberi","0")))))))) -> 0 | G8: =SUM(E8*F8) -> 0 | H8: =G8*0.8 -> 0 | I8: 80 | J8: =ROUND((G8-H8),2) -> 0
C9: NSO - neposredni stroški osebja | D9: Izberi | F9: =IF(D9="Vodenje in koordinacija","23,33",IF(D9="Strokovna in tehnična pomoč","17,89",IF(D9="Izvajanje neindustrijske dejavnosti","13,24",IF(D9="Prostovoljsko delo - organizacijsko","13,00",IF(D9="Prostovoljsko delo - vsebinsko","10,00",IF(D9="Prostovoljsko delo - drugo","6,00",IF(D9="Kmet","12,25",IF(D9="Izberi","0")))))))) -> 0 | G9: =SUM(E9*F9) -> 0 | H9: =G9*0.8 -> 0 | I9: 80 | J9: =ROUND((G9-H9),2) -> 0
C10: NSO - neposredni stroški osebja | D10: Izberi | F10: =IF(D10="Vodenje in koordinacija","23,33",IF(D10="Strokovna in tehnična pomoč","17,89",IF(D10="Izvajanje neindustrijske dejavnosti","13,24",IF(D10="Prostovoljsko delo - organizacijsko","13,00",IF(D10="Prostovoljsko delo - vsebinsko","10,00",IF(D10="Prostovoljsko delo - drugo","6,00",IF(D10="Kmet","12,25",IF(D10="Izberi","0")))))))) -> 0 | G10: =SUM(E10*F10) -> 0 | H10: =G10*0.8 -> 0 | I10: 80 | J10: =ROUND((G10-H10),2) -> 0
C11: NSO - neposredni stroški osebja | D11: Izberi | F11: =IF(D11="Vodenje in koordinacija","23,33",IF(D11="Strokovna in tehnična pomoč","17,89",IF(D11="Izvajanje neindustrijske dejavnosti","13,24",IF(D11="Prostovoljsko delo - organizacijsko","13,00",IF(D11="Prostovoljsko delo - vsebinsko","10,00",IF(D11="Prostovoljsko delo - drugo","6,00",IF(D11="Kmet","12,25",IF(D11="Izberi","0")))))))) -> 0 | G11: =SUM(E11*F11) -> 0 | H11: =G11*0.8 -> 0 | I11: 80 | J11: =ROUND((G11-H11),2) -> 0
C12: NSO - neposredni stroški osebja | D12: Izberi | F12: =IF(D12="Vodenje in koordinacija","23,33",IF(D12="Strokovna in tehnična pomoč","17,89",IF(D12="Izvajanje neindustrijske dejavnosti","13,24",IF(D12="Prostovoljsko delo - organizacijsko","13,00",IF(D12="Prostovoljsko delo - vsebinsko","10,00",IF(D12="Prostovoljsko delo - drugo","6,00",IF(D12="Kmet","12,25",IF(D12="Izberi","0")))))))) -> 0 | G12: =SUM(E12*F12) -> 0 | H12: =G12*0.8 -> 0 | I12: 80 | J12: =ROUND((G12-H12),2) -> 0
C13: NSO - neposredni stroški osebja | D13: Izberi | F13: =IF(D13="Vodenje in koordinacija","23,33",IF(D13="Strokovna in tehnična pomoč","17,89",IF(D13="Izvajanje neindustrijske dejavnosti","13,24",IF(D13="Prostovoljsko delo - organizacijsko","13,00",IF(D13="Prostovoljsko delo - vsebinsko","10,00",IF(D13="Prostovoljsko delo - drugo","6,00",IF(D13="Kmet","12,25",IF(D13="Izberi","0")))))))) -> 0 | G13: =SUM(E13*F13) -> 0 | H13: =G13*0.8 -> 0 | I13: 80 | J13: =ROUND((G13-H13),2) -> 0
C14: NSO - neposredni stroški osebja | D14: Izberi | F14: =IF(D14="Vodenje in koordinacija","23,33",IF(D14="Strokovna in tehnična pomoč","17,89",IF(D14="Izvajanje neindustrijske dejavnosti","13,24",IF(D14="Prostovoljsko delo - organizacijsko","13,00",IF(D14="Prostovoljsko delo - vsebinsko","10,00",IF(D14="Prostovoljsko delo - drugo","6,00",IF(D14="Kmet","12,25",IF(D14="Izberi","0")))))))) -> 0 | G14: =SUM(E14*F14) -> 0 | H14: =G14*0.8 -> 0 | I14: 80 | J14: =ROUND((G14-H14),2) -> 0
C15: NSO - neposredni stroški osebja | D15: Izberi | F15: =IF(D15="Vodenje in koordinacija","23,33",IF(D15="Strokovna in tehnična pomoč","17,89",IF(D15="Izvajanje neindustrijske dejavnosti","13,24",IF(D15="Prostovoljsko delo - organizacijsko","13,00",IF(D15="Prostovoljsko delo - vsebinsko","10,00",IF(D15="Prostovoljsko delo - drugo","6,00",IF(D15="Kmet","12,25",IF(D15="Izberi","0")))))))) -> 0 | G15: =SUM(E15*F15) -> 0 | H15: =G15*0.8 -> 0 | I15: 80 | J15: =ROUND((G15-H15),2) -> 0
C16: NSO - neposredni stroški osebja | D16: Izberi | F16: =IF(D16="Vodenje in koordinacija","23,33",IF(D16="Strokovna in tehnična pomoč","17,89",IF(D16="Izvajanje neindustrijske dejavnosti","13,24",IF(D16="Prostovoljsko delo - organizacijsko","13,00",IF(D16="Prostovoljsko delo - vsebinsko","10,00",IF(D16="Prostovoljsko delo - drugo","6,00",IF(D16="Kmet","12,25",IF(D16="Izberi","0")))))))) -> 0 | G16: =SUM(E16*F16) -> 0 | H16: =G16*0.8 -> 0 | I16: 80 | J16: =ROUND((G16-H16),2) -> 0
C17: NSO - neposredni stroški osebja | D17: Izberi | F17: =IF(D17="Vodenje in koordinacija","23,33",IF(D17="Strokovna in tehnična pomoč","17,89",IF(D17="Izvajanje neindustrijske dejavnosti","13,24",IF(D17="Prostovoljsko delo - organizacijsko","13,00",IF(D17="Prostovoljsko delo - vsebinsko","10,00",IF(D17="Prostovoljsko delo - drugo","6,00",IF(D17="Kmet","12,25",IF(D17="Izberi","0")))))))) -> 0 | G17: =SUM(E17*F17) -> 0 | H17: =G17*0.8 -> 0 | I17: 80 | J17: =ROUND((G17-H17),2) -> 0
C18: NSO - neposredni stroški osebja | D18: Izberi | F18: =IF(D18="Vodenje in koordinacija","23,33",IF(D18="Strokovna in tehnična pomoč","17,89",IF(D18="Izvajanje neindustrijske dejavnosti","13,24",IF(D18="Prostovoljsko delo - organizacijsko","13,00",IF(D18="Prostovoljsko delo - vsebinsko","10,00",IF(D18="Prostovoljsko delo - drugo","6,00",IF(D18="Kmet","12,25",IF(D18="Izberi","0")))))))) -> 0 | G18: =SUM(E18*F18) -> 0 | H18: =G18*0.8 -> 0 | I18: 80 | J18: =ROUND((G18-H18),2) -> 0
... C26: NSO - neposredni stroški osebja | D26: Izberi | F26: =IF(D26="Vodenje in koordinacija","23,33",IF(D26="Strokovna in tehnična pomoč","17,89",IF(D26="Izvajanje neindustrijske dejavnosti","13,24",IF(D26="Prostovoljsko delo - organizacijsko","13,00",IF(D26="Prostovoljsko delo - vsebinsko","10,00",IF(D26="Prostovoljsko delo - drugo","6,00",IF(D26="Kmet","12,25",IF(D26="Izberi","0")))))))) -> 0 | G26: =SUM(E26*F26) -> 0 | H26: =G26*0.8 -> 0 | I26: 80 | J26: =ROUND((G26-H26),2) -> 0
C27: PRS - preostali stroški, ki niso stroški osebja (40 %) | D27: Preostale projektne aktivnosti | G27: =SUM(G7:G26)*0.4 -> 0 | H27: =G27*0.8 -> 0 | I27: 80 | J27: =ROUND((G27-H27),2) -> 0
F28: SKUPAJ | G28: =SUM(G7:G27) -> 0 | H28: =SUM(H7:H27) -> 0
B33: AKTIVNOST (2. FAZA) | C33: VRSTA STROŠKA | D33: TIP DELA | E33: ŠT. OPRAVLJENIH UR NA PROJEKTU | F33: URNA POSTAVKA (EUR) | G33: SKUPNI UPRAVIČENI STROŠKI (EUR) | H33: ZNESEK SOFINANCIRANJA (EUR) | I33: ODSTOTEK SOFINANCIRANJA (80%) | J33: LASTNA UDELEŽBA
C34: NSO - neposredni stroški osebja | D34: Izberi | F34: =IF(D34="Vodenje in koordinacija","23,33",IF(D34="Strokovna in tehnična pomoč","17,89",IF(D34="Izvajanje neindustrijske dejavnosti","13,24",IF(D34="Prostovoljsko delo - organizacijsko","13,00",IF(D34="Prostovoljsko delo - vsebinsko","10,00",IF(D34="Prostovoljsko delo - drugo","6,00",IF(D34="Kmet","12,25",IF(D34="Izberi","0")))))))) -> 0 | G34: =SUM(E34*F34) -> 0 | H34: =G34*0.8 -> 0 | I34: 80 | J34: =ROUND((G34-H34),2) -> 0
C35: NSO - neposredni stroški osebja | D35: Izberi | F35: =IF(D35="Vodenje in koordinacija","23,33",IF(D35="Strokovna in tehnična pomoč","17,89",IF(D35="Izvajanje neindustrijske dejavnosti","13,24",IF(D35="Prostovoljsko delo - organizacijsko","13,00",IF(D35="Prostovoljsko delo - vsebinsko","10,00",IF(D35="Prostovoljsko delo - drugo","6,00",IF(D35="Kmet","12,25",IF(D35="Izberi","0")))))))) -> 0 | G35: =SUM(E35*F35) -> 0 | H35: =G35*0.8 -> 0 | I35: 80 | J35: =ROUND((G35-H35),2) -> 0
C36: NSO - neposredni stroški osebja | D36: Izberi | F36: =IF(D36="Vodenje in koordinacija","23,33",IF(D36="Strokovna in tehnična pomoč","17,89",IF(D36="Izvajanje neindustrijske dejavnosti","13,24",IF(D36="Prostovoljsko delo - organizacijsko","13,00",IF(D36="Prostovoljsko delo - vsebinsko","10,00",IF(D36="Prostovoljsko delo - drugo","6,00",IF(D36="Kmet","12,25",IF(D36="Izberi","0")))))))) -> 0 | G36: =SUM(E36*F36) -> 0 | H36: =G36*0.8 -> 0 | I36: 80 | J36: =ROUND((G36-H36),2) -> 0
C37: NSO - neposredni stroški osebja | D37: Izberi | F37: =IF(D37="Vodenje in koordinacija","23,33",IF(D37="Strokovna in tehnična pomoč","17,89",IF(D37="Izvajanje neindustrijske dejavnosti","13,24",IF(D37="Prostovoljsko delo - organizacijsko","13,00",IF(D37="Prostovoljsko delo - vsebinsko","10,00",IF(D37="Prostovoljsko delo - drugo","6,00",IF(D37="Kmet","12,25",IF(D37="Izberi","0")))))))) -> 0 | G37: =SUM(E37*F37) -> 0 | H37: =G37*0.8 -> 0 | I37: 80 | J37: =ROUND((G37-H37),2) -> 0
C38: NSO - neposredni stroški osebja | D38: Izberi | F38: =IF(D38="Vodenje in koordinacija","23,33",IF(D38="Strokovna in tehnična pomoč","17,89",IF(D38="Izvajanje neindustrijske dejavnosti","13,24",IF(D38="Prostovoljsko delo - organizacijsko","13,00",IF(D38="Prostovoljsko delo - vsebinsko","10,00",IF(D38="Prostovoljsko delo - drugo","6,00",IF(D38="Kmet","12,25",IF(D38="Izberi","0")))))))) -> 0 | G38: =SUM(E38*F38) -> 0 | H38: =G38*0.8 -> 0 | I38: 80 | J38: =ROUND((G38-H38),2) -> 0
C39: NSO - neposredni stroški osebja | D39: Izberi | F39: =IF(D39="Vodenje in koordinacija","23,33",IF(D39="Strokovna in tehnična pomoč","17,89",IF(D39="Izvajanje neindustrijske dejavnosti","13,24",IF(D39="Prostovoljsko delo - organizacijsko","13,00",IF(D39="Prostovoljsko delo - vsebinsko","10,00",IF(D39="Prostovoljsko delo - drugo","6,00",IF(D39="Kmet","12,25",IF(D39="Izberi","0")))))))) -> 0 | G39: =SUM(E39*F39) -> 0 | H39: =G39*0.8 -> 0 | I39: 80 | J39: =ROUND((G39-H39),2) -> 0
C40: NSO - neposredni stroški osebja | D40: Izberi | F40: =IF(D40="Vodenje in koordinacija","23,33",IF(D40="Strokovna in tehnična pomoč","17,89",IF(D40="Izvajanje neindustrijske dejavnosti","13,24",IF(D40="Prostovoljsko delo - organizacijsko","13,00",IF(D40="Prostovoljsko delo - vsebinsko","10,00",IF(D40="Prostovoljsko delo - drugo","6,00",IF(D40="Kmet","12,25",IF(D40="Izberi","0")))))))) -> 0 | G40: =SUM(E40*F40) -> 0 | H40: =G40*0.8 -> 0 | I40: 80 | J40: =ROUND((G40-H40),2) -> 0
C41: NSO - neposredni stroški osebja | D41: Izberi | F41: =IF(D41="Vodenje in koordinacija","23,33",IF(D41="Strokovna in tehnična pomoč","17,89",IF(D41="Izvajanje neindustrijske dejavnosti","13,24",IF(D41="Prostovoljsko delo - organizacijsko","13,00",IF(D41="Prostovoljsko delo - vsebinsko","10,00",IF(D41="Prostovoljsko delo - drugo","6,00",IF(D41="Kmet","12,25",IF(D41="Izberi","0")))))))) -> 0 | G41: =SUM(E41*F41) -> 0 | H41: =G41*0.8 -> 0 | I41: 80 | J41: =ROUND((G41-H41),2) -> 0
C42: NSO - neposredni stroški osebja | D42: Izberi | F42: =IF(D42="Vodenje in koordinacija","23,33",IF(D42="Strokovna in tehnična pomoč","17,89",IF(D42="Izvajanje neindustrijske dejavnosti","13,24",IF(D42="Prostovoljsko delo - organizacijsko","13,00",IF(D42="Prostovoljsko delo - vsebinsko","10,00",IF(D42="Prostovoljsko delo - drugo","6,00",IF(D42="Kmet","12,25",IF(D42="Izberi","0")))))))) -> 0 | G42: =SUM(E42*F42) -> 0 | H42: =G42*0.8 -> 0 | I42: 80 | J42: =ROUND((G42-H42),2) -> 0
C43: NSO - neposredni stroški osebja | D43: Izberi | F43: =IF(D43="Vodenje in koordinacija","23,33",IF(D43="Strokovna in tehnična pomoč","17,89",IF(D43="Izvajanje neindustrijske dejavnosti","13,24",IF(D43="Prostovoljsko delo - organizacijsko","13,00",IF(D43="Prostovoljsko delo - vsebinsko","10,00",IF(D43="Prostovoljsko delo - drugo","6,00",IF(D43="Kmet","12,25",IF(D43="Izberi","0")))))))) -> 0 | G43: =SUM(E43*F43) -> 0 | H43: =G43*0.8 -> 0 | I43: 80 | J43: =ROUND((G43-H43),2) -> 0
C44: NSO - neposredni stroški osebja | D44: Izberi | F44: =IF(D44="Vodenje in koordinacija","23,33",IF(D44="Strokovna in tehnična pomoč","17,89",IF(D44="Izvajanje neindustrijske dejavnosti","13,24",IF(D44="Prostovoljsko delo - organizacijsko","13,00",IF(D44="Prostovoljsko delo - vsebinsko","10,00",IF(D44="Prostovoljsko delo - drugo","6,00",IF(D44="Kmet","12,25",IF(D44="Izberi","0")))))))) -> 0 | G44: =SUM(E44*F44) -> 0 | H44: =G44*0.8 -> 0 | I44: 80 | J44: =ROUND((G44-H44),2) -> 0
C45: NSO - neposredni stroški osebja | D45: Izberi | F45: =IF(D45="Vodenje in koordinacija","23,33",IF(D45="Strokovna in tehnična pomoč","17,89",IF(D45="Izvajanje neindustrijske dejavnosti","13,24",IF(D45="Prostovoljsko delo - organizacijsko","13,00",IF(D45="Prostovoljsko delo - vsebinsko","10,00",IF(D45="Prostovoljsko delo - drugo","6,00",IF(D45="Kmet","12,25",IF(D45="Izberi","0")))))))) -> 0 | G45: =SUM(E45*F45) -> 0 | H45: =G45*0.8 -> 0 | I45: 80 | J45: =ROUND((G45-H45),2) -> 0
... C53: NSO - neposredni stroški osebja | D53: Izberi | F53: =IF(D53="Vodenje in koordinacija","23,33",IF(D53="Strokovna in tehnična pomoč","17,89",IF(D53="Izvajanje neindustrijske dejavnosti","13,24",IF(D53="Prostovoljsko delo - organizacijsko","13,00",IF(D53="Prostovoljsko delo - vsebinsko","10,00",IF(D53="Prostovoljsko delo - drugo","6,00",IF(D53="Kmet","12,25",IF(D53="Izberi","0")))))))) -> 0 | G53: =SUM(E53*F53) -> 0 | H53: =G53*0.8 -> 0 | I53: 80 | J53: =ROUND((G53-H53),2) -> 0
C54: PRS - preostali stroški, ki niso stroški osebja (40 %) | D54: Preostale projektne aktivnosti | G54: =SUM(G34:G53)*0.4 -> 0 | H54: =G54*0.8 -> 0 | I54: 80 | J54: =ROUND((G54-H54),2) -> 0
F55: SKUPAJ | G55: =SUM(G34:G54) -> 0 | H55: =SUM(H34:H54) -> 0
B59: VREDNOST PROJEKTA - PARTNER 3
B60: SKUPNI UPRAVIČENI NEPOSREDNI STROŠKI OSEBJA | C60: PREOSTALI STROŠKI, KI NISO STROŠKI OSEBJA (PAVŠALNA STOPNJA) | D60: SKUPNI UPRAVIČENI STROŠKI | E60: ZNESEK SOFINANCIRANJA | F60: LASTNA UDELEŽBA
B61: =SUM(G34:G53)+SUM(G7:G26) -> 0 | C61: =G54+G27 -> 0 | D61: =G55+G28 -> 0 | E61: =H55+H28 -> 0 | F61: =SUM(J7:J27,J34:J54) -> 0

Sheet Partner 4
B1: "Finančni načrt - NEINVESTICIJSKI PROJEKT" | I1: 1. JAVNI POZIV LAS ZELENA ISTRA (EKSRP)
B5: NAZIV PARTNERJA 4:
B6: AKTIVNOST (1. FAZA) | C6: VRSTA STROŠKA | D6: TIP DELA | E6: ŠT. OPRAVLJENIH UR NA PROJEKTU | F6: URNA POSTAVKA (EUR) | G6: SKUPNI UPRAVIČENI STROŠKI | H6: ZNESEK SOFINANCIRANJA | I6: ODSTOTEK SOFINANCIRANJA (80%) | J6: LASTNA UDELEŽBA
C7: NSO - neposredni stroški osebja | D7: Izberi | F7: =IF(D7="Vodenje in koordinacija","23,33",IF(D7="Strokovna in tehnična pomoč","17,89",IF(D7="Izvajanje neindustrijske dejavnosti","13,24",IF(D7="Prostovoljsko delo - organizacijsko","13,00",IF(D7="Prostovoljsko delo - vsebinsko","10,00",IF(D7="Prostovoljsko delo - drugo","6,00",IF(D7="Kmet","12,25",IF(D7="Izberi","0")))))))) -> 0 | G7: =SUM(E7*F7) -> 0 | H7: =G7*0.8 -> 0 | I7: 80 | J7: =ROUND((G7-H7),2) -> 0
C8: NSO - neposredni stroški osebja | D8: Izberi | F8: =IF(D8="Vodenje in koordinacija","23,33",IF(D8="Strokovna in tehnična pomoč","17,89",IF(D8="Izvajanje neindustrijske dejavnosti","13,24",IF(D8="Prostovoljsko delo - organizacijsko","13,00",IF(D8="Prostovoljsko delo - vsebinsko","10,00",IF(D8="Prostovoljsko delo - drugo","6,00",IF(D8="Kmet","12,25",IF(D8="Izberi","0")))))))) -> 0 | G8: =SUM(E8*F8) -> 0 | H8: =G8*0.8 -> 0 | I8: 80 | J8: =ROUND((G8-H8),2) -> 0
C9: NSO - neposredni stroški osebja | D9: Izberi | F9: =IF(D9="Vodenje in koordinacija","23,33",IF(D9="Strokovna in tehnična pomoč","17,89",IF(D9="Izvajanje neindustrijske dejavnosti","13,24",IF(D9="Prostovoljsko delo - organizacijsko","13,00",IF(D9="Prostovoljsko delo - vsebinsko","10,00",IF(D9="Prostovoljsko delo - drugo","6,00",IF(D9="Kmet","12,25",IF(D9="Izberi","0")))))))) -> 0 | G9: =SUM(E9*F9) -> 0 | H9: =G9*0.8 -> 0 | I9: 80 | J9: =ROUND((G9-H9),2) -> 0
C10: NSO - neposredni stroški osebja | D10: Izberi | F10: =IF(D10="Vodenje in koordinacija","23,33",IF(D10="Strokovna in tehnična pomoč","17,89",IF(D10="Izvajanje neindustrijske dejavnosti","13,24",IF(D10="Prostovoljsko delo - organizacijsko","13,00",IF(D10="Prostovoljsko delo - vsebinsko","10,00",IF(D10="Prostovoljsko delo - drugo","6,00",IF(D10="Kmet","12,25",IF(D10="Izberi","0")))))))) -> 0 | G10: =SUM(E10*F10) -> 0 | H10: =G10*0.8 -> 0 | I10: 80 | J10: =ROUND((G10-H10),2) -> 0
C11: NSO - neposredni stroški osebja | D11: Izberi | F11: =IF(D11="Vodenje in koordinacija","23,33",IF(D11="Strokovna in tehnična pomoč","17,89",IF(D11="Izvajanje neindustrijske dejavnosti","13,24",IF(D11="Prostovoljsko delo - organizacijsko","13,00",IF(D11="Prostovoljsko delo - vsebinsko","10,00",IF(D11="Prostovoljsko delo - drugo","6,00",IF(D11="Kmet","12,25",IF(D11="Izberi","0")))))))) -> 0 | G11: =SUM(E11*F11) -> 0 | H11: =G11*0.8 -> 0 | I11: 80 | J11: =ROUND((G11-H11),2) -> 0
C12: NSO - neposredni stroški osebja | D12: Izberi | F12: =IF(D12="Vodenje in koordinacija","23,33",IF(D12="Strokovna in tehnična pomoč","17,89",IF(D12="Izvajanje neindustrijske dejavnosti","13,24",IF(D12="Prostovoljsko delo - organizacijsko","13,00",IF(D12="Prostovoljsko delo - vsebinsko","10,00",IF(D12="Prostovoljsko delo - drugo","6,00",IF(D12="Kmet","12,25",IF(D12="Izberi","0")))))))) -> 0 | G12: =SUM(E12*F12) -> 0 | H12: =G12*0.8 -> 0 | I12: 80 | J12: =ROUND((G12-H12),2) -> 0
C13: NSO - neposredni stroški osebja | D13: Izberi | F13: =IF(D13="Vodenje in koordinacija","23,33",IF(D13="Strokovna in tehnična pomoč","17,89",IF(D13="Izvajanje neindustrijske dejavnosti","13,24",IF(D13="Prostovoljsko delo - organizacijsko","13,00",IF(D13="Prostovoljsko delo - vsebinsko","10,00",IF(D13="Prostovoljsko delo - drugo","6,00",IF(D13="Kmet","12,25",IF(D13="Izberi","0")))))))) -> 0 | G13: =SUM(E13*F13) -> 0 | H13: =G13*0.8 -> 0 | I13: 80 | J13: =ROUND((G13-H13),2) -> 0
C14: NSO - neposredni stroški osebja | D14: Izberi | F14: =IF(D14="Vodenje in koordinacija","23,33",IF(D14="Strokovna in tehnična pomoč","17,89",IF(D14="Izvajanje neindustrijske dejavnosti","13,24",IF(D14="Prostovoljsko delo - organizacijsko","13,00",IF(D14="Prostovoljsko delo - vsebinsko","10,00",IF(D14="Prostovoljsko delo - drugo","6,00",IF(D14="Kmet","12,25",IF(D14="Izberi","0")))))))) -> 0 | G14: =SUM(E14*F14) -> 0 | H14: =G14*0.8 -> 0 | I14: 80 | J14: =ROUND((G14-H14),2) -> 0
C15: NSO - neposredni stroški osebja | D15: Izberi | F15: =IF(D15="Vodenje in koordinacija","23,33",IF(D15="Strokovna in tehnična pomoč","17,89",IF(D15="Izvajanje neindustrijske dejavnosti","13,24",IF(D15="Prostovoljsko delo - organizacijsko","13,00",IF(D15="Prostovoljsko delo - vsebinsko","10,00",IF(D15="Prostovoljsko delo - drugo","6,00",IF(D15="Kmet","12,25",IF(D15="Izberi","0")))))))) -> 0 | G15: =SUM(E15*F15) -> 0 | H15: =G15*0.8 -> 0 | I15: 80 | J15: =ROUND((G15-H15),2) -> 0
C16: NSO - neposredni stroški osebja | D16: Izberi | F16: =IF(D16="Vodenje in koordinacija","23,33",IF(D16="Strokovna in tehnična pomoč","17,89",IF(D16="Izvajanje neindustrijske dejavnosti","13,24",IF(D16="Prostovoljsko delo - organizacijsko","13,00",IF(D16="Prostovoljsko delo - vsebinsko","10,00",IF(D16="Prostovoljsko delo - drugo","6,00",IF(D16="Kmet","12,25",IF(D16="Izberi","0")))))))) -> 0 | G16: =SUM(E16*F16) -> 0 | H16: =G16*0.8 -> 0 | I16: 80 | J16: =ROUND((G16-H16),2) -> 0
C17: NSO - neposredni stroški osebja | D17: Izberi | F17: =IF(D17="Vodenje in koordinacija","23,33",IF(D17="Strokovna in tehnična pomoč","17,89",IF(D17="Izvajanje neindustrijske dejavnosti","13,24",IF(D17="Prostovoljsko delo - organizacijsko","13,00",IF(D17="Prostovoljsko delo - vsebinsko","10,00",IF(D17="Prostovoljsko delo - drugo","6,00",IF(D17="Kmet","12,25",IF(D17="Izberi","0")))))))) -> 0 | G17: =SUM(E17*F17) -> 0 | H17: =G17*0.8 -> 0 | I17: 80 | J17: =ROUND((G17-H17),2) -> 0
C18: NSO - neposredni stroški osebja | D18: Izberi | F18: =IF(D18="Vodenje in koordinacija","23,33",IF(D18="Strokovna in tehnična pomoč","17,89",IF(D18="Izvajanje neindustrijske dejavnosti","13,24",IF(D18="Prostovoljsko delo - organizacijsko","13,00",IF(D18="Prostovoljsko delo - vsebinsko","10,00",IF(D18="Prostovoljsko delo - drugo","6,00",IF(D18="Kmet","12,25",IF(D18="Izberi","0")))))))) -> 0 | G18: =SUM(E18*F18) -> 0 | H18: =G18*0.8 -> 0 | I18: 80 | J18: =ROUND((G18-H18),2) -> 0
... C26: NSO - neposredni stroški osebja | D26: Izberi | F26: =IF(D26="Vodenje in koordinacija","23,33",IF(D26="Strokovna in tehnična pomoč","17,89",IF(D26="Izvajanje neindustrijske dejavnosti","13,24",IF(D26="Prostovoljsko delo - organizacijsko","13,00",IF(D26="Prostovoljsko delo - vsebinsko","10,00",IF(D26="Prostovoljsko delo - drugo","6,00",IF(D26="Kmet","12,25",IF(D26="Izberi","0")))))))) -> 0 | G26: =SUM(E26*F26) -> 0 | H26: =G26*0.8 -> 0 | I26: 80 | J26: =ROUND((G26-H26),2) -> 0
C27: PRS - preostali stroški, ki niso stroški osebja (40 %) | D27: Preostale projektne aktivnosti | G27: =SUM(G7:G26)*0.4 -> 0 | H27: =G27*0.8 -> 0 | I27: 80 | J27: =ROUND((G27-H27),2) -> 0
F28: SKUPAJ | G28: =SUM(G7:G27) -> 0 | H28: =SUM(H7:H27) -> 0
B33: AKTIVNOST (2. FAZA) | C33: VRSTA STROŠKA | D33: TIP DELA | E33: ŠT. OPRAVLJENIH UR NA PROJEKTU | F33: URNA POSTAVKA (EUR) | G33: SKUPNI UPRAVIČENI STROŠKI (EUR) | H33: ZNESEK SOFINANCIRANJA (EUR) | I33: ODSTOTEK SOFINANCIRANJA (80%) | J33: LASTNA UDELEŽBA
C34: NSO - neposredni stroški osebja | D34: Izberi | F34: =IF(D34="Vodenje in koordinacija","23,33",IF(D34="Strokovna in tehnična pomoč","17,89",IF(D34="Izvajanje neindustrijske dejavnosti","13,24",IF(D34="Prostovoljsko delo - organizacijsko","13,00",IF(D34="Prostovoljsko delo - vsebinsko","10,00",IF(D34="Prostovoljsko delo - drugo","6,00",IF(D34="Kmet","12,25",IF(D34="Izberi","0")))))))) -> 0 | G34: =SUM(E34*F34) -> 0 | H34: =G34*0.8 -> 0 | I34: 80 | J34: =ROUND((G34-H34),2) -> 0
C35: NSO - neposredni stroški osebja | D35: Izberi | F35: =IF(D35="Vodenje in koordinacija","23,33",IF(D35="Strokovna in tehnična pomoč","17,89",IF(D35="Izvajanje neindustrijske dejavnosti","13,24",IF(D35="Prostovoljsko delo - organizacijsko","13,00",IF(D35="Prostovoljsko delo - vsebinsko","10,00",IF(D35="Prostovoljsko delo - drugo","6,00",IF(D35="Kmet","12,25",IF(D35="Izberi","0")))))))) -> 0 | G35: =SUM(E35*F35) -> 0 | H35: =G35*0.8 -> 0 | I35: 80 | J35: =ROUND((G35-H35),2) -> 0
C36: NSO - neposredni stroški osebja | D36: Izberi | F36: =IF(D36="Vodenje in koordinacija","23,33",IF(D36="Strokovna in tehnična pomoč","17,89",IF(D36="Izvajanje neindustrijske dejavnosti","13,24",IF(D36="Prostovoljsko delo - organizacijsko","13,00",IF(D36="Prostovoljsko delo - vsebinsko","10,00",IF(D36="Prostovoljsko delo - drugo","6,00",IF(D36="Kmet","12,25",IF(D36="Izberi","0")))))))) -> 0 | G36: =SUM(E36*F36) -> 0 | H36: =G36*0.8 -> 0 | I36: 80 | J36: =ROUND((G36-H36),2) -> 0
C37: NSO - neposredni stroški osebja | D37: Izberi | F37: =IF(D37="Vodenje in koordinacija","23,33",IF(D37="Strokovna in tehnična pomoč","17,89",IF(D37="Izvajanje neindustrijske dejavnosti","13,24",IF(D37="Prostovoljsko delo - organizacijsko","13,00",IF(D37="Prostovoljsko delo - vsebinsko","10,00",IF(D37="Prostovoljsko delo - drugo","6,00",IF(D37="Kmet","12,25",IF(D37="Izberi","0")))))))) -> 0 | G37: =SUM(E37*F37) -> 0 | H37: =G37*0.8 -> 0 | I37: 80 | J37: =ROUND((G37-H37),2) -> 0
C38: NSO - neposredni stroški osebja | D38: Izberi | F38: =IF(D38="Vodenje in koordinacija","23,33",IF(D38="Strokovna in tehnična pomoč","17,89",IF(D38="Izvajanje neindustrijske dejavnosti","13,24",IF(D38="Prostovoljsko delo - organizacijsko","13,00",IF(D38="Prostovoljsko delo - vsebinsko","10,00",IF(D38="Prostovoljsko delo - drugo","6,00",IF(D38="Kmet","12,25",IF(D38="Izberi","0")))))))) -> 0 | G38: =SUM(E38*F38) -> 0 | H38: =G38*0.8 -> 0 | I38: 80 | J38: =ROUND((G38-H38),2) -> 0
C39: NSO - neposredni stroški osebja | D39: Izberi | F39: =IF(D39="Vodenje in koordinacija","23,33",IF(D39="Strokovna in tehnična pomoč","17,89",IF(D39="Izvajanje neindustrijske dejavnosti","13,24",IF(D39="Prostovoljsko delo - organizacijsko","13,00",IF(D39="Prostovoljsko delo - vsebinsko","10,00",IF(D39="Prostovoljsko delo - drugo","6,00",IF(D39="Kmet","12,25",IF(D39="Izberi","0")))))))) -> 0 | G39: =SUM(E39*F39) -> 0 | H39: =G39*0.8 -> 0 | I39: 80 | J39: =ROUND((G39-H39),2) -> 0
C40: NSO - neposredni stroški osebja | D40: Izberi | F40: =IF(D40="Vodenje in koordinacija","23,33",IF(D40="Strokovna in tehnična pomoč","17,89",IF(D40="Izvajanje neindustrijske dejavnosti","13,24",IF(D40="Prostovoljsko delo - organizacijsko","13,00",IF(D40="Prostovoljsko delo - vsebinsko","10,00",IF(D40="Prostovoljsko delo - drugo","6,00",IF(D40="Kmet","12,25",IF(D40="Izberi","0")))))))) -> 0 | G40: =SUM(E40*F40) -> 0 | H40: =G40*0.8 -> 0 | I40: 80 | J40: =ROUND((G40-H40),2) -> 0
C41: NSO - neposredni stroški osebja | D41: Izberi | F41: =IF(D41="Vodenje in koordinacija","23,33",IF(D41="Strokovna in tehnična pomoč","17,89",IF(D41="Izvajanje neindustrijske dejavnosti","13,24",IF(D41="Prostovoljsko delo - organizacijsko","13,00",IF(D41="Prostovoljsko delo - vsebinsko","10,00",IF(D41="Prostovoljsko delo - drugo","6,00",IF(D41="Kmet","12,25",IF(D41="Izberi","0")))))))) -> 0 | G41: =SUM(E41*F41) -> 0 | H41: =G41*0.8 -> 0 | I41: 80 | J41: =ROUND((G41-H41),2) -> 0
C42: NSO - neposredni stroški osebja | D42: Izberi | F42: =IF(D42="Vodenje in koordinacija","23,33",IF(D42="Strokovna in tehnična pomoč","17,89",IF(D42="Izvajanje neindustrijske dejavnosti","13,24",IF(D42="Prostovoljsko delo - organizacijsko","13,00",IF(D42="Prostovoljsko delo - vsebinsko","10,00",IF(D42="Prostovoljsko delo - drugo","6,00",IF(D42="Kmet","12,25",IF(D42="Izberi","0")))))))) -> 0 | G42: =SUM(E42*F42) -> 0 | H42: =G42*0.8 -> 0 | I42: 80 | J42: =ROUND((G42-H42),2) -> 0
C43: NSO - neposredni stroški osebja | D43: Izberi | F43: =IF(D43="Vodenje in koordinacija","23,33",IF(D43="Strokovna in tehnična pomoč","17,89",IF(D43="Izvajanje neindustrijske dejavnosti","13,24",IF(D43="Prostovoljsko delo - organizacijsko","13,00",IF(D43="Prostovoljsko delo - vsebinsko","10,00",IF(D43="Prostovoljsko delo - drugo","6,00",IF(D43="Kmet","12,25",IF(D43="Izberi","0")))))))) -> 0 | G43: =SUM(E43*F43) -> 0 | H43: =G43*0.8 -> 0 | I43: 80 | J43: =ROUND((G43-H43),2) -> 0
C44: NSO - neposredni stroški osebja | D44: Izberi | F44: =IF(D44="Vodenje in koordinacija","23,33",IF(D44="Strokovna in tehnična pomoč","17,89",IF(D44="Izvajanje neindustrijske dejavnosti","13,24",IF(D44="Prostovoljsko delo - organizacijsko","13,00",IF(D44="Prostovoljsko delo - vsebinsko","10,00",IF(D44="Prostovoljsko delo - drugo","6,00",IF(D44="Kmet","12,25",IF(D44="Izberi","0")))))))) -> 0 | G44: =SUM(E44*F44) -> 0 | H44: =G44*0.8 -> 0 | I44: 80 | J44: =ROUND((G44-H44),2) -> 0
C45: NSO - neposredni stroški osebja | D45: Izberi | F45: =IF(D45="Vodenje in koordinacija","23,33",IF(D45="Strokovna in tehnična pomoč","17,89",IF(D45="Izvajanje neindustrijske dejavnosti","13,24",IF(D45="Prostovoljsko delo - organizacijsko","13,00",IF(D45="Prostovoljsko delo - vsebinsko","10,00",IF(D45="Prostovoljsko delo - drugo","6,00",IF(D45="Kmet","12,25",IF(D45="Izberi","0")))))))) -> 0 | G45: =SUM(E45*F45) -> 0 | H45: =G45*0.8 -> 0 | I45: 80 | J45: =ROUND((G45-H45),2) -> 0
... C53: NSO - neposredni stroški osebja | D53: Izberi | F53: =IF(D53="Vodenje in koordinacija","23,33",IF(D53="Strokovna in tehnična pomoč","17,89",IF(D53="Izvajanje neindustrijske dejavnosti","13,24",IF(D53="Prostovoljsko delo - organizacijsko","13,00",IF(D53="Prostovoljsko delo - vsebinsko","10,00",IF(D53="Prostovoljsko delo - drugo","6,00",IF(D53="Kmet","12,25",IF(D53="Izberi","0")))))))) -> 0 | G53: =SUM(E53*F53) -> 0 | H53: =G53*0.8 -> 0 | I53: 80 | J53: =ROUND((G53-H53),2) -> 0
C54: PRS - preostali stroški, ki niso stroški osebja (40 %) | D54: Preostale projektne aktivnosti | G54: =SUM(G34:G53)*0.4 -> 0 | H54: =G54*0.8 -> 0 | I54: 80 | J54: =ROUND((G54-H54),2) -> 0
F55: SKUPAJ | G55: =SUM(G34:G54) -> 0 | H55: =SUM(H34:H54) -> 0
B59: VREDNOST PROJEKTA - PARTNER 4
B60: SKUPNI UPRAVIČENI NEPOSREDNI STROŠKI OSEBJA | C60: PREOSTALI STROŠKI, KI NISO STROŠKI OSEBJA (PAVŠALNA STOPNJA) | D60: SKUPNI UPRAVIČENI STROŠKI | E60: ZNESEK SOFINANCIRANJA | F60: LASTNA UDELEŽBA
B61: =SUM(G34:G53)+SUM(G7:G26) -> 0 | C61: =G54+G27 -> 0 | D61: =G55+G28 -> 0 | E61: =H55+H28 -> 0 | F61: =SUM(J7:J27,J34:J54) -> 0

Sheet Partner 5
B1: "Finančni načrt - NEINVESTICIJSKI PROJEKT" | I1: 1. JAVNI POZIV LAS ZELENA ISTRA (EKSRP)
B5: NAZIV PARTNERJA 5:
B6: AKTIVNOST (1. FAZA) | C6: VRSTA STROŠKA | D6: TIP DELA | E6: ŠT. OPRAVLJENIH UR NA PROJEKTU | F6: URNA POSTAVKA (EUR) | G6: SKUPNI UPRAVIČENI STROŠKI | H6: ZNESEK SOFINANCIRANJA | I6: ODSTOTEK SOFINANCIRANJA (80%) | J6: LASTNA UDELEŽBA
C7: NSO - neposredni stroški osebja | D7: Izberi | F7: =IF(D7="Vodenje in koordinacija","23,33",IF(D7="Strokovna in tehnična pomoč","17,89",IF(D7="Izvajanje neindustrijske dejavnosti","13,24",IF(D7="Prostovoljsko delo - organizacijsko","13,00",IF(D7="Prostovoljsko delo - vsebinsko","10,00",IF(D7="Prostovoljsko delo - drugo","6,00",IF(D7="Kmet","12,25",IF(D7="Izberi","0")))))))) -> 0 | G7: =SUM(E7*F7) -> 0 | H7: =G7*0.8 -> 0 | I7: 80 | J7: =ROUND((G7-H7),2) -> 0
C8: NSO - neposredni stroški osebja | D8: Izberi | F8: =IF(D8="Vodenje in koordinacija","23,33",IF(D8="Strokovna in tehnična pomoč","17,89",IF(D8="Izvajanje neindustrijske dejavnosti","13,24",IF(D8="Prostovoljsko delo - organizacijsko","13,00",IF(D8="Prostovoljsko delo - vsebinsko","10,00",IF(D8="Prostovoljsko delo - drugo","6,00",IF(D8="Kmet","12,25",IF(D8="Izberi","0")))))))) -> 0 | G8: =SUM(E8*F8) -> 0 | H8: =G8*0.8 -> 0 | I8: 80 | J8: =ROUND((G8-H8),2) -> 0
C9: NSO - neposredni stroški osebja | D9: Izberi | F9: =IF(D9="Vodenje in koordinacija","23,33",IF(D9="Strokovna in tehnična pomoč","17,89",IF(D9="Izvajanje neindustrijske dejavnosti","13,24",IF(D9="Prostovoljsko delo - organizacijsko","13,00",IF(D9="Prostovoljsko delo - vsebinsko","10,00",IF(D9="Prostovoljsko delo - drugo","6,00",IF(D9="Kmet","12,25",IF(D9="Izberi","0")))))))) -> 0 | G9: =SUM(E9*F9) -> 0 | H9: =G9*0.8 -> 0 | I9: 80 | J9: =ROUND((G9-H9),2) -> 0
C10: NSO - neposredni stroški osebja | D10: Izberi | F10: =IF(D10="Vodenje in koordinacija","23,33",IF(D10="Strokovna in tehnična pomoč","17,89",IF(D10="Izvajanje neindustrijske dejavnosti","13,24",IF(D10="Prostovoljsko delo - organizacijsko","13,00",IF(D10="Prostovoljsko delo - vsebinsko","10,00",IF(D10="Prostovoljsko delo - drugo","6,00",IF(D10="Kmet","12,25",IF(D10="Izberi","0")))))))) -> 0 | G10: =SUM(E10*F10) -> 0 | H10: =G10*0.8 -> 0 | I10: 80 | J10: =ROUND((G10-H10),2) -> 0
C11: NSO - neposredni stroški osebja | D11: Izberi | F11: =IF(D11="Vodenje in koordinacija","23,33",IF(D11="Strokovna in tehnična pomoč","17,89",IF(D11="Izvajanje neindustrijske dejavnosti","13,24",IF(D11="Prostovoljsko delo - organizacijsko","13,00",IF(D11="Prostovoljsko delo - vsebinsko","10,00",IF(D11="Prostovoljsko delo - drugo","6,00",IF(D11="Kmet","12,25",IF(D11="Izberi","0")))))))) -> 0 | G11: =SUM(E11*F11) -> 0 | H11: =G11*0.8 -> 0 | I11: 80 | J11: =ROUND((G11-H11),2) -> 0
C12: NSO - neposredni stroški osebja | D12: Izberi | F12: =IF(D12="Vodenje in koordinacija","23,33",IF(D12="Strokovna in tehnična pomoč","17,89",IF(D12="Izvajanje neindustrijske dejavnosti","13,24",IF(D12="Prostovoljsko delo - organizacijsko","13,00",IF(D12="Prostovoljsko delo - vsebinsko","10,00",IF(D12="Prostovoljsko delo - drugo","6,00",IF(D12="Kmet","12,25",IF(D12="Izberi","0")))))))) -> 0 | G12: =SUM(E12*F12) -> 0 | H12: =G12*0.8 -> 0 | I12: 80 | J12: =ROUND((G12-H12),2) -> 0
C13: NSO - neposredni stroški osebja | D13: Izberi | F13: =IF(D13="Vodenje in koordinacija","23,33",IF(D13="Strokovna in tehnična pomoč","17,89",IF(D13="Izvajanje neindustrijske dejavnosti","13,24",IF(D13="Prostovoljsko delo - organizacijsko","13,00",IF(D13="Prostovoljsko delo - vsebinsko","10,00",IF(D13="Prostovoljsko delo - drugo","6,00",IF(D13="Kmet","12,25",IF(D13="Izberi","0")))))))) -> 0 | G13: =SUM(E13*F13) -> 0 | H13: =G13*0.8 -> 0 | I13: 80 | J13: =ROUND((G13-H13),2) -> 0
C14: NSO - neposredni stroški osebja | D14: Izberi | F14: =IF(D14="Vodenje in koordinacija","23,33",IF(D14="Strokovna in tehnična pomoč","17,89",IF(D14="Izvajanje neindustrijske dejavnosti","13,24",IF(D14="Prostovoljsko delo - organizacijsko","13,00",IF(D14="Prostovoljsko delo - vsebinsko","10,00",IF(D14="Prostovoljsko delo - drugo","6,00",IF(D14="Kmet","12,25",IF(D14="Izberi","0")))))))) -> 0 | G14: =SUM(E14*F14) -> 0 | H14: =G14*0.8 -> 0 | I14: 80 | J14: =ROUND((G14-H14),2) -> 0
C15: NSO - neposredni stroški osebja | D15: Izberi | F15: =IF(D15="Vodenje in koordinacija","23,33",IF(D15="Strokovna in tehnična pomoč","17,89",IF(D15="Izvajanje neindustrijske dejavnosti","13,24",IF(D15="Prostovoljsko delo - organizacijsko","13,00",IF(D15="Prostovoljsko delo - vsebinsko","10,00",IF(D15="Prostovoljsko delo - drugo","6,00",IF(D15="Kmet","12,25",IF(D15="Izberi","0")))))))) -> 0 | G15: =SUM(E15*F15) -> 0 | H15: =G15*0.8 -> 0 | I15: 80 | J15: =ROUND((G15-H15),2) -> 0
C16: NSO - neposredni stroški osebja | D16: Izberi | F16: =IF(D16="Vodenje in koordinacija","23,33",IF(D16="Strokovna in tehnična pomoč","17,89",IF(D16="Izvajanje neindustrijske dejavnosti","13,24",IF(D16="Prostovoljsko delo - organizacijsko","13,00",IF(D16="Prostovoljsko delo - vsebinsko","10,00",IF(D16="Prostovoljsko delo - drugo","6,00",IF(D16="Kmet","12,25",IF(D16="Izberi","0")))))))) -> 0 | G16: =SUM(E16*F16) -> 0 | H16: =G16*0.8 -> 0 | I16: 80 | J16: =ROUND((G16-H16),2) -> 0
C17: NSO - neposredni stroški osebja | D17: Izberi | F17: =IF(D17="Vodenje in koordinacija","23,33",IF(D17="Strokovna in tehnična pomoč","17,89",IF(D17="Izvajanje neindustrijske dejavnosti","13,24",IF(D17="Prostovoljsko delo - organizacijsko","13,00",IF(D17="Prostovoljsko delo - vsebinsko","10,00",IF(D17="Prostovoljsko delo - drugo","6,00",IF(D17="Kmet","12,25",IF(D17="Izberi","0")))))))) -> 0 | G17: =SUM(E17*F17) -> 0 | H17: =G17*0.8 -> 0 | I17: 80 | J17: =ROUND((G17-H17),2) -> 0
C18: NSO - neposredni stroški osebja | D18: Izberi | F18: =IF(D18="Vodenje in koordinacija","23,33",IF(D18="Strokovna in tehnična pomoč","17,89",IF(D18="Izvajanje neindustrijske dejavnosti","13,24",IF(D18="Prostovoljsko delo - organizacijsko","13,00",IF(D18="Prostovoljsko delo - vsebinsko","10,00",IF(D18="Prostovoljsko delo - drugo","6,00",IF(D18="Kmet","12,25",IF(D18="Izberi","0")))))))) -> 0 | G18: =SUM(E18*F18) -> 0 | H18: =G18*0.8 -> 0 | I18: 80 | J18: =ROUND((G18-H18),2) -> 0
... C26: NSO - neposredni stroški osebja | D26: Izberi | F26: =IF(D26="Vodenje in koordinacija","23,33",IF(D26="Strokovna in tehnična pomoč","17,89",IF(D26="Izvajanje neindustrijske dejavnosti","13,24",IF(D26="Prostovoljsko delo - organizacijsko","13,00",IF(D26="Prostovoljsko delo - vsebinsko","10,00",IF(D26="Prostovoljsko delo - drugo","6,00",IF(D26="Kmet","12,25",IF(D26="Izberi","0")))))))) -> 0 | G26: =SUM(E26*F26) -> 0 | H26: =G26*0.8 -> 0 | I26: 80 | J26: =ROUND((G26-H26),2) -> 0
C27: PRS - preostali stroški, ki niso stroški osebja (40 %) | D27: Preostale projektne aktivnosti | G27: =SUM(G7:G26)*0.4 -> 0 | H27: =G27*0.8 -> 0 | I27: 80 | J27: =ROUND((G27-H27),2) -> 0
F28: SKUPAJ | G28: =SUM(G7:G27) -> 0 | H28: =SUM(H7:H27) -> 0
B33: AKTIVNOST (2. FAZA) | C33: VRSTA STROŠKA | D33: TIP DELA | E33: ŠT. OPRAVLJENIH UR NA PROJEKTU | F33: URNA POSTAVKA (EUR) | G33: SKUPNI UPRAVIČENI STROŠKI (EUR) | H33: ZNESEK SOFINANCIRANJA (EUR) | I33: ODSTOTEK SOFINANCIRANJA (80%) | J33: LASTNA UDELEŽBA
C34: NSO - neposredni stroški osebja | D34: Izberi | F34: =IF(D34="Vodenje in koordinacija","23,33",IF(D34="Strokovna in tehnična pomoč","17,89",IF(D34="Izvajanje neindustrijske dejavnosti","13,24",IF(D34="Prostovoljsko delo - organizacijsko","13,00",IF(D34="Prostovoljsko delo - vsebinsko","10,00",IF(D34="Prostovoljsko delo - drugo","6,00",IF(D34="Kmet","12,25",IF(D34="Izberi","0")))))))) -> 0 | G34: =SUM(E34*F34) -> 0 | H34: =G34*0.8 -> 0 | I34: 80 | J34: =ROUND((G34-H34),2) -> 0
C35: NSO - neposredni stroški osebja | D35: Izberi | F35: =IF(D35="Vodenje in koordinacija","23,33",IF(D35="Strokovna in tehnična pomoč","17,89",IF(D35="Izvajanje neindustrijske dejavnosti","13,24",IF(D35="Prostovoljsko delo - organizacijsko","13,00",IF(D35="Prostovoljsko delo - vsebinsko","10,00",IF(D35="Prostovoljsko delo - drugo","6,00",IF(D35="Kmet","12,25",IF(D35="Izberi","0")))))))) -> 0 | G35: =SUM(E35*F35) -> 0 | H35: =G35*0.8 -> 0 | I35: 80 | J35: =ROUND((G35-H35),2) -> 0
C36: NSO - neposredni stroški osebja | D36: Izberi | F36: =IF(D36="Vodenje in koordinacija","23,33",IF(D36="Strokovna in tehnična pomoč","17,89",IF(D36="Izvajanje neindustrijske dejavnosti","13,24",IF(D36="Prostovoljsko delo - organizacijsko","13,00",IF(D36="Prostovoljsko delo - vsebinsko","10,00",IF(D36="Prostovoljsko delo - drugo","6,00",IF(D36="Kmet","12,25",IF(D36="Izberi","0")))))))) -> 0 | G36: =SUM(E36*F36) -> 0 | H36: =G36*0.8 -> 0 | I36: 80 | J36: =ROUND((G36-H36),2) -> 0
C37: NSO - neposredni stroški osebja | D37: Izberi | F37: =IF(D37="Vodenje in koordinacija","23,33",IF(D37="Strokovna in tehnična pomoč","17,89",IF(D37="Izvajanje neindustrijske dejavnosti","13,24",IF(D37="Prostovoljsko delo - organizacijsko","13,00",IF(D37="Prostovoljsko delo - vsebinsko","10,00",IF(D37="Prostovoljsko delo - drugo","6,00",IF(D37="Kmet","12,25",IF(D37="Izberi","0")))))))) -> 0 | G37: =SUM(E37*F37) -> 0 | H37: =G37*0.8 -> 0 | I37: 80 | J37: =ROUND((G37-H37),2) -> 0
C38: NSO - neposredni stroški osebja | D38: Izberi | F38: =IF(D38="Vodenje in koordinacija","23,33",IF(D38="Strokovna in tehnična pomoč","17,89",IF(D38="Izvajanje neindustrijske dejavnosti","13,24",IF(D38="Prostovoljsko delo - organizacijsko","13,00",IF(D38="Prostovoljsko delo - vsebinsko","10,00",IF(D38="Prostovoljsko delo - drugo","6,00",IF(D38="Kmet","12,25",IF(D38="Izberi","0")))))))) -> 0 | G38: =SUM(E38*F38) -> 0 | H38: =G38*0.8 -> 0 | I38: 80 | J38: =ROUND((G38-H38),2) -> 0
C39: NSO - neposredni stroški osebja | D39: Izberi | F39: =IF(D39="Vodenje in koordinacija","23,33",IF(D39="Strokovna in tehnična pomoč","17,89",IF(D39="Izvajanje neindustrijske dejavnosti","13,24",IF(D39="Prostovoljsko delo - organizacijsko","13,00",IF(D39="Prostovoljsko delo - vsebinsko","10,00",IF(D39="Prostovoljsko delo - drugo","6,00",IF(D39="Kmet","12,25",IF(D39="Izberi","0")))))))) -> 0 | G39: =SUM(E39*F39) -> 0 | H39: =G39*0.8 -> 0 | I39: 80 | J39: =ROUND((G39-H39),2) -> 0
C40: NSO - neposredni stroški osebja | D40: Izberi | F40: =IF(D40="Vodenje in koordinacija","23,33",IF(D40="Strokovna in tehnična pomoč","17,89",IF(D40="Izvajanje neindustrijske dejavnosti","13,24",IF(D40="Prostovoljsko delo - organizacijsko","13,00",IF(D40="Prostovoljsko delo - vsebinsko","10,00",IF(D40="Prostovoljsko delo - drugo","6,00",IF(D40="Kmet","12,25",IF(D40="Izberi","0")))))))) -> 0 | G40: =SUM(E40*F40) -> 0 | H40: =G40*0.8 -> 0 | I40: 80 | J40: =ROUND((G40-H40),2) -> 0
C41: NSO - neposredni stroški osebja | D41: Izberi | F41: =IF(D41="Vodenje in koordinacija","23,33",IF(D41="Strokovna in tehnična pomoč","17,89",IF(D41="Izvajanje neindustrijske dejavnosti","13,24",IF(D41="Prostovoljsko delo - organizacijsko","13,00",IF(D41="Prostovoljsko delo - vsebinsko","10,00",IF(D41="Prostovoljsko delo - drugo","6,00",IF(D41="Kmet","12,25",IF(D41="Izberi","0")))))))) -> 0 | G41: =SUM(E41*F41) -> 0 | H41: =G41*0.8 -> 0 | I41: 80 | J41: =ROUND((G41-H41),2) -> 0
C42: NSO - neposredni stroški osebja | D42: Izberi | F42: =IF(D42="Vodenje in koordinacija","23,33",IF(D42="Strokovna in tehnična pomoč","17,89",IF(D42="Izvajanje neindustrijske dejavnosti","13,24",IF(D42="Prostovoljsko delo - organizacijsko","13,00",IF(D42="Prostovoljsko delo - vsebinsko","10,00",IF(D42="Prostovoljsko delo - drugo","6,00",IF(D42="Kmet","12,25",IF(D42="Izberi","0")))))))) -> 0 | G42: =SUM(E42*F42) -> 0 | H42: =G42*0.8 -> 0 | I42: 80 | J42: =ROUND((G42-H42),2) -> 0
C43: NSO - neposredni stroški osebja | D43: Izberi | F43: =IF(D43="Vodenje in koordinacija","23,33",IF(D43="Strokovna in tehnična pomoč","17,89",IF(D43="Izvajanje neindustrijske dejavnosti","13,24",IF(D43="Prostovoljsko delo - organizacijsko","13,00",IF(D43="Prostovoljsko delo - vsebinsko","10,00",IF(D43="Prostovoljsko delo - drugo","6,00",IF(D43="Kmet","12,25",IF(D43="Izberi","0")))))))) -> 0 | G43: =SUM(E43*F43) -> 0 | H43: =G43*0.8 -> 0 | I43: 80 | J43: =ROUND((G43-H43),2) -> 0
C44: NSO - neposredni stroški osebja | D44: Izberi | F44: =IF(D44="Vodenje in koordinacija","23,33",IF(D44="Strokovna in tehnična pomoč","17,89",IF(D44="Izvajanje neindustrijske dejavnosti","13,24",IF(D44="Prostovoljsko delo - organizacijsko","13,00",IF(D44="Prostovoljsko delo - vsebinsko","10,00",IF(D44="Prostovoljsko delo - drugo","6,00",IF(D44="Kmet","12,25",IF(D44="Izberi","0")))))))) -> 0 | G44: =SUM(E44*F44) -> 0 | H44: =G44*0.8 -> 0 | I44: 80 | J44: =ROUND((G44-H44),2) -> 0
C45: NSO - neposredni stroški osebja | D45: Izberi | F45: =IF(D45="Vodenje in koordinacija","23,33",IF(D45="Strokovna in tehnična pomoč","17,89",IF(D45="Izvajanje neindustrijske dejavnosti","13,24",IF(D45="Prostovoljsko delo - organizacijsko","13,00",IF(D45="Prostovoljsko delo - vsebinsko","10,00",IF(D45="Prostovoljsko delo - drugo","6,00",IF(D45="Kmet","12,25",IF(D45="Izberi","0")))))))) -> 0 | G45: =SUM(E45*F45) -> 0 | H45: =G45*0.8 -> 0 | I45: 80 | J45: =ROUND((G45-H45),2) -> 0
... C53: NSO - neposredni stroški osebja | D53: Izberi | F53: =IF(D53="Vodenje in koordinacija","23,33",IF(D53="Strokovna in tehnična pomoč","17,89",IF(D53="Izvajanje neindustrijske dejavnosti","13,24",IF(D53="Prostovoljsko delo - organizacijsko","13,00",IF(D53="Prostovoljsko delo - vsebinsko","10,00",IF(D53="Prostovoljsko delo - drugo","6,00",IF(D53="Kmet","12,25",IF(D53="Izberi","0")))))))) -> 0 | G53: =SUM(E53*F53) -> 0 | H53: =G53*0.8 -> 0 | I53: 80 | J53: =ROUND((G53-H53),2) -> 0
C54: PRS - preostali stroški, ki niso stroški osebja (40 %) | D54: Preostale projektne aktivnosti | G54: =SUM(G34:G53)*0.4 -> 0 | H54: =G54*0.8 -> 0 | I54: 80 | J54: =ROUND((G54-H54),2) -> 0
F55: SKUPAJ | G55: =SUM(G34:G54) -> 0 | H55: =SUM(H34:H54) -> 0
B59: VREDNOST PROJEKTA - PARTNER 5
B60: SKUPNI UPRAVIČENI NEPOSREDNI STROŠKI OSEBJA | C60: PREOSTALI STROŠKI, KI NISO STROŠKI OSEBJA (PAVŠALNA STOPNJA) | D60: SKUPNI UPRAVIČENI STROŠKI | E60: ZNESEK SOFINANCIRANJA | F60: LASTNA UDELEŽBA
B61: =SUM(G34:G53)+SUM(G7:G26) -> 0 | C61: =G54+G27 -> 0 | D61: =G55+G28 -> 0 | E61: =H55+H28 -> 0 | F61: =SUM(J7:J27,J34:J54) -> 0

Sheet Podatki
A2: Izberi | B2: -
A3: Vodenje in koordinacija | B3: 23.33
A4: Strokovna in tehnična pomoč | B4: 17.89
A5: Izvajanje neindustrijske dejavnosti | B5: 13.24
A6: Prostovoljsko delo - organizacijsko | B6: 13
A7: Prostovoljsko delo - vsebinsko | B7: 10
A8: Prostovoljsko delo - drugo | B8: 6
A9: Kmet | B9: 12.25
