Workbook

Sheet SKUPNI
B1: "Finančni načrt - INVESTICIJSKI PROJEKT"
B4: NAZIV PROJEKTA:
B5: VODILNI PARTNER/PARTNER | C5: FAZA | D5: VRSTA STROŠKA | F5: SKUPNI UPRAVIČENI STROŠKI (EUR) | G5: ZNESEK SOFINANCIRANJA oz. POGODBENA VREDNOST (EUR) | H5: LASTNA UDELEŽBA (EUR)
B6: VODILNI PARTNER | C6: 1. FAZA | D6: STROŠKI NALOŽB, STROŠKI STORITEV ZUNANJIH IZVAJALCEV (80%) | F6: =SUM('Vodilni partner'!G6:G25) -> 0 | G6: =SUM('Vodilni partner'!I6:I25) -> 0 | H6: =SUM('Vodilni partner'!K6:K25) -> 0
D7: PAVŠAL - NEPOSREDNI STROŠKI OSEBJA (20 %) | F7: ='Vodilni partner'!G26 -> 0 | G7: ='Vodilni partner'!I26 -> 0 | H7: ='Vodilni partner'!K26 -> 0
E8: SKUPAJ 1. FAZA | F8: =SUM(F6:F7) -> 0 | G8: =SUM(G6:G7) -> 0 | H8: =SUM(H6:H7) -> 0
C10: 2. FAZA | D10: STROŠKI NALOŽB, STROŠKI STORITEV ZUNANJIH IZVAJALCEV (80%) | F10: =SUM('Vodilni partner'!G31:G50) -> 0 | G10: =SUM('Vodilni partner'!I31:I50) -> 0 | H10: =SUM('Vodilni partner'!K31:K50) -> 0
D11: PAVŠAL - NEPOSREDNI STROŠKI OSEBJA (20 %) | F11: ='Vodilni partner'!G51 -> 0 | G11: ='Vodilni partner'!I51 -> 0 | H11: ='Vodilni partner'!K51 -> 0
E12: SKUPAJ 2. FAZA | F12: =SUM(F10:F11) -> 0 | G12: =SUM(G10:G11) -> 0 | H12: =SUM(H10:H11) -> 0
C14: SKUPAJ 1. in 2. FAZA | D14: STROŠKI NALOŽB, STROŠKI STORITEV ZUNANJIH IZVAJALCEV (80%) | F14: =F6+F10 -> 0 | G14: =G6+G10 -> 0 | H14: =H6+H10 -> 0
D15: PAVŠAL - NEPOSREDNI STROŠKI OSEBJA (20 %) | F15: =F7+F11 -> 0 | G15: =G7+G11 -> 0 | H15: =H7+H11 -> 0
E16: SKUPAJ | F16: =SUM(F14:F15) -> 0 | G16: =SUM(G14:G15) -> 0 | H16: =SUM(H14:H15) -> 0
B18: PARTNER 1 | C18: 1. FAZA | D18: STROŠKI NALOŽB, STROŠKI STORITEV ZUNANJIH IZVAJALCEV (80%) | F18: =SUM('Partner 1'!G6:G25) -> 0 | G18: =SUM('Partner 1'!I6:I25) -> 0 | H18: =SUM('Partner 1'!K6:K25) -> 0
D19: PAVŠAL - NEPOSREDNI STROŠKI OSEBJA (20 %) | F19: ='Partner 1'!G26 -> 0 | G19: ='Partner 1'!I26 -> 0 | H19: ='Partner 1'!K26 -> 0
E20: SKUPAJ 1. FAZA | F20: =SUM(F18:F19) -> 0 | G20: =SUM(G18:G19) -> 0 | H20: =SUM(H18:H19) -> 0
C22: 2. FAZA | D22: STROŠKI NALOŽB, STROŠKI STORITEV ZUNANJIH IZVAJALCEV (80%) | F22: =SUM('Partner 1'!G31:G50) -> 0 | G22: =SUM('Partner 1'!I31:I50) -> 0 | H22: =SUM('Partner 1'!K31:K50) -> 0
D23: PAVŠAL - NEPOSREDNI STROŠKI OSEBJA (20 %) | F23: ='Partner 1'!G51 -> 0 | G23: ='Partner 1'!I51 -> 0 | H23: ='Partner 1'!K51 -> 0
E24: SKUPAJ 2. FAZA | F24: =SUM(F22:F23) -> 0 | G24: =SUM(G22:G23) -> 0 | H24: =SUM(H22:H23) -> 0
C26: SKUPAJ 1. in 2. FAZA | D26: STROŠKI NALOŽB, STROŠKI STORITEV ZUNANJIH IZVAJALCEV (80%) | F26: =F18+F22 -> 0 | G26: =G18+G22 -> 0 | H26: =H18+H22 -> 0
D27: PAVŠAL - NEPOSREDNI STROŠKI OSEBJA (20 %) | F27: =F19+F23 -> 0 | G27: =G19+G23 -> 0 | H27: =H19+H23 -> 0
E28: SKUPAJ | F28: =SUM(F26:F27) -> 0 | G28: =SUM(G26:G27) -> 0 | H28: =SUM(H26:H27) -> 0
B30: PARTNER 2 | C30: 1. FAZA | D30: STROŠKI NALOŽB, STROŠKI STORITEV ZUNANJIH IZVAJALCEV (80%) | F30: =SUM('Partner 2'!G6:G25) -> 0 | G30: =SUM('Partner 2'!I6:I25) -> 0 | H30: =SUM('Partner 2'!K6:K25) -> 0
D31: PAVŠAL - NEPOSREDNI STROŠKI OSEBJA (20 %) | F31: ='Partner 2'!G26 -> 0 | G31: ='Partner 2'!I26 -> 0 | H31: ='Partner 2'!K26 -> 0
E32: SKUPAJ 1. FAZA | F32: =SUM(F30:F31) -> 0 | G32: =SUM(G30:G31) -> 0 | H32: =SUM(H30:H31) -> 0
C34: 2. FAZA | D34: STROŠKI NALOŽB, STROŠKI STORITEV ZUNANJIH IZVAJALCEV (80%) | F34: =SUM('Partner 2'!G31:G50) -> 0 | G34: =SUM('Partner 2'!I31:I50) -> 0 | H34: =SUM('Partner 2'!K31:K50) -> 0
D35: PAVŠAL - NEPOSREDNI STROŠKI OSEBJA (20 %) | F35: ='Partner 2'!G51 -> 0 | G35: ='Partner 2'!I51 -> 0 | H35: ='Partner 2'!K51 -> 0
E36: SKUPAJ 2. FAZA | F36: =SUM(F34:F35) -> 0 | G36: =SUM(G34:G35) -> 0 | H36: =SUM(H34:H35) -> 0
C38: SKUPAJ 1. in 2. FAZA | D38: STROŠKI NALOŽB, STROŠKI STORITEV ZUNANJIH IZVAJALCEV (80%) | F38: =F30+F34 -> 0 | G38: =G30+G34 -> 0 | H38: =H30+H34 -> 0
D39: PAVŠAL - NEPOSREDNI STROŠKI OSEBJA (20 %) | F39: =F31+F35 -> 0 | G39: =G31+G35 -> 0 | H39: =H31+H35 -> 0
E40: SKUPAJ | F40: =SUM(F38:F39) -> 0 | G40: =SUM(G38:G39) -> 0 | H40: =SUM(H38:H39) -> 0
B42: PARTNER 3 | C42: 1. FAZA | D42: STROŠKI NALOŽB, STROŠKI STORITEV ZUNANJIH IZVAJALCEV (80%) | F42: =SUM('Partner 3'!G6:G25) -> 0 | G42: =SUM('Partner 3'!I6:I25) -> 0 | H42: =SUM('Partner 3'!K6:K25) -> 0
D43: PAVŠAL - NEPOSREDNI STROŠKI OSEBJA (20 %) | F43: ='Partner 3'!G26 -> 0 | G43: ='Partner 3'!I26 -> 0 | H43: ='Partner 3'!K26 -> 0
E44: SKUPAJ 1. FAZA | F44: =SUM(F42:F43) -> 0 | G44: =SUM(G42:G43) -> 0 | H44: =SUM(H42:H43) -> 0
C46: 2. FAZA | D46: STROŠKI NALOŽB, STROŠKI STORITEV ZUNANJIH IZVAJALCEV (80%) | F46: =SUM('Partner 3'!G31:G50) -> 0 | G46: =SUM('Partner 3'!I31:I50) -> 0 | H46: =SUM('Partner 3'!K31:K50) -> 0
D47: PAVŠAL - NEPOSREDNI STROŠKI OSEBJA (20 %) | F47: ='Partner 3'!G51 -> 0 | G47: ='Partner 3'!I51 -> 0 | H47: ='Partner 3'!K51 -> 0
E48: SKUPAJ 2. FAZA | F48: =SUM(F46:F47) -> 0 | G48: =SUM(G46:G47) -> 0 | H48: =SUM(H46:H47) -> 0
C50: SKUPAJ 1. in 2. FAZA | D50: STROŠKI NALOŽB, STROŠKI STORITEV ZUNANJIH IZVAJALCEV (80%) | F50: =F42+F46 -> 0 | G50: =G42+G46 -> 0 | H50: =H42+H46 -> 0
D51: PAVŠAL - NEPOSREDNI STROŠKI OSEBJA (20 %) | F51: =F43+F47 -> 0 | G51: =G43+G47 -> 0 | H51: =H43+H47 -> 0
E52: SKUPAJ | F52: =SUM(F50:F51) -> 0 | G52: =SUM(G50:G51) -> 0 | H52: =SUM(H50:H51) -> 0
B54: PARTNER 4 | C54: 1. FAZA | D54: STROŠKI NALOŽB, STROŠKI STORITEV ZUNANJIH IZVAJALCEV (80%) | F54: =SUM('Partner 4'!G6:G25) -> 0 | G54: =SUM('Partner 4'!I6:I25) -> 0 | H54: =SUM('Partner 4'!K6:K25) -> 0
D55: PAVŠAL - NEPOSREDNI STROŠKI OSEBJA (20 %) | F55: ='Partner 4'!G26 -> 0 | G55: ='Partner 4'!I26 -> 0 | H55: ='Partner 4'!K26 -> 0
E56: SKUPAJ 1. FAZA | F56: =SUM(F54:F55) -> 0 | G56: =SUM(G54:G55) -> 0 | H56: =SUM(H54:H55) -> 0
C58: 2. FAZA | D58: STROŠKI NALOŽB, STROŠKI STORITEV ZUNANJIH IZVAJALCEV (80%) | F58: =SUM('Partner 4'!G31:G50) -> 0 | G58: =SUM('Partner 4'!I31:I50) -> 0 | H58: =SUM('Partner 4'!K31:K50) -> 0
D59: PAVŠAL - NEPOSREDNI STROŠKI OSEBJA (20 %) | F59: ='Partner 4'!G51 -> 0 | G59: ='Partner 4'!I51 -> 0 | H59: ='Partner 4'!K51 -> 0
E60: SKUPAJ 2. FAZA | F60: =SUM(F58:F59) -> 0 | G60: =SUM(G58:G59) -> 0 | H60: =SUM(H58:H59) -> 0
C62: SKUPAJ 1. in 2. FAZA | D62: STROŠKI NALOŽB, STROŠKI STORITEV ZUNANJIH IZVAJALCEV (80%) | F62: =F54+F58 -> 0 | G62: =G54+G58 -> 0 | H62: =H54+H58 -> 0
D63: PAVŠAL - NEPOSREDNI STROŠKI OSEBJA (20 %) | F63: =F55+F59 -> 0 | G63: =G55+G59 -> 0 | H63: =H55+H59 -> 0
E64: SKUPAJ | F64: =SUM(F62:F63) -> 0 | G64: =SUM(G62:G63) -> 0 | H64: =SUM(H62:H63) -> 0
B66: PARTNER 5 | C66: 1. FAZA | D66: STROŠKI NALOŽB, STROŠKI STORITEV ZUNANJIH IZVAJALCEV (80%) | F66: =SUM('Partner 5'!G6:G25) -> 0 | G66: =SUM('Partner 5'!I6:I25) -> 0 | H66: =SUM('Partner 5'!K6:K25) -> 0
D67: PAVŠAL - NEPOSREDNI STROŠKI OSEBJA (20 %) | F67: ='Partner 5'!G26 -> 0 | G67: ='Partner 5'!I26 -> 0 | H67: ='Partner 5'!K26 -> 0
E68: SKUPAJ 1. FAZA | F68: =SUM(F66:F67) -> 0 | G68: =SUM(G66:G67) -> 0 | H68: =SUM(H66:H67) -> 0
C70: 2. FAZA | D70: STROŠKI NALOŽB, STROŠKI STORITEV ZUNANJIH IZVAJALCEV (80%) | F70: =SUM('Partner 5'!G31:G50) -> 0 | G70: =SUM('Partner 5'!I31:I50) -> 0 | H70: =SUM('Partner 5'!K31:K50) -> 0
D71: PAVŠAL - NEPOSREDNI STROŠKI OSEBJA (20 %) | F71: ='Partner 5'!G51 -> 0 | G71: ='Partner 5'!I51 -> 0 | H71: ='Partner 5'!K51 -> 0
E72: SKUPAJ 2. FAZA | F72: =SUM(F70:F71) -> 0 | G72: =SUM(G70:G71) -> 0 | H72: =SUM(H70:H71) -> 0
C74: SKUPAJ 1. in 2. FAZA | D74: STROŠKI NALOŽB, STROŠKI STORITEV ZUNANJIH IZVAJALCEV (80%) | F74: =F66+F70 -> 0 | G74: =G66+G70 -> 0 | H74: =H66+H70 -> 0
D75: PAVŠAL - NEPOSREDNI STROŠKI OSEBJA (20 %) | F75: =F67+F71 -> 0 | G75: =G67+G71 -> 0 | H75: =H67+H71 -> 0
E76: SKUPAJ | F76: =SUM(F74:F75) -> 0 | G76: =SUM(G74:G75) -> 0 | H76: =SUM(H74:H75) -> 0
B79: Kategorija stroška | F79: Faza 1 | G79: Faza 2 | H79: SKUPAJ
B80: Celotna vrednost projekta (upravičeni in neupravičeni stroški, z DDV) v EUR | F80: =SUM('Vodilni partner'!E27+'Partner 1'!E27+'Partner 2'!E27+'Partner 3'!E27+'Partner 4'!E27+'Partner 5'!E27) -> 0 | G80: =SUM('Vodilni partner'!E52+'Partner 1'!E52+'Partner 2'!E52+'Partner 3'!E52+'Partner 4'!E52+'Partner 5'!E52) -> 0 | H80: =F80+G80 -> 0
B81: Upravičeni stroški (EUR) | F81: =F8+F20+F32+F44+F56+F68 -> 0 | G81: =F12+F24+F36+F48+F60+F72 -> 0 | H81: =F81+G81 -> 0
B82: Zaprošen % sofinanciranja | F82: 0.8 | G82: 0.8 | H82: 0.8
B83: Zaprošena vrednost sofinanciranja v EUR | F83: =G8+G20+G32+G44+G56+G68 -> 0 | G83: =G12+G24+G36+G48+G60+G72 -> 0 | H83: =F83+G83 -> 0
B84: Lastna udeležba v EUR | F84: =H8+H20+H32+H32+H44+H56+H68 -> 0 | G84: =H12+H24+H36+H48+H60+H72 -> 0 | H84: =F84+G84 -> 0
B85: V projektu investicijske narave višina dejanskih upravičenih stroškov (stroški naložb oz. investicij v opredmetena osnovna sredstva, stroški storitev zunanjih izvajalcev) | F85: =F6+F18+F30+F42+F54+F66 -> 0 | G85: =F10+F22+F34+F46+F58+F70 -> 0 | H85: =F85+G85 -> 0
B86: V projektu investicijske narave višina neposrednih stroškov osebja (20% pavšalna stopnja) | F86: =F7+F19+F31+F43+F55+F67 -> 0 | G86: =F11+F23+F35+F47+F59+F71 -> 0 | H86: =F86+G86 -> 0
B87: Delež stroška za nakup zemljišč (največ 10 % upravičenih stroškov)

Sheet Vodilni partner
B1: "Finančni načrt - INVESTICIJSKI PROJEKT" | J1: 1. JAVNI POZIV LAS ZELENA ISTRA (ESRR)
B4: NAZIV VODILNEGA PARTNERJA:
B5: AKTIVNOSTI (1. FAZA) | C5: OBLIKA FINANCIRANJA (DEJANSKI STROŠKI/ PAVŠALNA STOPNJA) | D5: VRSTA STROŠKA | E5: SKUPNI STROŠKI Z DDV | F5: SKUPNI STROŠKI BREZ DDV | G5: SKUPNI UPRAVIČENI STROŠKI | H5: NEUPRAVIČENI STROŠKI | I5: ZNESEK SOFINANCIRANJA oz. POGODBENA VREDNOST | J5: ODSTOTEK SOFINANCIRANJA oz. POGODBENA STOPNJA | K5: LASTNA UDELEŽBA (EUR)
C6: IZBERI | D6: IZBERI | H6: =E6-G6 -> 0 | I6: =G6*0.8 -> 0 | J6: 80 | K6: =ROUND((E6-I6),2) -> 0
C7: IZBERI | D7: IZBERI | H7: =E7-G7 -> 0 | I7: =G7*0.8 -> 0 | J7: 80 | K7: =ROUND((E7-I7),2) -> 0
C8: IZBERI | D8: IZBERI | H8: =E8-G8 -> 0 | I8: =G8*0.8 -> 0 | J8: 80 | K8: =ROUND((E8-I8),2) -> 0
C9: IZBERI | D9: IZBERI | H9: =E9-G9 -> 0 | I9: =G9*0.8 -> 0 | J9: 80 | K9: =ROUND((E9-I9),2) -> 0
C10: IZBERI | D10: IZBERI | H10: =E10-G10 -> 0 | I10: =G10*0.8 -> 0 | J10: 80 | K10: =ROUND((E10-I10),2) -> 0
C11: IZBERI | D11: IZBERI | H11: =E11-G11 -> 0 | I11: =G11*0.8 -> 0 | J11: 80 | K11: =ROUND((E11-I11),2) -> 0
C12: IZBERI | D12: IZBERI | H12: =E12-G12 -> 0 | I12: =G12*0.8 -> 0 | J12: 80 | K12: =ROUND((E12-I12),2) -> 0
C13: IZBERI | D13: IZBERI | H13: =E13-G13 -> 0 | I13: =G13*0.8 -> 0 | J13: 80 | K13: =ROUND((E13-I13),2) -> 0
C14: IZBERI | D14: IZBERI | H14: =E14-G14 -> 0 | I14: =G14*0.8 -> 0 | J14: 80 | K14: =ROUND((E14-I14),2) -> 0
C15: IZBERI | D15: IZBERI | H15: =E15-G15 -> 0 | I15: =G15*0.8 -> 0 | J15: 80 | K15: =ROUND((E15-I15),2) -> 0
C16: IZBERI | D16: IZBERI | H16: =E16-G16 -> 0 | I16: =G16*0.8 -> 0 | J16: 80 | K16: =ROUND((E16-I16),2) -> 0
C17: IZBERI | D17: IZBERI | H17: =E17-G17 -> 0 | I17: =G17*0.8 -> 0 | J17: 80 | K17: =ROUND((E17-I17),2) -> 0
... C25: IZBERI | D25: IZBERI | H25: =E25-G25 -> 0 | I25: =G25*0.8 -> 0 | J25: 80 | K25: =ROUND((E25-I25),2) -> 0
C26: PAVŠALNA STOPNJA | D26: Stroški osebja | E26: =(G26) -> 0 | F26: =(G26) -> 0 | G26: =SUM(G6:G25)*0.2 -> 0 | H26: 0 | I26: =G26*0.8 -> 0 | J26: 80 | K26: =ROUND((E26-I26),2) -> 0
D27: SKUPAJ | E27: =SUM(E6:E26) -> 0 | F27: =SUM(F6:F25) -> 0 | G27: =SUM(G6:G26) -> 0 | H27: =SUM(H6:H26) -> 0 | I27: =SUM(I6:I26) -> 0 | K27: =ROUND((E27-I27),2) -> 0
B30: AKTIVNOSTI (2. FAZA) | C30: OBLIKA FINANCIRANJA (DEJANSKI STROŠKI/ PAVŠALNA STOPNJA) | D30: VRSTA STROŠKA | E30: SKUPNI STROŠKI Z DDV | F30: SKUPNI STROŠKI BREZ DDV | G30: SKUPNI UPRAVIČENI STROŠKI | H30: NEUPRAVIČENI STROŠKI | I30: ZNESEK SOFINANCIRANJA oz. POGODBENA VREDNOST | J30: ODSTOTEK SOFINANCIRANJA oz. POGODBENA STOPNJA | K30: LASTNA UDELEŽBA (EUR)
C31: IZBERI | D31: IZBERI | H31: =E31-G31 -> 0 | I31: =G31*0.8 -> 0 | J31: 80 | K31: =ROUND((E31-I31),2) -> 0
C32: IZBERI | D32: IZBERI | H32: =E32-G32 -> 0 | I32: =G32*0.8 -> 0 | J32: 80 | K32: =ROUND((E32-I32),2) -> 0
C33: IZBERI | D33: IZBERI | H33: =E33-G33 -> 0 | I33: =G33*0.8 -> 0 | J33: 80 | K33: =ROUND((E33-I33),2) -> 0
C34: IZBERI | D34: IZBERI | H34: =E34-G34 -> 0 | I34: =G34*0.8 -> 0 | J34: 80 | K34: =ROUND((E34-I34),2) -> 0
C35: IZBERI | D35: IZBERI | H35: =E35-G35 -> 0 | I35: =G35*0.8 -> 0 | J35: 80 | K35: =ROUND((E35-I35),2) -> 0
C36: IZBERI | D36: IZBERI | H36: =E36-G36 -> 0 | I36: =G36*0.8 -> 0 | J36: 80 | K36: =ROUND((E36-I36),2) -> 0
C37: IZBERI | D37: IZBERI | H37: =E37-G37 -> 0 | I37: =G37*0.8 -> 0 | J37: 80 | K37: =ROUND((E37-I37),2) -> 0
C38: IZBERI | D38: IZBERI | H38: =E38-G38 -> 0 | I38: =G38*0.8 -> 0 | J38: 80 | K38: =ROUND((E38-I38),2) -> 0
C39: IZBERI | D39: IZBERI | H39: =E39-G39 -> 0 | I39: =G39*0.8 -> 0 | J39: 80 | K39: =ROUND((E39-I39),2) -> 0
C40: IZBERI | D40: IZBERI | H40: =E40-G40 -> 0 | I40: =G40*0.8 -> 0 | J40: 80 | K40: =ROUND((E40-I40),2) -> 0
C41: IZBERI | D41: IZBERI | H41: =E41-G41 -> 0 | I41: =G41*0.8 -> 0 | J41: 80 | K41: =ROUND((E41-I41),2) -> 0
C42: IZBERI | D42: IZBERI | H42: =E42-G42 -> 0 | I42: =G42*0.8 -> 0 | J42: 80 | K42: =ROUND((E42-I42),2) -> 0
... C50: IZBERI | D50: IZBERI | H50: =E50-G50 -> 0 | I50: =G50*0.8 -> 0 | J50: 80 | K50: =ROUND((E50-I50),2) -> 0
C51: PAVŠALNA STOPNJA | D51: Stroški osebja | E51: =(G51) -> 0 | F51: =(G51) -> 0 | G51: =SUM(G31:G50)*0.2 -> 0 | H51: 0 | I51: =G51*0.8 -> 0 | J51: 80 | K51: =ROUND((E51-I51),2) -> 0
D52: SKUPAJ | E52: =SUM(E31:E51) -> 0 | F52: =SUM(F31:F50) -> 0 | G52: =SUM(G31:G51) -> 0 | H52: =SUM(H31:H51) -> 0 | I52: =SUM(I31:I51) -> 0 | K52: =ROUND((E52-I52),2) -> 0
C56: VREDNOST PROJEKTA - VODILNI PARTNER
C57: SKUPNI STROŠKI Z DDV | D57: SKUPNI STROŠKI BREZ DDV | E57: SKUPNI UPRAVIČENI STROŠKI | F57: SKUPNI UPRAVIČENI DEJANSKI STROŠKI | G57: SKUPNI UPRAVIČENI STROŠKI OSEBJA (PAVŠAL) | H57: NEUPRAVIČENI STROŠKI | I57: ZNESEK SOFINANCIRANJA | K57: LASTNA UDELEŽBA
C58: =E52+E27 -> 0 | D58: =F52+F27 -> 0 | E58: =G52+G27 -> 0 | F58: =SUM(G6:G25,G31:G50) -> 0 | G58: =G26+G51 -> 0 | H58: =H27+H52 -> 0 | I58: =I27+I52 -> 0 | K58: =K27+K52 -> 0

Sheet Partner 1
B1: "Finančni načrt - INVESTICIJSKI PROJEKT" | J1: 1. JAVNI POZIV LAS ZELENA ISTRA (ESRR)
B4: NAZIV PARTNERJA 1:
B5: AKTIVNOSTI (1. FAZA) | C5: OBLIKA FINANCIRANJA (DEJANSKI STROŠKI/ PAVŠALNA STOPNJA) | D5: VRSTA STROŠKA | E5: SKUPNI STROŠKI Z DDV | F5: SKUPNI STROŠKI BREZ DDV | G5: SKUPNI UPRAVIČENI STROŠKI | H5: NEUPRAVIČENI STROŠKI | I5: ZNESEK SOFINANCIRANJA oz. POGODBENA VREDNOST | J5: ODSTOTEK SOFINANCIRANJA oz. POGODBENA STOPNJA | K5: LASTNA UDELEŽBA (EUR)
C6: IZBERI | D6: IZBERI | H6: =E6-G6 -> 0 | I6: =G6*0.8 -> 0 | J6: 80 | K6: =ROUND((E6-I6),2) -> 0
C7: IZBERI | D7: IZBERI | H7: =E7-G7 -> 0 | I7: =G7*0.8 -> 0 | J7: 80 | K7: =ROUND((E7-I7),2) -> 0
C8: IZBERI | D8: IZBERI | H8: =E8-G8 -> 0 | I8: =G8*0.8 -> 0 | J8: 80 | K8: =ROUND((E8-I8),2) -> 0
C9: IZBERI | D9: IZBERI | H9: =E9-G9 -> 0 | I9: =G9*0.8 -> 0 | J9: 80 | K9: =ROUND((E9-I9),2) -> 0
C10: IZBERI | D10: IZBERI | H10: =E10-G10 -> 0 | I10: =G10*0.8 -> 0 | J10: 80 | K10: =ROUND((E10-I10),2) -> 0
C11: IZBERI | D11: IZBERI | H11: =E11-G11 -> 0 | I11: =G11*0.8 -> 0 | J11: 80 | K11: =ROUND((E11-I11),2) -> 0
C12: IZBERI | D12: IZBERI | H12: =E12-G12 -> 0 | I12: =G12*0.8 -> 0 | J12: 80 | K12: =ROUND((E12-I12),2) -> 0
C13: IZBERI | D13: IZBERI | H13: =E13-G13 -> 0 | I13: =G13*0.8 -> 0 | J13: 80 | K13: =ROUND((E13-I13),2) -> 0
C14: IZBERI | D14: IZBERI | H14: =E14-G14 -> 0 | I14: =G14*0.8 -> 0 | J14: 80 | K14: =ROUND((E14-I14),2) -> 0
C15: IZBERI | D15: IZBERI | H15: =E15-G15 -> 0 | I15: =G15*0.8 -> 0 | J15: 80 | K15: =ROUND((E15-I15),2) -> 0
C16: IZBERI | D16: IZBERI | H16: =E16-G16 -> 0 | I16: =G16*0.8 -> 0 | J16: 80 | K16: =ROUND((E16-I16),2) -> 0
C17: IZBERI | D17: IZBERI | H17: =E17-G17 -> 0 | I17: =G17*0.8 -> 0 | J17: 80 | K17: =ROUND((E17-I17),2) -> 0
... C25: IZBERI | D25: IZBERI | H25: =E25-G25 -> 0 | I25: =G25*0.8 -> 0 | J25: 80 | K25: =ROUND((E25-I25),2) -> 0
C26: PAVŠALNA STOPNJA | D26: Stroški osebja | E26: =(G26) -> 0 | F26: =(G26) -> 0 | G26: =SUM(G6:G25)*0.2 -> 0 | H26: 0 | I26: =G26*0.8 -> 0 | J26: 80 | K26: =ROUND((E26-I26),2) -> 0
D27: SKUPAJ | E27: =SUM(E6:E26) -> 0 | F27: =SUM(F6:F25) -> 0 | G27: =SUM(G6:G26) -> 0 | H27: =SUM(H6:H26) -> 0 | I27: =SUM(I6:I26) -> 0 | K27: =ROUND((E27-I27),2) -> 0
B30: AKTIVNOSTI (2. FAZA) | C30: OBLIKA FINANCIRANJA (DEJANSKI STROŠKI/ PAVŠALNA STOPNJA) | D30: VRSTA STROŠKA | E30: SKUPNI STROŠKI Z DDV | F30: SKUPNI STROŠKI BREZ DDV | G30: SKUPNI UPRAVIČENI STROŠKI | H30: NEUPRAVIČENI STROŠKI | I30: ZNESEK SOFINANCIRANJA oz. POGODBENA VREDNOST | J30: ODSTOTEK SOFINANCIRANJA oz. POGODBENA STOPNJA | K30: LASTNA UDELEŽBA (EUR)
C31: IZBERI | D31: IZBERI | H31: =E31-G31 -> 0 | I31: =G31*0.8 -> 0 | J31: 80 | K31: =ROUND((E31-I31),2) -> 0
C32: IZBERI | D32: IZBERI | H32: =E32-G32 -> 0 | I32: =G32*0.8 -> 0 | J32: 80 | K32: =ROUND((E32-I32),2) -> 0
C33: IZBERI | D33: IZBERI | H33: =E33-G33 -> 0 | I33: =G33*0.8 -> 0 | J33: 80 | K33: =ROUND((E33-I33),2) -> 0
C34: IZBERI | D34: IZBERI | H34: =E34-G34 -> 0 | I34: =G34*0.8 -> 0 | J34: 80 | K34: =ROUND((E34-I34),2) -> 0
C35: IZBERI | D35: IZBERI | H35: =E35-G35 -> 0 | I35: =G35*0.8 -> 0 | J35: 80 | K35: =ROUND((E35-I35),2) -> 0
C36: IZBERI | D36: IZBERI | H36: =E36-G36 -> 0 | I36: =G36*0.8 -> 0 | J36: 80 | K36: =ROUND((E36-I36),2) -> 0
C37: IZBERI | D37: IZBERI | H37: =E37-G37 -> 0 | I37: =G37*0.8 -> 0 | J37: 80 | K37: =ROUND((E37-I37),2) -> 0
C38: IZBERI | D38: IZBERI | H38: =E38-G38 -> 0 | I38: =G38*0.8 -> 0 | J38: 80 | K38: =ROUND((E38-I38),2) -> 0
C39: IZBERI | D39: IZBERI | H39: =E39-G39 -> 0 | I39: =G39*0.8 -> 0 | J39: 80 | K39: =ROUND((E39-I39),2) -> 0
C40: IZBERI | D40: IZBERI | H40: =E40-G40 -> 0 | I40: =G40*0.8 -> 0 | J40: 80 | K40: =ROUND((E40-I40),2) -> 0
C41: IZBERI | D41: IZBERI | H41: =E41-G41 -> 0 | I41: =G41*0.8 -> 0 | J41: 80 | K41: =ROUND((E41-I41),2) -> 0
C42: IZBERI | D42: IZBERI | H42: =E42-G42 -> 0 | I42: =G42*0.8 -> 0 | J42: 80 | K42: =ROUND((E42-I42),2) -> 0
... C50: IZBERI | D50: IZBERI | H50: =E50-G50 -> 0 | I50: =G50*0.8 -> 0 | J50: 80 | K50: =ROUND((E50-I50),2) -> 0
C51: PAVŠALNA STOPNJA | D51: Stroški osebja | E51: =(G51) -> 0 | F51: =(G51) -> 0 | G51: =SUM(G31:G50)*0.2 -> 0 | H51: 0 | I51: =G51*0.8 -> 0 | J51: 80 | K51: =ROUND((E51-I51),2) -> 0
D52: SKUPAJ | E52: =SUM(E31:E51) -> 0 | F52: =SUM(F31:F50) -> 0 | G52: =SUM(G31:G51) -> 0 | H52: =SUM(H31:H51) -> 0 | I52: =SUM(I31:I51) -> 0 | K52: =ROUND((E52-I52),2) -> 0
C56: VREDNOST PROJEKTA - PARTNER 1
C57: SKUPNI STROŠKI Z DDV | D57: SKUPNI STROŠKI BREZ DDV | E57: SKUPNI UPRAVIČENI STROŠKI | F57: SKUPNI UPRAVIČENI DEJANSKI STROŠKI | G57: SKUPNI UPRAVIČENI STROŠKI OSEBJA (PAVŠAL) | H57: NEUPRAVIČENI STROŠKI | I57: ZNESEK SOFINANCIRANJA | K57: LASTNA UDELEŽBA
C58: =E52+E27 -> 0 | D58: =F52+F27 -> 0 | E58: =G52+G27 -> 0 | F58: =SUM(G6:G25,G31:G50) -> 0 | G58: =G26+G51 -> 0 | H58: =H27+H52 -> 0 | I58: =I27+I52 -> 0 | K58: =K27+K52 -> 0

Sheet Partner 2
B1: "Finančni načrt - INVESTICIJSKI PROJEKT" | J1: 1. JAVNI POZIV LAS ZELENA ISTRA (ESRR)
B4: NAZIV PARTNERJA 2:
B5: AKTIVNOSTI (1. FAZA) | C5: OBLIKA FINANCIRANJA (DEJANSKI STROŠKI/ PAVŠALNA STOPNJA) | D5: VRSTA STROŠKA | E5: SKUPNI STROŠKI Z DDV | F5: SKUPNI STROŠKI BREZ DDV | G5: SKUPNI UPRAVIČENI STROŠKI | H5: NEUPRAVIČENI STROŠKI | I5: ZNESEK SOFINANCIRANJA oz. POGODBENA VREDNOST | J5: ODSTOTEK SOFINANCIRANJA oz. POGODBENA STOPNJA | K5: LASTNA UDELEŽBA (EUR)
C6: IZBERI | D6: IZBERI | H6: =E6-G6 -> 0 | I6: =G6*0.8 -> 0 | J6: 80 | K6: =ROUND((E6-I6),2) -> 0
C7: IZBERI | D7: IZBERI | H7: =E7-G7 -> 0 | I7: =G7*0.8 -> 0 | J7: 80 | K7: =ROUND((E7-I7),2) -> 0
C8: IZBERI | D8: IZBERI | H8: =E8-G8 -> 0 | I8: =G8*0.8 -> 0 | J8: 80 | K8: =ROUND((E8-I8),2) -> 0
C9: IZBERI | D9: IZBERI | H9: =E9-G9 -> 0 | I9: =G9*0.8 -> 0 | J9: 80 | K9: =ROUND((E9-I9),2) -> 0
C10: IZBERI | D10: IZBERI | H10: =E10-G10 -> 0 | I10: =G10*0.8 -> 0 | J10: 80 | K10: =ROUND((E10-I10),2) -> 0
C11: IZBERI | D11: IZBERI | H11: =E11-G11 -> 0 | I11: =G11*0.8 -> 0 | J11: 80 | K11: =ROUND((E11-I11),2) -> 0
C12: IZBERI | D12: IZBERI | H12: =E12-G12 -> 0 | I12: =G12*0.8 -> 0 | J12: 80 | K12: =ROUND((E12-I12),2) -> 0
C13: IZBERI | D13: IZBERI | H13: =E13-G13 -> 0 | I13: =G13*0.8 -> 0 | J13: 80 | K13: =ROUND((E13-I13),2) -> 0
C14: IZBERI | D14: IZBERI | H14: =E14-G14 -> 0 | I14: =G14*0.8 -> 0 | J14: 80 | K14: =ROUND((E14-I14),2) -> 0
C15: IZBERI | D15: IZBERI | H15: =E15-G15 -> 0 | I15: =G15*0.8 -> 0 | J15: 80 | K15: =ROUND((E15-I15),2) -> 0
C16: IZBERI | D16: IZBERI | H16: =E16-G16 -> 0 | I16: =G16*0.8 -> 0 | J16: 80 | K16: =ROUND((E16-I16),2) -> 0
C17: IZBERI | D17: IZBERI | H17: =E17-G17 -> 0 | I17: =G17*0.8 -> 0 | J17: 80 | K17: =ROUND((E17-I17),2) -> 0
... C25: IZBERI | D25: IZBERI | H25: =E25-G25 -> 0 | I25: =G25*0.8 -> 0 | J25: 80 | K25: =ROUND((E25-I25),2) -> 0
C26: PAVŠALNA STOPNJA | D26: Stroški osebja | E26: =(G26) -> 0 | F26: =(G26) -> 0 | G26: =SUM(G6:G25)*0.2 -> 0 | H26: 0 | I26: =G26*0.8 -> 0 | J26: 80 | K26: =ROUND((E26-I26),2) -> 0
D27: SKUPAJ | E27: =SUM(E6:E26) -> 0 | F27: =SUM(F6:F25) -> 0 | G27: =SUM(G6:G26) -> 0 | H27: =SUM(H6:H26) -> 0 | I27: =SUM(I6:I26) -> 0 | K27: =ROUND((E27-I27),2) -> 0
B30: AKTIVNOSTI (2. FAZA) | C30: OBLIKA FINANCIRANJA (DEJANSKI STROŠKI/ PAVŠALNA STOPNJA) | D30: VRSTA STROŠKA | E30: SKUPNI STROŠKI Z DDV | F30: SKUPNI STROŠKI BREZ DDV | G30: SKUPNI UPRAVIČENI STROŠKI | H30: NEUPRAVIČENI STROŠKI | I30: ZNESEK SOFINANCIRANJA oz. POGODBENA VREDNOST | J30: ODSTOTEK SOFINANCIRANJA oz. POGODBENA STOPNJA | K30: LASTNA UDELEŽBA (EUR)
C31: IZBERI | D31: IZBERI | H31: =E31-G31 -> 0 | I31: =G31*0.8 -> 0 | J31: 80 | K31: =ROUND((E31-I31),2) -> 0
C32: IZBERI | D32: IZBERI | H32: =E32-G32 -> 0 | I32: =G32*0.8 -> 0 | J32: 80 | K32: =ROUND((E32-I32),2) -> 0
C33: IZBERI | D33: IZBERI | H33: =E33-G33 -> 0 | I33: =G33*0.8 -> 0 | J33: 80 | K33: =ROUND((E33-I33),2) -> 0
C34: IZBERI | D34: IZBERI | H34: =E34-G34 -> 0 | I34: =G34*0.8 -> 0 | J34: 80 | K34: =ROUND((E34-I34),2) -> 0
C35: IZBERI | D35: IZBERI | H35: =E35-G35 -> 0 | I35: =G35*0.8 -> 0 | J35: 80 | K35: =ROUND((E35-I35),2) -> 0
C36: IZBERI | D36: IZBERI | H36: =E36-G36 -> 0 | I36: =G36*0.8 -> 0 | J36: 80 | K36: =ROUND((E36-I36),2) -> 0
C37: IZBERI | D37: IZBERI | H37: =E37-G37 -> 0 | I37: =G37*0.8 -> 0 | J37: 80 | K37: =ROUND((E37-I37),2) -> 0
C38: IZBERI | D38: IZBERI | H38: =E38-G38 -> 0 | I38: =G38*0.8 -> 0 | J38: 80 | K38: =ROUND((E38-I38),2) -> 0
C39: IZBERI | D39: IZBERI | H39: =E39-G39 -> 0 | I39: =G39*0.8 -> 0 | J39: 80 | K39: =ROUND((E39-I39),2) -> 0
C40: IZBERI | D40: IZBERI | H40: =E40-G40 -> 0 | I40: =G40*0.8 -> 0 | J40: 80 | K40: =ROUND((E40-I40),2) -> 0
C41: IZBERI | D41: IZBERI | H41: =E41-G41 -> 0 | I41: =G41*0.8 -> 0 | J41: 80 | K41: =ROUND((E41-I41),2) -> 0
C42: IZBERI | D42: IZBERI | H42: =E42-G42 -> 0 | I42: =G42*0.8 -> 0 | J42: 80 | K42: =ROUND((E42-I42),2) -> 0
... C50: IZBERI | D50: IZBERI | H50: =E50-G50 -> 0 | I50: =G50*0.8 -> 0 | J50: 80 | K50: =ROUND((E50-I50),2) -> 0
C51: PAVŠALNA STOPNJA | D51: Stroški osebja | E51: =(G51) -> 0 | F51: =(G51) -> 0 | G51: =SUM(G31:G50)*0.2 -> 0 | H51: 0 | I51: =G51*0.8 -> 0 | J51: 80 | K51: =ROUND((E51-I51),2) -> 0
D52: SKUPAJ | E52: =SUM(E31:E51) -> 0 | F52: =SUM(F31:F50) -> 0 | G52: =SUM(G31:G51) -> 0 | H52: =SUM(H31:H51) -> 0 | I52: =SUM(I31:I51) -> 0 | K52: =ROUND((E52-I52),2) -> 0
C56: VREDNOST PROJEKTA - PARTNER 2
C57: SKUPNI STROŠKI Z DDV | D57: SKUPNI STROŠKI BREZ DDV | E57: SKUPNI UPRAVIČENI STROŠKI | F57: SKUPNI UPRAVIČENI DEJANSKI STROŠKI | G57: SKUPNI UPRAVIČENI STROŠKI OSEBJA (PAVŠAL) | H57: NEUPRAVIČENI STROŠKI | I57: ZNESEK SOFINANCIRANJA | K57: LASTNA UDELEŽBA
C58: =E52+E27 -> 0 | D58: =F52+F27 -> 0 | E58: =G52+G27 -> 0 | F58: =SUM(G6:G25,G31:G50) -> 0 | G58: =G26+G51 -> 0 | H58: =H27+H52 -> 0 | I58: =I27+I52 -> 0 | K58: =K27+K52 -> 0

Sheet Partner 3
B1: "Finančni načrt - INVESTICIJSKI PROJEKT" | J1: 1. JAVNI POZIV LAS ZELENA ISTRA (ESRR)
B4: NAZIV PARTNERJA 3:
B5: AKTIVNOSTI (1. FAZA) | C5: OBLIKA FINANCIRANJA (DEJANSKI STROŠKI/ PAVŠALNA STOPNJA) | D5: VRSTA STROŠKA | E5: SKUPNI STROŠKI Z DDV | F5: SKUPNI STROŠKI BREZ DDV | G5: SKUPNI UPRAVIČENI STROŠKI | H5: NEUPRAVIČENI STROŠKI | I5: ZNESEK SOFINANCIRANJA oz. POGODBENA VREDNOST | J5: ODSTOTEK SOFINANCIRANJA oz. POGODBENA STOPNJA | K5: LASTNA UDELEŽBA (EUR)
C6: IZBERI | D6: IZBERI | H6: =E6-G6 -> 0 | I6: =G6*0.8 -> 0 | J6: 80 | K6: =ROUND((E6-I6),2) -> 0
C7: IZBERI | D7: IZBERI | H7: =E7-G7 -> 0 | I7: =G7*0.8 -> 0 | J7: 80 | K7: =ROUND((E7-I7),2) -> 0
C8: IZBERI | D8: IZBERI | H8: =E8-G8 -> 0 | I8: =G8*0.8 -> 0 | J8: 80 | K8: =ROUND((E8-I8),2) -> 0
C9: IZBERI | D9: IZBERI | H9: =E9-G9 -> 0 | I9: =G9*0.8 -> 0 | J9: 80 | K9: =ROUND((E9-I9),2) -> 0
C10: IZBERI | D10: IZBERI | H10: =E10-G10 -> 0 | I10: =G10*0.8 -> 0 | J10: 80 | K10: =ROUND((E10-I10),2) -> 0
C11: IZBERI | D11: IZBERI | H11: =E11-G11 -> 0 | I11: =G11*0.8 -> 0 | J11: 80 | K11: =ROUND((E11-I11),2) -> 0
C12: IZBERI | D12: IZBERI | H12: =E12-G12 -> 0 | I12: =G12*0.8 -> 0 | J12: 80 | K12: =ROUND((E12-I12),2) -> 0
C13: IZBERI | D13: IZBERI | H13: =E13-G13 -> 0 | I13: =G13*0.8 -> 0 | J13: 80 | K13: =ROUND((E13-I13),2) -> 0
C14: IZBERI | D14: IZBERI | H14: =E14-G14 -> 0 | I14: =G14*0.8 -> 0 | J14: 80 | K14: =ROUND((E14-I14),2) -> 0
C15: IZBERI | D15: IZBERI | H15: =E15-G15 -> 0 | I15: =G15*0.8 -> 0 | J15: 80 | K15: =ROUND((E15-I15),2) -> 0
C16: IZBERI | D16: IZBERI | H16: =E16-G16 -> 0 | I16: =G16*0.8 -> 0 | J16: 80 | K16: =ROUND((E16-I16),2) -> 0
C17: IZBERI | D17: IZBERI | H17: =E17-G17 -> 0 | I17: =G17*0.8 -> 0 | J17: 80 | K17: =ROUND((E17-I17),2) -> 0
... C25: IZBERI | D25: IZBERI | H25: =E25-G25 -> 0 | I25: =G25*0.8 -> 0 | J25: 80 | K25: =ROUND((E25-I25),2) -> 0
C26: PAVŠALNA STOPNJA | D26: Stroški osebja | E26: =(G26) -> 0 | F26: =(G26) -> 0 | G26: =SUM(G6:G25)*0.2 -> 0 | H26: 0 | I26: =G26*0.8 -> 0 | J26: 80 | K26: =ROUND((E26-I26),2) -> 0
D27: SKUPAJ | E27: =SUM(E6:E26) -> 0 | F27: =SUM(F6:F25) -> 0 | G27: =SUM(G6:G26) -> 0 | H27: =SUM(H6:H26) -> 0 | I27: =SUM(I6:I26) -> 0 | K27: =ROUND((E27-I27),2) -> 0
B30: AKTIVNOSTI (2. FAZA) | C30: OBLIKA FINANCIRANJA (DEJANSKI STROŠKI/ PAVŠALNA STOPNJA) | D30: VRSTA STROŠKA | E30: SKUPNI STROŠKI Z DDV | F30: SKUPNI STROŠKI BREZ DDV | G30: SKUPNI UPRAVIČENI STROŠKI | H30: NEUPRAVIČENI STROŠKI | I30: ZNESEK SOFINANCIRANJA oz. POGODBENA VREDNOST | J30: ODSTOTEK SOFINANCIRANJA oz. POGODBENA STOPNJA | K30: LASTNA UDELEŽBA (EUR)
C31: IZBERI | D31: IZBERI | H31: =E31-G31 -> 0 | I31: =G31*0.8 -> 0 | J31: 80 | K31: =ROUND((E31-I31),2) -> 0
C32: IZBERI | D32: IZBERI | H32: =E32-G32 -> 0 | I32: =G32*0.8 -> 0 | J32: 80 | K32: =ROUND((E32-I32),2) -> 0
C33: IZBERI | D33: IZBERI | H33: =E33-G33 -> 0 | I33: =G33*0.8 -> 0 | J33: 80 | K33: =ROUND((E33-I33),2) -> 0
C34: IZBERI | D34: IZBERI | H34: =E34-G34 -> 0 | I34: =G34*0.8 -> 0 | J34: 80 | K34: =ROUND((E34-I34),2) -> 0
C35: IZBERI | D35: IZBERI | H35: =E35-G35 -> 0 | I35: =G35*0.8 -> 0 | J35: 80 | K35: =ROUND((E35-I35),2) -> 0
C36: IZBERI | D36: IZBERI | H36: =E36-G36 -> 0 | I36: =G36*0.8 -> 0 | J36: 80 | K36: =ROUND((E36-I36),2) -> 0
C37: IZBERI | D37: IZBERI | H37: =E37-G37 -> 0 | I37: =G37*0.8 -> 0 | J37: 80 | K37: =ROUND((E37-I37),2) -> 0
C38: IZBERI | D38: IZBERI | H38: =E38-G38 -> 0 | I38: =G38*0.8 -> 0 | J38: 80 | K38: =ROUND((E38-I38),2) -> 0
C39: IZBERI | D39: IZBERI | H39: =E39-G39 -> 0 | I39: =G39*0.8 -> 0 | J39: 80 | K39: =ROUND((E39-I39),2) -> 0
C40: IZBERI | D40: IZBERI | H40: =E40-G40 -> 0 | I40: =G40*0.8 -> 0 | J40: 80 | K40: =ROUND((E40-I40),2) -> 0
C41: IZBERI | D41: IZBERI | H41: =E41-G41 -> 0 | I41: =G41*0.8 -> 0 | J41: 80 | K41: =ROUND((E41-I41),2) -> 0
C42: IZBERI | D42: IZBERI | H42: =E42-G42 -> 0 | I42: =G42*0.8 -> 0 | J42: 80 | K42: =ROUND((E42-I42),2) -> 0
... C50: IZBERI | D50: IZBERI | H50: =E50-G50 -> 0 | I50: =G50*0.8 -> 0 | J50: 80 | K50: =ROUND((E50-I50),2) -> 0
C51: PAVŠALNA STOPNJA | D51: Stroški osebja | E51: =(G51) -> 0 | F51: =(G51) -> 0 | G51: =SUM(G31:G50)*0.2 -> 0 | H51: 0 | I51: =G51*0.8 -> 0 | J51: 80 | K51: =ROUND((E51-I51),2) -> 0
D52: SKUPAJ | E52: =SUM(E31:E51) -> 0 | F52: =SUM(F31:F50) -> 0 | G52: =SUM(G31:G51) -> 0 | H52: =SUM(H31:H51) -> 0 | I52: =SUM(I31:I51) -> 0 | K52: =ROUND((E52-I52),2) -> 0
C56: VREDNOST PROJEKTA - PARTNER 3
C57: SKUPNI STROŠKI Z DDV | D57: SKUPNI STROŠKI BREZ DDV | E57: SKUPNI UPRAVIČENI STROŠKI | F57: SKUPNI UPRAVIČENI DEJANSKI STROŠKI | G57: SKUPNI UPRAVIČENI STROŠKI OSEBJA (PAVŠAL) | H57: NEUPRAVIČENI STROŠKI | I57: ZNESEK SOFINANCIRANJA | K57: LASTNA UDELEŽBA
C58: =E52+E27 -> 0 | D58: =F52+F27 -> 0 | E58: =G52+G27 -> 0 | F58: =SUM(G6:G25,G31:G50) -> 0 | G58: =G26+G51 -> 0 | H58: =H27+H52 -> 0 | I58: =I27+I52 -> 0 | K58: =K27+K52 -> 0

Sheet Partner 4
B1: "Finančni načrt - INVESTICIJSKI PROJEKT" | J1: 1. JAVNI POZIV LAS ZELENA ISTRA (ESRR)
B4: NAZIV PARTNERJA 4:
B5: AKTIVNOSTI (1. FAZA) | C5: OBLIKA FINANCIRANJA (DEJANSKI STROŠKI/ PAVŠALNA STOPNJA) | D5: VRSTA STROŠKA | E5: SKUPNI STROŠKI Z DDV | F5: SKUPNI STROŠKI BREZ DDV | G5: SKUPNI UPRAVIČENI STROŠKI | H5: NEUPRAVIČENI STROŠKI | I5: ZNESEK SOFINANCIRANJA oz. POGODBENA VREDNOST | J5: ODSTOTEK SOFINANCIRANJA oz. POGODBENA STOPNJA | K5: LASTNA UDELEŽBA (EUR)
C6: IZBERI | D6: IZBERI | H6: =E6-G6 -> 0 | I6: =G6*0.8 -> 0 | J6: 80 | K6: =ROUND((E6-I6),2) -> 0
C7: IZBERI | D7: IZBERI | H7: =E7-G7 -> 0 | I7: =G7*0.8 -> 0 | J7: 80 | K7: =ROUND((E7-I7),2) -> 0
C8: IZBERI | D8: IZBERI | H8: =E8-G8 -> 0 | I8: =G8*0.8 -> 0 | J8: 80 | K8: =ROUND((E8-I8),2) -> 0
C9: IZBERI | D9: IZBERI | H9: =E9-G9 -> 0 | I9: =G9*0.8 -> 0 | J9: 80 | K9: =ROUND((E9-I9),2) -> 0
C10: IZBERI | D10: IZBERI | H10: =E10-G10 -> 0 | I10: =G10*0.8 -> 0 | J10: 80 | K10: =ROUND((E10-I10),2) -> 0
C11: IZBERI | D11: IZBERI | H11: =E11-G11 -> 0 | I11: =G11*0.8 -> 0 | J11: 80 | K11: =ROUND((E11-I11),2) -> 0
C12: IZBERI | D12: IZBERI | H12: =E12-G12 -> 0 | I12: =G12*0.8 -> 0 | J12: 80 | K12: =ROUND((E12-I12),2) -> 0
C13: IZBERI | D13: IZBERI | H13: =E13-G13 -> 0 | I13: =G13*0.8 -> 0 | J13: 80 | K13: =ROUND((E13-I13),2) -> 0
C14: IZBERI | D14: IZBERI | H14: =E14-G14 -> 0 | I14: =G14*0.8 -> 0 | J14: 80 | K14: =ROUND((E14-I14),2) -> 0
C15: IZBERI | D15: IZBERI | H15: =E15-G15 -> 0 | I15: =G15*0.8 -> 0 | J15: 80 | K15: =ROUND((E15-I15),2) -> 0
C16: IZBERI | D16: IZBERI | H16: =E16-G16 -> 0 | I16: =G16*0.8 -> 0 | J16: 80 | K16: =ROUND((E16-I16),2) -> 0
C17: IZBERI | D17: IZBERI | H17: =E17-G17 -> 0 | I17: =G17*0.8 -> 0 | J17: 80 | K17: =ROUND((E17-I17),2) -> 0
... C25: IZBERI | D25: IZBERI | H25: =E25-G25 -> 0 | I25: =G25*0.8 -> 0 | J25: 80 | K25: =ROUND((E25-I25),2) -> 0
C26: PAVŠALNA STOPNJA | D26: Stroški osebja | E26: =(G26) -> 0 | F26: =(G26) -> 0 | G26: =SUM(G6:G25)*0.2 -> 0 | H26: 0 | I26: =G26*0.8 -> 0 | J26: 80 | K26: =ROUND((E26-I26),2) -> 0
D27: SKUPAJ | E27: =SUM(E6:E26) -> 0 | F27: =SUM(F6:F25) -> 0 | G27: =SUM(G6:G26) -> 0 | H27: =SUM(H6:H26) -> 0 | I27: =SUM(I6:I26) -> 0 | K27: =ROUND((E27-I27),2) -> 0
B30: AKTIVNOSTI (2. FAZA) | C30: OBLIKA FINANCIRANJA (DEJANSKI STROŠKI/ PAVŠALNA STOPNJA) | D30: VRSTA STROŠKA | E30: SKUPNI STROŠKI Z DDV | F30: SKUPNI STROŠKI BREZ DDV | G30: SKUPNI UPRAVIČENI STROŠKI | H30: NEUPRAVIČENI STROŠKI | I30: ZNESEK SOFINANCIRANJA oz. POGODBENA VREDNOST | J30: ODSTOTEK SOFINANCIRANJA oz. POGODBENA STOPNJA | K30: LASTNA UDELEŽBA (EUR)
C31: IZBERI | D31: IZBERI | H31: =E31-G31 -> 0 | I31: =G31*0.8 -> 0 | J31: 80 | K31: =ROUND((E31-I31),2) -> 0
C32: IZBERI | D32: IZBERI | H32: =E32-G32 -> 0 | I32: =G32*0.8 -> 0 | J32: 80 | K32: =ROUND((E32-I32),2) -> 0
C33: IZBERI | D33: IZBERI | H33: =E33-G33 -> 0 | I33: =G33*0.8 -> 0 | J33: 80 | K33: =ROUND((E33-I33),2) -> 0
C34: IZBERI | D34: IZBERI | H34: =E34-G34 -> 0 | I34: =G34*0.8 -> 0 | J34: 80 | K34: =ROUND((E34-I34),2) -> 0
C35: IZBERI | D35: IZBERI | H35: =E35-G35 -> 0 | I35: =G35*0.8 -> 0 | J35: 80 | K35: =ROUND((E35-I35),2) -> 0
C36: IZBERI | D36: IZBERI | H36: =E36-G36 -> 0 | I36: =G36*0.8 -> 0 | J36: 80 | K36: =ROUND((E36-I36),2) -> 0
C37: IZBERI | D37: IZBERI | H37: =E37-G37 -> 0 | I37: =G37*0.8 -> 0 | J37: 80 | K37: =ROUND((E37-I37),2) -> 0
C38: IZBERI | D38: IZBERI | H38: =E38-G38 -> 0 | I38: =G38*0.8 -> 0 | J38: 80 | K38: =ROUND((E38-I38),2) -> 0
C39: IZBERI | D39: IZBERI | H39: =E39-G39 -> 0 | I39: =G39*0.8 -> 0 | J39: 80 | K39: =ROUND((E39-I39),2) -> 0
C40: IZBERI | D40: IZBERI | H40: =E40-G40 -> 0 | I40: =G40*0.8 -> 0 | J40: 80 | K40: =ROUND((E40-I40),2) -> 0
C41: IZBERI | D41: IZBERI | H41: =E41-G41 -> 0 | I41: =G41*0.8 -> 0 | J41: 80 | K41: =ROUND((E41-I41),2) -> 0
C42: IZBERI | D42: IZBERI | H42: =E42-G42 -> 0 | I42: =G42*0.8 -> 0 | J42: 80 | K42: =ROUND((E42-I42),2) -> 0
... C50: IZBERI | D50: IZBERI | H50: =E50-G50 -> 0 | I50: =G50*0.8 -> 0 | J50: 80 | K50: =ROUND((E50-I50),2) -> 0
C51: PAVŠALNA STOPNJA | D51: Stroški osebja | E51: =(G51) -> 0 | F51: =(G51) -> 0 | G51: =SUM(G31:G50)*0.2 -> 0 | H51: 0 | I51: =G51*0.8 -> 0 | J51: 80 | K51: =ROUND((E51-I51),2) -> 0
D52: SKUPAJ | E52: =SUM(E31:E51) -> 0 | F52: =SUM(F31:F50) -> 0 | G52: =SUM(G31:G51) -> 0 | H52: =SUM(H31:H51) -> 0 | I52: =SUM(I31:I51) -> 0 | K52: =ROUND((E52-I52),2) -> 0
C56: VREDNOST PROJEKTA - PARTNER 4
C57: SKUPNI STROŠKI Z DDV | D57: SKUPNI STROŠKI BREZ DDV | E57: SKUPNI UPRAVIČENI STROŠKI | F57: SKUPNI UPRAVIČENI DEJANSKI STROŠKI | G57: SKUPNI UPRAVIČENI STROŠKI OSEBJA (PAVŠAL) | H57: NEUPRAVIČENI STROŠKI | I57: ZNESEK SOFINANCIRANJA | K57: LASTNA UDELEŽBA
C58: =E52+E27 -> 0 | D58: =F52+F27 -> 0 | E58: =G52+G27 -> 0 | F58: =SUM(G6:G25,G31:G50) -> 0 | G58: =G26+G51 -> 0 | H58: =H27+H52 -> 0 | I58: =I27+I52 -> 0 | K58: =K27+K52 -> 0

Sheet Partner 5
B1: "Finančni načrt - INVESTICIJSKI PROJEKT" | J1: 1. JAVNI POZIV LAS ZELENA ISTRA (ESRR)
B4: NAZIV PARTNERJA 5:
B5: AKTIVNOSTI (1. FAZA) | C5: OBLIKA FINANCIRANJA (DEJANSKI STROŠKI/ PAVŠALNA STOPNJA) | D5: VRSTA STROŠKA | E5: SKUPNI STROŠKI Z DDV | F5: SKUPNI STROŠKI BREZ DDV | G5: SKUPNI UPRAVIČENI STROŠKI | H5: NEUPRAVIČENI STROŠKI | I5: ZNESEK SOFINANCIRANJA oz. POGODBENA VREDNOST | J5: ODSTOTEK SOFINANCIRANJA oz. POGODBENA STOPNJA | K5: LASTNA UDELEŽBA (EUR)
C6: IZBERI | D6: IZBERI | H6: =E6-G6 -> 0 | I6: =G6*0.8 -> 0 | J6: 80 | K6: =ROUND((E6-I6),2) -> 0
C7: IZBERI | D7: IZBERI | H7: =E7-G7 -> 0 | I7: =G7*0.8 -> 0 | J7: 80 | K7: =ROUND((E7-I7),2) -> 0
C8: IZBERI | D8: IZBERI | H8: =E8-G8 -> 0 | I8: =G8*0.8 -> 0 | J8: 80 | K8: =ROUND((E8-I8),2) -> 0
C9: IZBERI | D9: IZBERI | H9: =E9-G9 -> 0 | I9: =G9*0.8 -> 0 | J9: 80 | K9: =ROUND((E9-I9),2) -> 0
C10: IZBERI | D10: IZBERI | H10: =E10-G10 -> 0 | I10: =G10*0.8 -> 0 | J10: 80 | K10: =ROUND((E10-I10),2) -> 0
C11: IZBERI | D11: IZBERI | H11: =E11-G11 -> 0 | I11: =G11*0.8 -> 0 | J11: 80 | K11: =ROUND((E11-I11),2) -> 0
C12: IZBERI | D12: IZBERI | H12: =E12-G12 -> 0 | I12: =G12*0.8 -> 0 | J12: 80 | K12: =ROUND((E12-I12),2) -> 0
C13: IZBERI | D13: IZBERI | H13: =E13-G13 -> 0 | I13: =G13*0.8 -> 0 | J13: 80 | K13: =ROUND((E13-I13),2) -> 0
C14: IZBERI | D14: IZBERI | H14: =E14-G14 -> 0 | I14: =G14*0.8 -> 0 | J14: 80 | K14: =ROUND((E14-I14),2) -> 0
C15: IZBERI | D15: IZBERI | H15: =E15-G15 -> 0 | I15: =G15*0.8 -> 0 | J15: 80 | K15: =ROUND((E15-I15),2) -> 0
C16: IZBERI | D16: IZBERI | H16: =E16-G16 -> 0 | I16: =G16*0.8 -> 0 | J16: 80 | K16: =ROUND((E16-I16),2) -> 0
C17: IZBERI | D17: IZBERI | H17: =E17-G17 -> 0 | I17: =G17*0.8 -> 0 | J17: 80 | K17: =ROUND((E17-I17),2) -> 0
... C25: IZBERI | D25: IZBERI | H25: =E25-G25 -> 0 | I25: =G25*0.8 -> 0 | J25: 80 | K25: =ROUND((E25-I25),2) -> 0
C26: PAVŠALNA STOPNJA | D26: Stroški osebja | E26: =(G26) -> 0 | F26: =(G26) -> 0 | G26: =SUM(G6:G25)*0.2 -> 0 | H26: 0 | I26: =G26*0.8 -> 0 | J26: 80 | K26: =ROUND((E26-I26),2) -> 0
D27: SKUPAJ | E27: =SUM(E6:E26) -> 0 | F27: =SUM(F6:F25) -> 0 | G27: =SUM(G6:G26) -> 0 | H27: =SUM(H6:H26) -> 0 | I27: =SUM(I6:I26) -> 0 | K27: =ROUND((E27-I27),2) -> 0
B30: AKTIVNOSTI (2. FAZA) | C30: OBLIKA FINANCIRANJA (DEJANSKI STROŠKI/ PAVŠALNA STOPNJA) | D30: VRSTA STROŠKA | E30: SKUPNI STROŠKI Z DDV | F30: SKUPNI STROŠKI BREZ DDV | G30: SKUPNI UPRAVIČENI STROŠKI | H30: NEUPRAVIČENI STROŠKI | I30: ZNESEK SOFINANCIRANJA oz. POGODBENA VREDNOST | J30: ODSTOTEK SOFINANCIRANJA oz. POGODBENA STOPNJA | K30: LASTNA UDELEŽBA (EUR)
C31: IZBERI | D31: IZBERI | H31: =E31-G31 -> 0 | I31: =G31*0.8 -> 0 | J31: 80 | K31: =ROUND((E31-I31),2) -> 0
C32: IZBERI | D32: IZBERI | H32: =E32-G32 -> 0 | I32: =G32*0.8 -> 0 | J32: 80 | K32: =ROUND((E32-I32),2) -> 0
C33: IZBERI | D33: IZBERI | H33: =E33-G33 -> 0 | I33: =G33*0.8 -> 0 | J33: 80 | K33: =ROUND((E33-I33),2) -> 0
C34: IZBERI | D34: IZBERI | H34: =E34-G34 -> 0 | I34: =G34*0.8 -> 0 | J34: 80 | K34: =ROUND((E34-I34),2) -> 0
C35: IZBERI | D35: IZBERI | H35: =E35-G35 -> 0 | I35: =G35*0.8 -> 0 | J35: 80 | K35: =ROUND((E35-I35),2) -> 0
C36: IZBERI | D36: IZBERI | H36: =E36-G36 -> 0 | I36: =G36*0.8 -> 0 | J36: 80 | K36: =ROUND((E36-I36),2) -> 0
C37: IZBERI | D37: IZBERI | H37: =E37-G37 -> 0 | I37: =G37*0.8 -> 0 | J37: 80 | K37: =ROUND((E37-I37),2) -> 0
C38: IZBERI | D38: IZBERI | H38: =E38-G38 -> 0 | I38: =G38*0.8 -> 0 | J38: 80 | K38: =ROUND((E38-I38),2) -> 0
C39: IZBERI | D39: IZBERI | H39: =E39-G39 -> 0 | I39: =G39*0.8 -> 0 | J39: 80 | K39: =ROUND((E39-I39),2) -> 0
C40: IZBERI | D40: IZBERI | H40: =E40-G40 -> 0 | I40: =G40*0.8 -> 0 | J40: 80 | K40: =ROUND((E40-I40),2) -> 0
C41: IZBERI | D41: IZBERI | H41: =E41-G41 -> 0 | I41: =G41*0.8 -> 0 | J41: 80 | K41: =ROUND((E41-I41),2) -> 0
C42: IZBERI | D42: IZBERI | H42: =E42-G42 -> 0 | I42: =G42*0.8 -> 0 | J42: 80 | K42: =ROUND((E42-I42),2) -> 0
... C50: IZBERI | D50: IZBERI | H50: =E50-G50 -> 0 | I50: =G50*0.8 -> 0 | J50: 80 | K50: =ROUND((E50-I50),2) -> 0
C51: PAVŠALNA STOPNJA | D51: Stroški osebja | E51: =(G51) -> 0 | F51: =(G51) -> 0 | G51: =SUM(G31:G50)*0.2 -> 0 | H51: 0 | I51: =G51*0.8 -> 0 | J51: 80 | K51: =ROUND((E51-I51),2) -> 0
D52: SKUPAJ | E52: =SUM(E31:E51) -> 0 | F52: =SUM(F31:F50) -> 0 | G52: =SUM(G31:G51) -> 0 | H52: =SUM(H31:H51) -> 0 | I52: =SUM(I31:I51) -> 0 | K52: =ROUND((E52-I52),2) -> 0
C56: VREDNOST PROJEKTA - PARTNER 5
C57: SKUPNI STROŠKI Z DDV | D57: SKUPNI STROŠKI BREZ DDV | E57: SKUPNI UPRAVIČENI STROŠKI | F57: SKUPNI UPRAVIČENI DEJANSKI STROŠKI | G57: SKUPNI UPRAVIČENI STROŠKI OSEBJA (PAVŠAL) | H57: NEUPRAVIČENI STROŠKI | I57: ZNESEK SOFINANCIRANJA | K57: LASTNA UDELEŽBA
C58: =E52+E27 -> 0 | D58: =F52+F27 -> 0 | E58: =G52+G27 -> 0 | F58: =SUM(G6:G25,G31:G50) -> 0 | G58: =G26+G51 -> 0 | H58: =H27+H52 -> 0 | I58: =I27+I52 -> 0 | K58: =K27+K52 -> 0

Sheet List1
